PDS_VERSION_ID = PDS3
/* FILE DATA ELEMENTS */
RECORD_TYPE = STREAM
/* POINTERS TO DATA OBJECTS */
^COMPRESSED_FILE = "H3183_0000_GR3.JP2"
/* IDENTIFICATION DATA ELEMENTS */
DATA_SET_ID = "MEX-M-HRSC-5-REFDR-MAPPROJECTED-V3.0"
DATA_SET_NAME = "MARS EXPRESS HRSC MAP PROJECTED REFDR V3.0"
DETECTOR_ID = MEX_HRSC_GREEN
EVENT_TYPE = "MARS-REGIONAL-MAPPING-Im"
INSTRUMENT_HOST_ID = MEX
INSTRUMENT_HOST_NAME = "MARS EXPRESS"
INSTRUMENT_ID = HRSC
INSTRUMENT_NAME = "HIGH RESOLUTION STEREO CAMERA"
MISSION_NAME = "MARS EXPRESS"
MISSION_PHASE_NAME = ME_Phase_3
PROCESSING_LEVEL_ID = 3
PRODUCT_CREATION_TIME = 2016-04-09T01:52:00.000Z
PRODUCT_ID = "H3183_0000_GR3.JP2"
RELEASE_ID = 0039
REVISION_ID = 0000
/* QUALITY DATA ELEMENTS */
DATA_QUALITY_ID = 2
DATA_QUALITY_DESC = "Data calculated based on photogrammetrically improved orbit and attitude data"
/* TIME DATA ELEMENTS */
SPACECRAFT_CLOCK_START_COUNT = "1/0099959456.08262"
SPACECRAFT_CLOCK_STOP_COUNT = "1/0099959688.65125"
START_TIME = 2006-07-02T22:31:54.146Z
STOP_TIME = 2006-07-02T22:34:04.053Z
/* ORBITAL DATA ELEMENTS */
ASCENDING_NODE_LONGITUDE = 161.43
MAXIMUM_RESOLUTION = 148
FOOTPRINT_POINT_LATITUDE = (54.198,54.1909,54.1818,54.1668,54.1531 ,54.1375,54.1267,53.935,53.7699,53.5229 ,53.3605,53.1979,53.035,52.8732,52.7131 ,52.5527,52.3926,52.2329,52.0754, 51.9174,51.7591,51.6006,51.4445,51.2883 ,51.1325,50.9769,50.8237,50.6712, 50.5173,50.3629,50.1325,49.9818,49.8307 ,49.6804,49.5289,49.3799,49.2316, 49.0823,48.9332,48.7848,48.6384,48.4942 ,48.3484,48.2024,48.0559,47.9109, 47.6236,47.3359,47.1207,46.839,46.4904, 46.4991,46.505,46.5126,46.5176,46.5215, 46.5254,46.6026,46.8863,47.1695,47.3858 ,47.6747,47.9634,48.1832,48.3303,48.477 ,48.6969,48.8438,48.9929,49.2165, 49.3657,49.5147,49.6663,49.8186,49.9711 ,50.1226,50.2743,50.5057,50.66,50.8143, 50.9683,51.2036,51.3603,51.5175,51.6741 ,51.9123,52.0712,52.23,52.4702,52.6318, 52.7932,52.9543,53.1175,53.2815,53.4453 ,53.6089,53.7747,53.9409,54.1069, 54.198)
FOOTPRINT_POINT_LONGITUDE = (30.6987,30.2062,29.7162,29.0765, 28.5922,28.1099,27.8091,27.6187,27.645, 27.6838,27.7091,27.734,27.7586,27.7828, 27.8065,27.8299,27.8535,27.8761,27.8986 ,27.9206,27.9421,27.9625,27.9826, 28.0025,28.023,28.0437,28.064,28.0841, 28.1027,28.1208,28.1467,28.1649,28.1827 ,28.2013,28.2187,28.2358,28.2528, 28.2687,28.2849,28.3017,28.3178,28.3353 ,28.3511,28.3666,28.3818,28.397,28.4258 ,28.4541,28.475,28.5021,28.5349,28.8775 ,29.1382,29.5089,29.7708,30.0581, 30.3903,30.8734,30.8759,30.8782,30.8797 ,30.8822,30.8828,30.8837,30.8844, 30.8866,30.8894,30.8931,30.8973,30.902, 30.9035,30.905,30.9058,30.9059,30.9036, 30.9058,30.9063,30.9089,30.9105,30.9111 ,30.9126,30.9121,30.9134,30.9115, 30.9118,30.9151,30.9174,30.9195,30.9214 ,30.9231,30.9247,30.9264,30.9277,30.929 ,30.9305,30.9318,30.9331,30.9349, 30.9369,30.6987)
ORBIT_NUMBER = 3183
ORBITAL_ECCENTRICITY = 0.57
ORBITAL_INCLINATION = 86.67
ORBITAL_SEMIMAJOR_AXIS = 8615.61
PERIAPSIS_ALTITUDE = 314.72
PERIAPSIS_ARGUMENT_ANGLE = 158.59
PERIAPSIS_TIME = 2006-07-02T22:40:43.000Z
SPACECRAFT_ORIENTATION = (0.0,-1.0,0.0)
^MEX_ORIENTATION_DESC = "MEX_ORIENTATION_DESC.TXT"
SPACECRAFT_POINTING_MODE = ACROSSTRACK
^MEX_POINTING_DESC = "MEX_POINTING_DESC.TXT"
RIGHT_ASCENSION = -1e+32
DECLINATION = -1e+32
OFFSET_ANGLE = 0.5
SPACECRAFT_SOLAR_DISTANCE = 2.49199e+08
TARGET_NAME = MARS
/* CAMERA DATA ELEMENTS */
DETECTOR_TEMPERATURE = 18.3705
FOCAL_PLANE_TEMPERATURE = 8.3794
INST_CMPRS_NAME = "DISCRETE COSINE TRANSFORMATION (DCT)"
INST_CMPRS_RATIO = 18.053
INST_CMPRS_QUALITY = 0
INST_CMPRS_QUANTZ_TBL_ID = 0
INSTRUMENT_TEMPERATURE = 11.234
LENS_TEMPERATURE = 8.7872
MACROPIXEL_SIZE = 8
MISSING_FRAMES = 0
PIXEL_SUBSAMPLING_FLAG = N
SIGNAL_CHAIN_ID = 2
/* RADIOMETRIC DATA ELEMENTS */
BANDWIDTH = 88.0
CENTER_FILTER_WAVELENGTH = 538.0
RADIANCE_OFFSET = 1.07041
RADIANCE_SCALING_FACTOR = 0.00614659
REFLECTANCE_SCALING_FACTOR = 0.000328637
MEX:REFLECTANCE_OFFSET = 0.0572309
/* IMAGE OBJECT DEFINITIONS */
OBJECT = IMAGE
  INTERCHANGE_FORMAT = BINARY
  LINES = 4571
  LINE_SAMPLES = 1203
  SAMPLE_TYPE = UNSIGNED_INTEGER
  SAMPLE_BITS = 8
  BANDS = 1
  BAND_STORAGE_TYPE = BAND_SEQUENTIAL
  MAXIMUM = 255
  MEAN = 128.561
  MINIMUM = 3
  STANDARD_DEVIATION = 33.0628
END_OBJECT = IMAGE
/* MAP OBJECT DEFINITIONS */
OBJECT = IMAGE_MAP_PROJECTION
  ^DATA_SET_MAP_PROJECTION_CATALOG= "DSMAP.CAT"
  A_AXIS_RADIUS = 3396.0
  B_AXIS_RADIUS = 3396.0
  C_AXIS_RADIUS = 3396.0
  CENTER_LATITUDE = 0.0
  CENTER_LONGITUDE = 30.0
  COORDINATE_SYSTEM_NAME = PLANETOGRAPHIC
  COORDINATE_SYSTEM_TYPE = "BODY-FIXED ROTATING"
  EASTERNMOST_LONGITUDE = 30.9369
  FIRST_STANDARD_PARALLEL = "N/A"
  LINE_FIRST_PIXEL = 1
  LINE_LAST_PIXEL = 4571
  LINE_PROJECTION_OFFSET = 32126.4375
  MAP_PROJECTION_ROTATION = 0.0
  MAP_PROJECTION_TYPE = SINUSOIDAL
  MAP_RESOLUTION = 592.713803866667
  MAP_SCALE = 0.1
  MAXIMUM_LATITUDE = 54.198
  MINIMUM_LATITUDE = 46.4904
  POSITIVE_LONGITUDE_DIRECTION = EAST
  REFERENCE_LATITUDE = "N/A"
  REFERENCE_LONGITUDE = "N/A"
  SAMPLE_FIRST_PIXEL = 1
  SAMPLE_LAST_PIXEL = 1203
  SAMPLE_PROJECTION_OFFSET = 839.5625
  SECOND_STANDARD_PARALLEL = "N/A"
  WESTERNMOST_LONGITUDE = 27.6187
END_OBJECT = IMAGE_MAP_PROJECTION
/* The JPEG2000 image data file associated with this label. */
OBJECT = COMPRESSED_FILE
  FILE_NAME = "H3183_0000_GR3.JP2"
  RECORD_TYPE = UNDEFINED
  FILE_RECORDS = UNK
  ENCODING_TYPE = "JP2"
  INTERCHANGE_FORMAT = BINARY
  UNCOMPRESSED_FILE_NAME = "H3183_0000_GR3.IMG"
  REQUIRED_STORAGE_BYTES = "5516958"
  ^DESCRIPTION = "JP2INFO.TXT"
END_OBJECT = COMPRESSED_FILE
END
