PDS_VERSION_ID = PDS3
/* FILE DATA ELEMENTS */
RECORD_TYPE = STREAM
/* POINTERS TO DATA OBJECTS */
^COMPRESSED_FILE = "H3185_0000_ND3.JP2"
/* IDENTIFICATION DATA ELEMENTS */
DATA_SET_ID = "MEX-M-HRSC-5-REFDR-MAPPROJECTED-V3.0"
DATA_SET_NAME = "MARS EXPRESS HRSC MAP PROJECTED REFDR V3.0"
DETECTOR_ID = MEX_HRSC_NADIR
EVENT_TYPE = "MARS-REGIONAL-MAPPING-Vo-La"
INSTRUMENT_HOST_ID = MEX
INSTRUMENT_HOST_NAME = "MARS EXPRESS"
INSTRUMENT_ID = HRSC
INSTRUMENT_NAME = "HIGH RESOLUTION STEREO CAMERA"
MISSION_NAME = "MARS EXPRESS"
MISSION_PHASE_NAME = ME_Phase_3
PROCESSING_LEVEL_ID = 3
PRODUCT_CREATION_TIME = 2016-04-09T01:52:00.000Z
PRODUCT_ID = "H3185_0000_ND3.JP2"
RELEASE_ID = 0039
REVISION_ID = 0000
/* QUALITY DATA ELEMENTS */
DATA_QUALITY_ID = 2
DATA_QUALITY_DESC = "Data calculated based on photogrammetrically improved orbit and attitude data"
/* TIME DATA ELEMENTS */
SPACECRAFT_CLOCK_START_COUNT = "1/0100008658.09061"
SPACECRAFT_CLOCK_STOP_COUNT = "1/0100009013.21607"
START_TIME = 2006-07-03T12:11:36.497Z
STOP_TIME = 2006-07-03T12:15:54.495Z
/* ORBITAL DATA ELEMENTS */
ASCENDING_NODE_LONGITUDE = 161.38
MAXIMUM_RESOLUTION = 15.3
FOOTPRINT_POINT_LATITUDE = (4.09293,4.09517,3.95361,3.66579, 3.37829,3.09115,2.80434,2.51789,2.23178 ,1.94604,1.66065,1.37565,1.091,0.806749 ,0.522868,0.239365,-0.19492,-0.485065, -0.774772,-1.217,-1.51322,-1.809, -2.26058,-2.56271,-2.86437,-3.17302, -3.48113,-3.94607,-4.26029,-4.57397, -5.05249,-5.37211,-5.85857,-6.18398, -6.67904,-7.01015,-7.5144,-7.85101, -8.19415,-8.53648,-8.8845,-9.23229, -9.58542,-9.93898,-10.2978,-10.8397, -11.2043,-11.573,-11.6061,-11.6098, -11.6118,-11.6141,-11.6153,-11.246, -10.8814,-10.5185,-10.1592,-9.62601, -9.2723,-8.92428,-8.57571,-8.23327, -7.72129,-7.38424,-7.04795,-6.71677, -6.22102,-5.89549,-5.40831,-5.08858, -4.60937,-4.2956,-3.98127,-3.66952, -3.36157,-3.05307,-2.74724,-2.44525, -2.14275,-1.84171,-1.54583,-1.24949, -0.80652,-0.516684,-0.22643,0.208622, 0.492238,0.776234,1.06061,1.34539, 1.63052,1.91602,2.2019,2.48813,2.77472, 3.06165,3.34894,3.63656,4.06862, 4.09293)
FOOTPRINT_POINT_LONGITUDE = (193.481,193.089,192.649,192.644, 192.638,192.632,192.627,192.621,192.615 ,192.609,192.603,192.597,192.591, 192.585,192.578,192.572,192.562,192.555 ,192.548,192.537,192.529,192.522,192.51 ,192.502,192.494,192.486,192.477, 192.465,192.456,192.447,192.433,192.424 ,192.409,192.399,192.384,192.374, 192.358,192.347,192.336,192.324,192.313 ,192.299,192.287,192.275,192.261, 192.242,192.229,192.215,192.754,193.2, 193.472,193.863,194.186,194.178,194.172 ,194.165,194.158,194.146,194.139, 194.133,194.126,194.121,194.113,194.108 ,194.102,194.098,194.091,194.087, 194.081,194.077,194.071,194.067,194.063 ,194.06,194.056,194.053,194.049,194.046 ,194.043,194.04,194.037,194.034,194.029 ,194.027,194.024,194.021,194.018, 194.015,194.013,194.011,194.009,194.006 ,194.005,194.003,194.001,193.999, 193.998,193.996,193.993,193.481)
ORBIT_NUMBER = 3185
ORBITAL_ECCENTRICITY = 0.569
ORBITAL_INCLINATION = 86.68
ORBITAL_SEMIMAJOR_AXIS = 8607.23
PERIAPSIS_ALTITUDE = 315.08
PERIAPSIS_ARGUMENT_ANGLE = 158.21
PERIAPSIS_TIME = 2006-07-03T12:07:04.000Z
SPACECRAFT_ORIENTATION = (0.0,-1.0,0.0)
^MEX_ORIENTATION_DESC = "MEX_ORIENTATION_DESC.TXT"
SPACECRAFT_POINTING_MODE = ACROSSTRACK
^MEX_POINTING_DESC = "MEX_POINTING_DESC.TXT"
RIGHT_ASCENSION = -1e+32
DECLINATION = -1e+32
OFFSET_ANGLE = 0.34
SPACECRAFT_SOLAR_DISTANCE = 2.49193e+08
TARGET_NAME = MARS
/* CAMERA DATA ELEMENTS */
DETECTOR_TEMPERATURE = 18.3705
FOCAL_PLANE_TEMPERATURE = 7.9716
INST_CMPRS_NAME = "DISCRETE COSINE TRANSFORMATION (DCT)"
INST_CMPRS_RATIO = 6.11805
INST_CMPRS_QUALITY = 0
INST_CMPRS_QUANTZ_TBL_ID = 0
INSTRUMENT_TEMPERATURE = 11.0301
LENS_TEMPERATURE = 8.3794
MACROPIXEL_SIZE = 1
MISSING_FRAMES = 0
PIXEL_SUBSAMPLING_FLAG = N
SIGNAL_CHAIN_ID = 0
/* RADIOMETRIC DATA ELEMENTS */
BANDWIDTH = 177.0
CENTER_FILTER_WAVELENGTH = 677.5
RADIANCE_OFFSET = 2.64003
RADIANCE_SCALING_FACTOR = 0.0230068
REFLECTANCE_SCALING_FACTOR = 0.000758949
MEX:REFLECTANCE_OFFSET = 0.0870894
/* IMAGE OBJECT DEFINITIONS */
OBJECT = IMAGE
  INTERCHANGE_FORMAT = BINARY
  LINES = 74505
  LINE_SAMPLES = 9506
  SAMPLE_TYPE = UNSIGNED_INTEGER
  SAMPLE_BITS = 8
  BANDS = 1
  BAND_STORAGE_TYPE = BAND_SEQUENTIAL
  MAXIMUM = 255
  MEAN = 153.788
  MINIMUM = 1
  STANDARD_DEVIATION = 23.4086
END_OBJECT = IMAGE
/* MAP OBJECT DEFINITIONS */
OBJECT = IMAGE_MAP_PROJECTION
  ^DATA_SET_MAP_PROJECTION_CATALOG= "DSMAP.CAT"
  A_AXIS_RADIUS = 3396.0
  B_AXIS_RADIUS = 3396.0
  C_AXIS_RADIUS = 3396.0
  CENTER_LATITUDE = 0.0
  CENTER_LONGITUDE = 193.0
  COORDINATE_SYSTEM_NAME = PLANETOGRAPHIC
  COORDINATE_SYSTEM_TYPE = "BODY-FIXED ROTATING"
  EASTERNMOST_LONGITUDE = 194.186
  FIRST_STANDARD_PARALLEL = "N/A"
  LINE_FIRST_PIXEL = 1
  LINE_LAST_PIXEL = 74505
  LINE_PROJECTION_OFFSET = 19432.0
  MAP_PROJECTION_ROTATION = 0.0
  MAP_PROJECTION_TYPE = SINUSOIDAL
  MAP_RESOLUTION = 4741.71043093333
  MAP_SCALE = 0.0125
  MAXIMUM_LATITUDE = 4.09517
  MINIMUM_LATITUDE = -11.6153
  POSITIVE_LONGITUDE_DIRECTION = EAST
  REFERENCE_LATITUDE = "N/A"
  REFERENCE_LONGITUDE = "N/A"
  SAMPLE_FIRST_PIXEL = 1
  SAMPLE_LAST_PIXEL = 9506
  SAMPLE_PROJECTION_OFFSET = 3760.0
  SECOND_STANDARD_PARALLEL = "N/A"
  WESTERNMOST_LONGITUDE = 192.215
END_OBJECT = IMAGE_MAP_PROJECTION
/* The JPEG2000 image data file associated with this label. */
OBJECT = COMPRESSED_FILE
  FILE_NAME = "H3185_0000_ND3.JP2"
  RECORD_TYPE = UNDEFINED
  FILE_RECORDS = UNK
  ENCODING_TYPE = "JP2"
  INTERCHANGE_FORMAT = BINARY
  UNCOMPRESSED_FILE_NAME = "H3185_0000_ND3.IMG"
  REQUIRED_STORAGE_BYTES = "708273048"
  ^DESCRIPTION = "JP2INFO.TXT"
END_OBJECT = COMPRESSED_FILE
END
