PDS_VERSION_ID = PDS3
/* FILE DATA ELEMENTS */
RECORD_TYPE = STREAM
/* POINTERS TO DATA OBJECTS */
^COMPRESSED_FILE = "H3194_0000_S13.JP2"
/* IDENTIFICATION DATA ELEMENTS */
DATA_SET_ID = "MEX-M-HRSC-5-REFDR-MAPPROJECTED-V3.0"
DATA_SET_NAME = "MARS EXPRESS HRSC MAP PROJECTED REFDR V3.0"
DETECTOR_ID = MEX_HRSC_S1
EVENT_TYPE = "MARS-REGIONAL-MAPPING-Im-Fl"
INSTRUMENT_HOST_ID = MEX
INSTRUMENT_HOST_NAME = "MARS EXPRESS"
INSTRUMENT_ID = HRSC
INSTRUMENT_NAME = "HIGH RESOLUTION STEREO CAMERA"
MISSION_NAME = "MARS EXPRESS"
MISSION_PHASE_NAME = ME_Phase_3
PROCESSING_LEVEL_ID = 3
PRODUCT_CREATION_TIME = 2016-04-09T01:52:00.000Z
PRODUCT_ID = "H3194_0000_S13.JP2"
RELEASE_ID = 0039
REVISION_ID = 0000
/* QUALITY DATA ELEMENTS */
DATA_QUALITY_ID = 2
DATA_QUALITY_DESC = "Data calculated based on photogrammetrically improved orbit and attitude data"
/* TIME DATA ELEMENTS */
SPACECRAFT_CLOCK_START_COUNT = "1/0100226394.09061"
SPACECRAFT_CLOCK_STOP_COUNT = "1/0100226584.18230"
START_TIME = 2006-07-06T00:39:59.398Z
STOP_TIME = 2006-07-06T00:41:39.232Z
/* ORBITAL DATA ELEMENTS */
ASCENDING_NODE_LONGITUDE = 161.2
MAXIMUM_RESOLUTION = 32
FOOTPRINT_POINT_LATITUDE = (3.69844,3.69775,3.69684,3.69552, 3.69397,3.69209,3.69123,3.49428,3.363, 3.23195,3.10129,2.97187,2.84008,2.70912 ,2.57681,2.37982,2.24862,2.11943, 1.92631,1.73036,1.5355,1.40532,1.27429, 1.01419,0.817575,0.686689,0.556013, 0.425025,0.294286,0.164218,0.033936, -0.0969072,-0.227483,-0.422358, -0.552404,-0.681744,-0.876981,-1.00699, -1.13731,-1.39646,-1.52656,-1.65644, -1.78635,-1.91619,-2.04602,-2.30463, -2.43451,-2.56414,-2.69351,-2.86364, -2.86275,-2.86206,-2.86151,-2.8608, -2.86046,-2.86336,-2.8623,-2.79444, -2.66516,-2.5356,-2.40627,-2.21228, -2.01693,-1.88671,-1.75664,-1.62683, -1.49676,-1.36636,-1.17103,-0.976385, -0.782121,-0.652119,-0.458933,-0.328981 ,-0.198784,-0.0683849,0.0620885, 0.193167,0.32559,0.456694,0.587169, 0.717163,0.847821,0.97868,1.17535, 1.30659,1.43742,1.63306,1.8297,1.96167, 2.21922,2.35055,2.4808,2.61261,2.80901, 3.00463,3.13547,3.33097,3.46193, 3.69844)
FOOTPRINT_POINT_LONGITUDE = (28.9295,28.7256,28.5213,28.3035, 28.0983,27.8924,27.6566,27.653,27.6506, 27.6483,27.6461,27.6443,27.6416,27.6391 ,27.6361,27.6321,27.6295,27.6276,27.625 ,27.6212,27.6177,27.6152,27.6124, 27.6074,27.6029,27.6,27.5971,27.5941, 27.5911,27.5884,27.5855,27.5824,27.5793 ,27.575,27.5721,27.5694,27.5648,27.5618 ,27.5586,27.5527,27.5494,27.5462,27.543 ,27.5398,27.5365,27.5303,27.5269, 27.5236,27.5203,27.5158,27.6478,27.824, 27.9559,28.1752,28.365,28.6422,28.8896, 29.0245,29.0234,29.0224,29.0213,29.0198 ,29.0181,29.0169,29.0158,29.0148, 29.0137,29.0126,29.0111,29.0097,29.0084 ,29.0074,29.0065,29.0056,29.0047, 29.0037,29.0028,29.0017,29.0004,28.9993 ,28.9984,28.9977,28.9968,28.9959, 28.9944,28.9935,28.9926,28.9914,28.9901 ,28.9891,28.9883,28.9875,28.9868, 28.9859,28.9847,28.9838,28.9831,28.9822 ,28.9815,28.9295)
ORBIT_NUMBER = 3194
ORBITAL_ECCENTRICITY = 0.569
ORBITAL_INCLINATION = 86.67
ORBITAL_SEMIMAJOR_AXIS = 8613.09
PERIAPSIS_ALTITUDE = 316.05
PERIAPSIS_ARGUMENT_ANGLE = 156.64
PERIAPSIS_TIME = 2006-07-06T00:35:30.000Z
SPACECRAFT_ORIENTATION = (0.0,-1.0,0.0)
^MEX_ORIENTATION_DESC = "MEX_ORIENTATION_DESC.TXT"
SPACECRAFT_POINTING_MODE = ACROSSTRACK
^MEX_POINTING_DESC = "MEX_POINTING_DESC.TXT"
RIGHT_ASCENSION = -1e+32
DECLINATION = -1e+32
OFFSET_ANGLE = -0.2
SPACECRAFT_SOLAR_DISTANCE = 2.4916e+08
TARGET_NAME = MARS
/* CAMERA DATA ELEMENTS */
DETECTOR_TEMPERATURE = 17.351
FOCAL_PLANE_TEMPERATURE = 8.1755
INST_CMPRS_NAME = "DISCRETE COSINE TRANSFORMATION (DCT)"
INST_CMPRS_RATIO = 9.5969
INST_CMPRS_QUALITY = 0
INST_CMPRS_QUANTZ_TBL_ID = 0
INSTRUMENT_TEMPERATURE = 11.0301
LENS_TEMPERATURE = 8.7872
MACROPIXEL_SIZE = 2
MISSING_FRAMES = 0
PIXEL_SUBSAMPLING_FLAG = N
SIGNAL_CHAIN_ID = 1
/* RADIOMETRIC DATA ELEMENTS */
BANDWIDTH = 180.0
CENTER_FILTER_WAVELENGTH = 677.0
RADIANCE_OFFSET = 4.33627
RADIANCE_SCALING_FACTOR = 0.0243302
REFLECTANCE_SCALING_FACTOR = 0.000788035
MEX:REFLECTANCE_OFFSET = 0.140448
/* IMAGE OBJECT DEFINITIONS */
OBJECT = IMAGE
  INTERCHANGE_FORMAT = BINARY
  LINES = 15576
  LINE_SAMPLES = 3954
  SAMPLE_TYPE = UNSIGNED_INTEGER
  SAMPLE_BITS = 8
  BANDS = 1
  BAND_STORAGE_TYPE = BAND_SEQUENTIAL
  MAXIMUM = 255
  MEAN = 110.656
  MINIMUM = 1
  STANDARD_DEVIATION = 28.6053
END_OBJECT = IMAGE
/* MAP OBJECT DEFINITIONS */
OBJECT = IMAGE_MAP_PROJECTION
  ^DATA_SET_MAP_PROJECTION_CATALOG= "DSMAP.CAT"
  A_AXIS_RADIUS = 3396.0
  B_AXIS_RADIUS = 3396.0
  C_AXIS_RADIUS = 3396.0
  CENTER_LATITUDE = 0.0
  CENTER_LONGITUDE = 28.0
  COORDINATE_SYSTEM_NAME = PLANETOGRAPHIC
  COORDINATE_SYSTEM_TYPE = "BODY-FIXED ROTATING"
  EASTERNMOST_LONGITUDE = 29.0245
  FIRST_STANDARD_PARALLEL = "N/A"
  LINE_FIRST_PIXEL = 1
  LINE_LAST_PIXEL = 15576
  LINE_PROJECTION_OFFSET = 8784.75
  MAP_PROJECTION_ROTATION = 0.0
  MAP_PROJECTION_TYPE = SINUSOIDAL
  MAP_RESOLUTION = 2370.85521546667
  MAP_SCALE = 0.025
  MAXIMUM_LATITUDE = 3.69844
  MINIMUM_LATITUDE = -2.86364
  POSITIVE_LONGITUDE_DIRECTION = EAST
  REFERENCE_LATITUDE = "N/A"
  REFERENCE_LONGITUDE = "N/A"
  SAMPLE_FIRST_PIXEL = 1
  SAMPLE_LAST_PIXEL = 3954
  SAMPLE_PROJECTION_OFFSET = 1346.75
  SECOND_STANDARD_PARALLEL = "N/A"
  WESTERNMOST_LONGITUDE = 27.5158
END_OBJECT = IMAGE_MAP_PROJECTION
/* The JPEG2000 image data file associated with this label. */
OBJECT = COMPRESSED_FILE
  FILE_NAME = "H3194_0000_S13.JP2"
  RECORD_TYPE = UNDEFINED
  FILE_RECORDS = UNK
  ENCODING_TYPE = "JP2"
  INTERCHANGE_FORMAT = BINARY
  UNCOMPRESSED_FILE_NAME = "H3194_0000_S13.IMG"
  REQUIRED_STORAGE_BYTES = "61611228"
  ^DESCRIPTION = "JP2INFO.TXT"
END_OBJECT = COMPRESSED_FILE
END
