PDS_VERSION_ID = PDS3
/* FILE DATA ELEMENTS */
RECORD_TYPE = STREAM
/* POINTERS TO DATA OBJECTS */
^COMPRESSED_FILE = "H3198_0000_IR3.JP2"
/* IDENTIFICATION DATA ELEMENTS */
DATA_SET_ID = "MEX-M-HRSC-5-REFDR-MAPPROJECTED-V3.0"
DATA_SET_NAME = "MARS EXPRESS HRSC MAP PROJECTED REFDR V3.0"
DETECTOR_ID = MEX_HRSC_IR
EVENT_TYPE = "MARS-REGIONAL-MAPPING-Im-Lc-La"
INSTRUMENT_HOST_ID = MEX
INSTRUMENT_HOST_NAME = "MARS EXPRESS"
INSTRUMENT_ID = HRSC
INSTRUMENT_NAME = "HIGH RESOLUTION STEREO CAMERA"
MISSION_NAME = "MARS EXPRESS"
MISSION_PHASE_NAME = ME_Phase_3
PROCESSING_LEVEL_ID = 3
PRODUCT_CREATION_TIME = 2016-04-09T01:52:00.000Z
PRODUCT_ID = "H3198_0000_IR3.JP2"
RELEASE_ID = 0039
REVISION_ID = 0000
/* QUALITY DATA ELEMENTS */
DATA_QUALITY_ID = 2
DATA_QUALITY_DESC = "Data calculated based on photogrammetrically improved orbit and attitude data"
/* TIME DATA ELEMENTS */
SPACECRAFT_CLOCK_START_COUNT = "1/0100322886.09076"
SPACECRAFT_CLOCK_STOP_COUNT = "1/0100323077.01910"
START_TIME = 2006-07-07T03:28:16.218Z
STOP_TIME = 2006-07-07T03:30:23.948Z
/* ORBITAL DATA ELEMENTS */
ASCENDING_NODE_LONGITUDE = 161.12
MAXIMUM_RESOLUTION = 106.6
FOOTPRINT_POINT_LATITUDE = (22.1754,22.1663,22.1567,22.1466, 22.1361,22.1251,21.8489,21.6838,21.4356 ,21.27,21.0216,20.8556,20.6071,20.3596, 20.1935,20.0259,19.7756,19.612,19.4453, 19.279,19.0281,18.8596,18.6941,18.5308, 18.3645,18.1981,18.0321,17.8661,17.7008 ,17.5336,17.2834,17.117,16.9516,16.7849 ,16.6184,16.4517,16.2014,15.9525, 15.7866,15.6152,15.4427,15.2689,15.0945 ,14.9213,14.7524,14.5798,14.4074, 14.1486,13.9761,13.8029,13.6984,13.711, 13.7208,13.7313,13.7386,13.9142,14.0899 ,14.2621,14.4345,14.6074,14.7804, 14.9533,15.2123,15.4719,15.6436,15.8995 ,16.2238,16.3892,16.5565,16.7283,16.896 ,17.2221,17.3893,17.6441,17.8141, 17.9769,18.145,18.3976,18.5664,18.7336, 18.9002,19.0659,19.2313,19.3973,19.5637 ,19.813,19.9791,20.1451,20.311,20.4766, 20.6424,20.8081,20.9734,21.2221,21.3878 ,21.5536,21.7194,21.8851,22.1336, 22.1754)
FOOTPRINT_POINT_LONGITUDE = (354.913,354.735,354.555,354.373, 354.188,354.002,353.954,353.957,353.961 ,353.963,353.967,353.969,353.972, 353.977,353.979,353.979,353.981,353.985 ,353.986,353.988,353.989,353.988,353.99 ,353.994,353.996,353.997,353.999,354.0, 354.003,354.003,354.004,354.005,354.007 ,354.008,354.009,354.01,354.01,354.012, 354.014,354.014,354.014,354.014,354.012 ,354.012,354.015,354.015,354.016, 354.016,354.016,354.015,354.26,354.515, 354.721,354.958,355.136,355.231,355.23, 355.229,355.228,355.227,355.226,355.225 ,355.223,355.221,355.22,355.218,355.215 ,355.213,355.212,355.212,355.211, 355.208,355.207,355.206,355.205,355.203 ,355.202,355.201,355.2,355.199,355.198, 355.197,355.195,355.194,355.193,355.191 ,355.19,355.189,355.187,355.186,355.185 ,355.183,355.182,355.18,355.179,355.177 ,355.176,355.175,355.173,354.913)
ORBIT_NUMBER = 3198
ORBITAL_ECCENTRICITY = 0.569
ORBITAL_INCLINATION = 86.68
ORBITAL_SEMIMAJOR_AXIS = 8607.11
PERIAPSIS_ALTITUDE = 316.75
PERIAPSIS_ARGUMENT_ANGLE = 155.9
PERIAPSIS_TIME = 2006-07-07T03:28:10.000Z
SPACECRAFT_ORIENTATION = (0.0,-1.0,0.0)
^MEX_ORIENTATION_DESC = "MEX_ORIENTATION_DESC.TXT"
SPACECRAFT_POINTING_MODE = ACROSSTRACK
^MEX_POINTING_DESC = "MEX_POINTING_DESC.TXT"
RIGHT_ASCENSION = -1e+32
DECLINATION = -1e+32
OFFSET_ANGLE = -0.8
SPACECRAFT_SOLAR_DISTANCE = 2.49143e+08
TARGET_NAME = MARS
/* CAMERA DATA ELEMENTS */
DETECTOR_TEMPERATURE = 17.351
FOCAL_PLANE_TEMPERATURE = 8.3794
INST_CMPRS_NAME = "DISCRETE COSINE TRANSFORMATION (DCT)"
INST_CMPRS_RATIO = 14.2739
INST_CMPRS_QUALITY = 0
INST_CMPRS_QUANTZ_TBL_ID = 0
INSTRUMENT_TEMPERATURE = 11.4379
LENS_TEMPERATURE = 8.5833
MACROPIXEL_SIZE = 8
MISSING_FRAMES = 0
PIXEL_SUBSAMPLING_FLAG = N
SIGNAL_CHAIN_ID = 2
/* RADIOMETRIC DATA ELEMENTS */
BANDWIDTH = 81.0
CENTER_FILTER_WAVELENGTH = 955.5
RADIANCE_OFFSET = 0.650289
RADIANCE_SCALING_FACTOR = 0.00808764
REFLECTANCE_SCALING_FACTOR = 0.00108304
MEX:REFLECTANCE_OFFSET = 0.0870821
/* IMAGE OBJECT DEFINITIONS */
OBJECT = IMAGE
  INTERCHANGE_FORMAT = BINARY
  LINES = 4993
  LINE_SAMPLES = 771
  SAMPLE_TYPE = UNSIGNED_INTEGER
  SAMPLE_BITS = 8
  BANDS = 1
  BAND_STORAGE_TYPE = BAND_SEQUENTIAL
  MAXIMUM = 255
  MEAN = 148.227
  MINIMUM = 1
  STANDARD_DEVIATION = 36.4976
END_OBJECT = IMAGE
/* MAP OBJECT DEFINITIONS */
OBJECT = IMAGE_MAP_PROJECTION
  ^DATA_SET_MAP_PROJECTION_CATALOG= "DSMAP.CAT"
  A_AXIS_RADIUS = 3396.0
  B_AXIS_RADIUS = 3396.0
  C_AXIS_RADIUS = 3396.0
  CENTER_LATITUDE = 0.0
  CENTER_LONGITUDE = 355.0
  COORDINATE_SYSTEM_NAME = PLANETOGRAPHIC
  COORDINATE_SYSTEM_TYPE = "BODY-FIXED ROTATING"
  EASTERNMOST_LONGITUDE = 355.231
  FIRST_STANDARD_PARALLEL = "N/A"
  LINE_FIRST_PIXEL = 1
  LINE_LAST_PIXEL = 4993
  LINE_PROJECTION_OFFSET = 13134.6875
  MAP_PROJECTION_ROTATION = 0.0
  MAP_PROJECTION_TYPE = SINUSOIDAL
  MAP_RESOLUTION = 592.713803866667
  MAP_SCALE = 0.1
  MAXIMUM_LATITUDE = 22.1754
  MINIMUM_LATITUDE = 13.6984
  POSITIVE_LONGITUDE_DIRECTION = EAST
  REFERENCE_LATITUDE = "N/A"
  REFERENCE_LONGITUDE = "N/A"
  SAMPLE_FIRST_PIXEL = 1
  SAMPLE_LAST_PIXEL = 771
  SAMPLE_PROJECTION_OFFSET = 626.6875
  SECOND_STANDARD_PARALLEL = "N/A"
  WESTERNMOST_LONGITUDE = 353.954
END_OBJECT = IMAGE_MAP_PROJECTION
/* The JPEG2000 image data file associated with this label. */
OBJECT = COMPRESSED_FILE
  FILE_NAME = "H3198_0000_IR3.JP2"
  RECORD_TYPE = UNDEFINED
  FILE_RECORDS = UNK
  ENCODING_TYPE = "JP2"
  INTERCHANGE_FORMAT = BINARY
  UNCOMPRESSED_FILE_NAME = "H3198_0000_IR3.IMG"
  REQUIRED_STORAGE_BYTES = "3868107"
  ^DESCRIPTION = "JP2INFO.TXT"
END_OBJECT = COMPRESSED_FILE
END
