PDS_VERSION_ID = PDS3
/* FILE DATA ELEMENTS */
RECORD_TYPE = STREAM
/* POINTERS TO DATA OBJECTS */
^COMPRESSED_FILE = "H3198_0001_P23.JP2"
/* IDENTIFICATION DATA ELEMENTS */
DATA_SET_ID = "MEX-M-HRSC-5-REFDR-MAPPROJECTED-V3.0"
DATA_SET_NAME = "MARS EXPRESS HRSC MAP PROJECTED REFDR V3.0"
DETECTOR_ID = MEX_HRSC_P2
EVENT_TYPE = "MARS-LOCAL-STEREO-Lc-La-Ot"
INSTRUMENT_HOST_ID = MEX
INSTRUMENT_HOST_NAME = "MARS EXPRESS"
INSTRUMENT_ID = HRSC
INSTRUMENT_NAME = "HIGH RESOLUTION STEREO CAMERA"
MISSION_NAME = "MARS EXPRESS"
MISSION_PHASE_NAME = ME_Phase_3
PROCESSING_LEVEL_ID = 3
PRODUCT_CREATION_TIME = 2016-04-09T01:52:00.000Z
PRODUCT_ID = "H3198_0001_P23.JP2"
RELEASE_ID = 0039
REVISION_ID = 0000
/* QUALITY DATA ELEMENTS */
DATA_QUALITY_ID = 2
DATA_QUALITY_DESC = "Data calculated based on photogrammetrically improved orbit and attitude data"
/* TIME DATA ELEMENTS */
SPACECRAFT_CLOCK_START_COUNT = "1/0100323243.08820"
SPACECRAFT_CLOCK_STOP_COUNT = "1/0100323389.58900"
START_TIME = 2006-07-07T03:35:18.866Z
STOP_TIME = 2006-07-07T03:36:14.105Z
/* ORBITAL DATA ELEMENTS */
ASCENDING_NODE_LONGITUDE = 161.12
MAXIMUM_RESOLUTION = 39
FOOTPRINT_POINT_LATITUDE = (-1.45695,-1.45284,-1.44863,-1.44434, -1.44216,-1.43994,-1.4377,-1.43544, -1.43315,-1.43083,-1.42848,-1.4261, -1.42369,-1.42125,-1.41879,-1.4163, -1.41379,-1.41124,-1.40867,-1.40608, -1.40346,-1.40082,-1.39813,-1.47892, -1.63019,-1.78116,-1.93375,-2.02606, -2.1797,-2.27179,-2.4251,-2.51714, -2.7033,-2.85914,-3.01019,-3.10559, -3.16992,-3.26418,-3.38929,-3.48412, -3.61118,-3.73847,-3.92855,-4.09015, -4.15478,-4.21962,-4.31543,-4.40896, -4.52744,-4.53117,-4.53382,-4.53671, -4.53958,-4.54463,-4.5473,-4.55106, -4.55359,-4.55615,-4.55876,-4.56128, -4.56435,-4.56738,-4.56983,-4.57222, -4.5765,-4.57872,-4.58093,-4.58313, -4.58533,-4.58754,-4.58968,-4.49337, -4.42902,-4.36448,-4.26754,-4.20294, -4.13839,-4.0744,-3.94792,-3.85271, -3.6938,-3.50316,-3.37599,-3.25144, -3.158,-3.00208,-2.90832,-2.7519,-2.658 ,-2.56608,-2.47407,-2.35108,-2.25867, -2.16616,-2.01202,-1.8889,-1.76807, -1.67721,-1.5864,-1.45695)
FOOTPRINT_POINT_LONGITUDE = (355.391,355.264,355.137,355.009, 354.945,354.881,354.817,354.753,354.688 ,354.624,354.559,354.494,354.429, 354.364,354.299,354.234,354.168,354.102 ,354.037,353.971,353.904,353.838, 353.772,353.723,353.718,353.713,353.708 ,353.705,353.7,353.697,353.692,353.689, 353.683,353.678,353.668,353.667,353.666 ,353.664,353.659,353.655,353.651, 353.647,353.641,353.637,353.635,353.633 ,353.629,353.623,353.692,353.766, 353.838,353.91,353.982,354.108,354.179, 354.286,354.357,354.428,354.499,354.57, 354.658,354.746,354.817,354.887,355.01, 355.08,355.149,355.219,355.289,355.358, 355.428,355.45,355.449,355.448,355.446, 355.445,355.444,355.443,355.441,355.44, 355.438,355.435,355.433,355.431,355.43, 355.428,355.427,355.424,355.423,355.422 ,355.421,355.419,355.418,355.416, 355.414,355.413,355.411,355.41,355.409, 355.391)
ORBIT_NUMBER = 3198
ORBITAL_ECCENTRICITY = 0.569
ORBITAL_INCLINATION = 86.68
ORBITAL_SEMIMAJOR_AXIS = 8607.11
PERIAPSIS_ALTITUDE = 316.75
PERIAPSIS_ARGUMENT_ANGLE = 155.9
PERIAPSIS_TIME = 2006-07-07T03:28:10.000Z
SPACECRAFT_ORIENTATION = (0.0,-1.0,0.0)
^MEX_ORIENTATION_DESC = "MEX_ORIENTATION_DESC.TXT"
SPACECRAFT_POINTING_MODE = ACROSSTRACK
^MEX_POINTING_DESC = "MEX_POINTING_DESC.TXT"
RIGHT_ASCENSION = -1e+32
DECLINATION = -1e+32
OFFSET_ANGLE = -0.8
SPACECRAFT_SOLAR_DISTANCE = 2.49143e+08
TARGET_NAME = MARS
/* CAMERA DATA ELEMENTS */
DETECTOR_TEMPERATURE = 19.5939
FOCAL_PLANE_TEMPERATURE = 8.1755
INST_CMPRS_NAME = "DISCRETE COSINE TRANSFORMATION (DCT)"
INST_CMPRS_RATIO = 6.82919
INST_CMPRS_QUALITY = 0
INST_CMPRS_QUANTZ_TBL_ID = 0
INSTRUMENT_TEMPERATURE = 12.6613
LENS_TEMPERATURE = 8.7872
MACROPIXEL_SIZE = 2
MISSING_FRAMES = 0
PIXEL_SUBSAMPLING_FLAG = N
SIGNAL_CHAIN_ID = 3
/* RADIOMETRIC DATA ELEMENTS */
BANDWIDTH = 177.0
CENTER_FILTER_WAVELENGTH = 676.5
RADIANCE_OFFSET = 2.0228
RADIANCE_SCALING_FACTOR = 0.0149837
REFLECTANCE_SCALING_FACTOR = 0.000493144
MEX:REFLECTANCE_OFFSET = 0.0665744
/* IMAGE OBJECT DEFINITIONS */
OBJECT = IMAGE
  INTERCHANGE_FORMAT = BINARY
  LINES = 7486
  LINE_SAMPLES = 4275
  SAMPLE_TYPE = UNSIGNED_INTEGER
  SAMPLE_BITS = 8
  BANDS = 1
  BAND_STORAGE_TYPE = BAND_SEQUENTIAL
  MAXIMUM = 255
  MEAN = 100.455
  MINIMUM = 1
  STANDARD_DEVIATION = 35.1491
END_OBJECT = IMAGE
/* MAP OBJECT DEFINITIONS */
OBJECT = IMAGE_MAP_PROJECTION
  ^DATA_SET_MAP_PROJECTION_CATALOG= "DSMAP.CAT"
  A_AXIS_RADIUS = 3396.0
  B_AXIS_RADIUS = 3396.0
  C_AXIS_RADIUS = 3396.0
  CENTER_LATITUDE = 0.0
  CENTER_LONGITUDE = 355.0
  COORDINATE_SYSTEM_NAME = PLANETOGRAPHIC
  COORDINATE_SYSTEM_TYPE = "BODY-FIXED ROTATING"
  EASTERNMOST_LONGITUDE = 355.45
  FIRST_STANDARD_PARALLEL = "N/A"
  LINE_FIRST_PIXEL = 1
  LINE_LAST_PIXEL = 7486
  LINE_PROJECTION_OFFSET = -3359.75
  MAP_PROJECTION_ROTATION = 0.0
  MAP_PROJECTION_TYPE = SINUSOIDAL
  MAP_RESOLUTION = 2370.85521546667
  MAP_SCALE = 0.025
  MAXIMUM_LATITUDE = -1.39813
  MINIMUM_LATITUDE = -4.58968
  POSITIVE_LONGITUDE_DIRECTION = EAST
  REFERENCE_LATITUDE = "N/A"
  REFERENCE_LONGITUDE = "N/A"
  SAMPLE_FIRST_PIXEL = 1
  SAMPLE_LAST_PIXEL = 4275
  SAMPLE_PROJECTION_OFFSET = 3307.75
  SECOND_STANDARD_PARALLEL = "N/A"
  WESTERNMOST_LONGITUDE = 353.623
END_OBJECT = IMAGE_MAP_PROJECTION
/* The JPEG2000 image data file associated with this label. */
OBJECT = COMPRESSED_FILE
  FILE_NAME = "H3198_0001_P23.JP2"
  RECORD_TYPE = UNDEFINED
  FILE_RECORDS = UNK
  ENCODING_TYPE = "JP2"
  INTERCHANGE_FORMAT = BINARY
  UNCOMPRESSED_FILE_NAME = "H3198_0001_P23.IMG"
  REQUIRED_STORAGE_BYTES = "32028300"
  ^DESCRIPTION = "JP2INFO.TXT"
END_OBJECT = COMPRESSED_FILE
END
