PDS_VERSION_ID = PDS3
/* FILE DATA ELEMENTS */
RECORD_TYPE = STREAM
/* POINTERS TO DATA OBJECTS */
^COMPRESSED_FILE = "H3203_0000_IR3.JP2"
/* IDENTIFICATION DATA ELEMENTS */
DATA_SET_ID = "MEX-M-HRSC-5-REFDR-MAPPROJECTED-V3.0"
DATA_SET_NAME = "MARS EXPRESS HRSC MAP PROJECTED REFDR V3.0"
DETECTOR_ID = MEX_HRSC_IR
EVENT_TYPE = "MARS-REGIONAL-MAPPING-Vo-Mw"
INSTRUMENT_HOST_ID = MEX
INSTRUMENT_HOST_NAME = "MARS EXPRESS"
INSTRUMENT_ID = HRSC
INSTRUMENT_NAME = "HIGH RESOLUTION STEREO CAMERA"
MISSION_NAME = "MARS EXPRESS"
MISSION_PHASE_NAME = ME_Phase_3
PROCESSING_LEVEL_ID = 3
PRODUCT_CREATION_TIME = 2016-04-13T11:55:32.000Z
PRODUCT_ID = "H3203_0000_IR3.JP2"
RELEASE_ID = 0040
REVISION_ID = 0000
/* QUALITY DATA ELEMENTS */
DATA_QUALITY_ID = 1
DATA_QUALITY_DESC = "Data calculated based on original SPICE kernels"
/* TIME DATA ELEMENTS */
SPACECRAFT_CLOCK_START_COUNT = "1/0100443857.07290"
SPACECRAFT_CLOCK_STOP_COUNT = "1/0100444066.30535"
START_TIME = 2006-07-08T13:04:27.232Z
STOP_TIME = 2006-07-08T13:06:51.066Z
/* ORBITAL DATA ELEMENTS */
ASCENDING_NODE_LONGITUDE = 161.01
MAXIMUM_RESOLUTION = 101.9
FOOTPRINT_POINT_LATITUDE = (21.1302,21.1353,21.1401,21.1445, 21.0907,20.9075,20.7235,20.5394,20.3556 ,20.0809,19.8963,19.7113,19.5267, 19.3421,19.0674,18.7904,18.5126,18.3272 ,18.1407,17.8614,17.6752,17.4891,17.302 ,17.0211,16.8332,16.55,16.3611,16.1723, 15.984,15.7882,15.4953,15.2025,14.9056, 14.7063,14.3994,14.2039,14.0078,13.8118 ,13.5172,13.3221,13.1275,12.8355, 12.6355,12.4359,12.2364,12.0372,11.8378 ,11.6384,11.6303,11.6253,11.6199, 11.6096,11.6011,11.8991,12.0985,12.3979 ,12.5975,12.797,12.991,13.2848,13.4813, 13.6782,13.8785,14.0761,14.2724,14.4727 ,14.6748,14.8748,15.1741,15.3736, 15.5709,15.7679,15.9651,16.1576,16.348, 16.5379,16.821,17.01,17.1977,17.3857, 17.574,17.761,17.947,18.134,18.3207, 18.5065,18.6912,18.8743,19.0564,19.2393 ,19.4231,19.6959,19.9705,20.1538, 20.3354,20.5165,20.6991,20.9768,21.1597 ,21.1302)
FOOTPRINT_POINT_LONGITUDE = (224.955,224.776,224.598,224.422, 224.111,224.112,224.112,224.113,224.113 ,224.113,224.114,224.114,224.114, 224.114,224.114,224.114,224.113,224.113 ,224.113,224.112,224.112,224.111, 224.111,224.11,224.109,224.108,224.107, 224.106,224.106,224.105,224.103,224.101 ,224.099,224.098,224.095,224.094, 224.092,224.091,224.088,224.087,224.085 ,224.082,224.08,224.078,224.076,224.074 ,224.072,224.07,224.249,224.431,224.614 ,224.948,225.205,225.294,225.294, 225.294,225.294,225.293,225.293,225.29, 225.287,225.284,225.279,225.276,225.274 ,225.269,225.262,225.257,225.251, 225.246,225.243,225.24,225.236,225.232, 225.229,225.227,225.225,225.223,225.222 ,225.221,225.22,225.22,225.221,225.22, 225.22,225.221,225.222,225.225,225.228, 225.231,225.233,225.239,225.243,225.245 ,225.249,225.253,225.256,225.257,225.26 ,224.955)
ORBIT_NUMBER = 3203
ORBITAL_ECCENTRICITY = 0.569
ORBITAL_INCLINATION = 86.69
ORBITAL_SEMIMAJOR_AXIS = 8614.71
PERIAPSIS_ALTITUDE = 316.76
PERIAPSIS_ARGUMENT_ANGLE = 155.02
PERIAPSIS_TIME = 2006-07-08T13:03:52.000Z
SPACECRAFT_ORIENTATION = (0.0,-1.0,0.0)
^MEX_ORIENTATION_DESC = "MEX_ORIENTATION_DESC.TXT"
SPACECRAFT_POINTING_MODE = ACROSSTRACK
^MEX_POINTING_DESC = "MEX_POINTING_DESC.TXT"
RIGHT_ASCENSION = -1e+32
DECLINATION = -1e+32
OFFSET_ANGLE = 0.52
SPACECRAFT_SOLAR_DISTANCE = 2.49118e+08
TARGET_NAME = MARS
/* CAMERA DATA ELEMENTS */
DETECTOR_TEMPERATURE = 17.5549
FOCAL_PLANE_TEMPERATURE = 8.5833
INST_CMPRS_NAME = "DISCRETE COSINE TRANSFORMATION (DCT)"
INST_CMPRS_RATIO = 15.5064
INST_CMPRS_QUALITY = 0
INST_CMPRS_QUANTZ_TBL_ID = 0
INSTRUMENT_TEMPERATURE = 11.234
LENS_TEMPERATURE = 8.5833
MACROPIXEL_SIZE = 8
MISSING_FRAMES = 0
PIXEL_SUBSAMPLING_FLAG = N
SIGNAL_CHAIN_ID = 2
/* RADIOMETRIC DATA ELEMENTS */
BANDWIDTH = 81.0
CENTER_FILTER_WAVELENGTH = 955.5
RADIANCE_OFFSET = 2.06775
RADIANCE_SCALING_FACTOR = 0.00359608
REFLECTANCE_SCALING_FACTOR = 0.000481468
MEX:REFLECTANCE_OFFSET = 0.276844
/* IMAGE OBJECT DEFINITIONS */
OBJECT = IMAGE
  INTERCHANGE_FORMAT = BINARY
  LINES = 5632
  LINE_SAMPLES = 779
  SAMPLE_TYPE = UNSIGNED_INTEGER
  SAMPLE_BITS = 8
  BANDS = 1
  BAND_STORAGE_TYPE = BAND_SEQUENTIAL
  MAXIMUM = 255
  MEAN = 96.0439
  MINIMUM = 1
  STANDARD_DEVIATION = 41.0933
END_OBJECT = IMAGE
/* MAP OBJECT DEFINITIONS */
OBJECT = IMAGE_MAP_PROJECTION
  ^DATA_SET_MAP_PROJECTION_CATALOG= "DSMAP.CAT"
  A_AXIS_RADIUS = 3396.0
  B_AXIS_RADIUS = 3396.0
  C_AXIS_RADIUS = 3396.0
  CENTER_LATITUDE = 0.0
  CENTER_LONGITUDE = 225.0
  COORDINATE_SYSTEM_NAME = PLANETOGRAPHIC
  COORDINATE_SYSTEM_TYPE = "BODY-FIXED ROTATING"
  EASTERNMOST_LONGITUDE = 225.294
  FIRST_STANDARD_PARALLEL = "N/A"
  LINE_FIRST_PIXEL = 1
  LINE_LAST_PIXEL = 5632
  LINE_PROJECTION_OFFSET = 12524.3125
  MAP_PROJECTION_ROTATION = 0.0
  MAP_PROJECTION_TYPE = SINUSOIDAL
  MAP_RESOLUTION = 592.713803866667
  MAP_SCALE = 0.1
  MAXIMUM_LATITUDE = 21.1597
  MINIMUM_LATITUDE = 11.6011
  POSITIVE_LONGITUDE_DIRECTION = EAST
  REFERENCE_LATITUDE = "N/A"
  REFERENCE_LONGITUDE = "N/A"
  SAMPLE_FIRST_PIXEL = 1
  SAMPLE_LAST_PIXEL = 779
  SAMPLE_PROJECTION_OFFSET = 556.4375
  SECOND_STANDARD_PARALLEL = "N/A"
  WESTERNMOST_LONGITUDE = 224.07
END_OBJECT = IMAGE_MAP_PROJECTION
/* The JPEG2000 image data file associated with this label. */
OBJECT = COMPRESSED_FILE
  FILE_NAME = "H3203_0000_IR3.JP2"
  RECORD_TYPE = UNDEFINED
  FILE_RECORDS = UNK
  ENCODING_TYPE = "JP2"
  INTERCHANGE_FORMAT = BINARY
  UNCOMPRESSED_FILE_NAME = "H3203_0000_IR3.IMG"
  REQUIRED_STORAGE_BYTES = "4404466"
  ^DESCRIPTION = "JP2INFO.TXT"
END_OBJECT = COMPRESSED_FILE
END
