PDS_VERSION_ID = PDS3
/* FILE DATA ELEMENTS */
RECORD_TYPE = STREAM
/* POINTERS TO DATA OBJECTS */
^COMPRESSED_FILE = "H3203_0000_ND3.JP2"
/* IDENTIFICATION DATA ELEMENTS */
DATA_SET_ID = "MEX-M-HRSC-5-REFDR-MAPPROJECTED-V3.0"
DATA_SET_NAME = "MARS EXPRESS HRSC MAP PROJECTED REFDR V3.0"
DETECTOR_ID = MEX_HRSC_NADIR
EVENT_TYPE = "MARS-REGIONAL-MAPPING-Vo-Mw"
INSTRUMENT_HOST_ID = MEX
INSTRUMENT_HOST_NAME = "MARS EXPRESS"
INSTRUMENT_ID = HRSC
INSTRUMENT_NAME = "HIGH RESOLUTION STEREO CAMERA"
MISSION_NAME = "MARS EXPRESS"
MISSION_PHASE_NAME = ME_Phase_3
PROCESSING_LEVEL_ID = 3
PRODUCT_CREATION_TIME = 2016-04-13T11:55:32.000Z
PRODUCT_ID = "H3203_0000_ND3.JP2"
RELEASE_ID = 0040
REVISION_ID = 0000
/* QUALITY DATA ELEMENTS */
DATA_QUALITY_ID = 1
DATA_QUALITY_DESC = "Data calculated based on original SPICE kernels"
/* TIME DATA ELEMENTS */
SPACECRAFT_CLOCK_START_COUNT = "1/0100443857.07290"
SPACECRAFT_CLOCK_STOP_COUNT = "1/0100444066.30535"
START_TIME = 2006-07-08T13:04:50.581Z
STOP_TIME = 2006-07-08T13:07:16.576Z
/* ORBITAL DATA ELEMENTS */
ASCENDING_NODE_LONGITUDE = 161.01
MAXIMUM_RESOLUTION = 12.3
FOOTPRINT_POINT_LATITUDE = (21.1313,21.1312,21.1303,21.036,20.8507 ,20.6655,20.4803,20.2951,20.11,19.9249, 19.7399,19.5549,19.3699,19.185,19.0001, 18.6305,18.2611,17.8919,17.523,17.2399, 17.0492,16.8587,16.6682,16.4778,16.2874 ,16.0972,15.907,15.7169,15.5268,15.3368 ,15.147,14.9572,14.7675,14.5781,14.3868 ,14.191,13.9953,13.7997,13.6042,13.4087 ,13.2134,13.0182,12.823,12.628,12.433, 12.2382,12.0434,11.8488,11.6543,11.6343 ,11.6329,11.6318,11.6304,11.825,12.0197 ,12.2146,12.4096,12.6046,12.7998, 12.9951,13.1904,13.3859,13.5814,13.777, 13.9727,14.1685,14.4616,14.6513,14.8409 ,15.0308,15.2207,15.4108,15.6009,15.791 ,15.9813,16.1716,16.362,16.5525,16.743, 16.9337,17.1244,17.3152,17.5037,17.8728 ,18.2422,18.6118,18.7967,19.0743, 19.2593,19.4444,19.6295,19.8147,19.9999 ,20.1851,20.3704,20.5558,20.7411, 20.9265,21.1119,21.1313)
FOOTPRINT_POINT_LONGITUDE = (225.052,224.671,224.297,224.095, 224.095,224.095,224.096,224.096,224.096 ,224.096,224.096,224.096,224.096, 224.096,224.095,224.095,224.094,224.093 ,224.092,224.091,224.09,224.089,224.088 ,224.087,224.086,224.084,224.083, 224.082,224.081,224.079,224.078,224.076 ,224.075,224.072,224.071,224.069, 224.067,224.065,224.063,224.061,224.059 ,224.057,224.055,224.053,224.051, 224.048,224.046,224.044,224.041,224.397 ,224.782,225.008,225.305,225.305, 225.304,225.304,225.303,225.303,225.302 ,225.301,225.3,225.297,225.293,225.29, 225.286,225.282,225.277,225.272,225.263 ,225.26,225.256,225.253,225.248,225.245 ,225.242,225.238,225.234,225.231,225.23 ,225.228,225.227,225.226,225.224, 225.224,225.223,225.224,225.226,225.231 ,225.234,225.235,225.238,225.241, 225.244,225.246,225.249,225.252,225.255 ,225.259,225.261,225.052)
ORBIT_NUMBER = 3203
ORBITAL_ECCENTRICITY = 0.569
ORBITAL_INCLINATION = 86.69
ORBITAL_SEMIMAJOR_AXIS = 8614.71
PERIAPSIS_ALTITUDE = 316.76
PERIAPSIS_ARGUMENT_ANGLE = 155.02
PERIAPSIS_TIME = 2006-07-08T13:03:52.000Z
SPACECRAFT_ORIENTATION = (0.0,-1.0,0.0)
^MEX_ORIENTATION_DESC = "MEX_ORIENTATION_DESC.TXT"
SPACECRAFT_POINTING_MODE = ACROSSTRACK
^MEX_POINTING_DESC = "MEX_POINTING_DESC.TXT"
RIGHT_ASCENSION = -1e+32
DECLINATION = -1e+32
OFFSET_ANGLE = 0.52
SPACECRAFT_SOLAR_DISTANCE = 2.49118e+08
TARGET_NAME = MARS
/* CAMERA DATA ELEMENTS */
DETECTOR_TEMPERATURE = 18.5744
FOCAL_PLANE_TEMPERATURE = 8.5833
INST_CMPRS_NAME = "DISCRETE COSINE TRANSFORMATION (DCT)"
INST_CMPRS_RATIO = 6.99506
INST_CMPRS_QUALITY = 0
INST_CMPRS_QUANTZ_TBL_ID = 0
INSTRUMENT_TEMPERATURE = 11.234
LENS_TEMPERATURE = 8.5833
MACROPIXEL_SIZE = 1
MISSING_FRAMES = 0
PIXEL_SUBSAMPLING_FLAG = N
SIGNAL_CHAIN_ID = 0
/* RADIOMETRIC DATA ELEMENTS */
BANDWIDTH = 177.0
CENTER_FILTER_WAVELENGTH = 677.5
RADIANCE_OFFSET = 6.23186
RADIANCE_SCALING_FACTOR = 0.0181231
REFLECTANCE_SCALING_FACTOR = 0.000597484
MEX:REFLECTANCE_OFFSET = 0.205453
/* IMAGE OBJECT DEFINITIONS */
OBJECT = IMAGE
  INTERCHANGE_FORMAT = BINARY
  LINES = 45052
  LINE_SAMPLES = 6227
  SAMPLE_TYPE = UNSIGNED_INTEGER
  SAMPLE_BITS = 8
  BANDS = 1
  BAND_STORAGE_TYPE = BAND_SEQUENTIAL
  MAXIMUM = 255
  MEAN = 109.688
  MINIMUM = 1
  STANDARD_DEVIATION = 35.9959
END_OBJECT = IMAGE
/* MAP OBJECT DEFINITIONS */
OBJECT = IMAGE_MAP_PROJECTION
  ^DATA_SET_MAP_PROJECTION_CATALOG= "DSMAP.CAT"
  A_AXIS_RADIUS = 3396.0
  B_AXIS_RADIUS = 3396.0
  C_AXIS_RADIUS = 3396.0
  CENTER_LATITUDE = 0.0
  CENTER_LONGITUDE = 225.0
  COORDINATE_SYSTEM_NAME = PLANETOGRAPHIC
  COORDINATE_SYSTEM_TYPE = "BODY-FIXED ROTATING"
  EASTERNMOST_LONGITUDE = 225.305
  FIRST_STANDARD_PARALLEL = "N/A"
  LINE_FIRST_PIXEL = 1
  LINE_LAST_PIXEL = 45052
  LINE_PROJECTION_OFFSET = 100198.0
  MAP_PROJECTION_ROTATION = 0.0
  MAP_PROJECTION_TYPE = SINUSOIDAL
  MAP_RESOLUTION = 4741.71043093333
  MAP_SCALE = 0.0125
  MAXIMUM_LATITUDE = 21.1313
  MINIMUM_LATITUDE = 11.6304
  POSITIVE_LONGITUDE_DIRECTION = EAST
  REFERENCE_LATITUDE = "N/A"
  REFERENCE_LONGITUDE = "N/A"
  SAMPLE_FIRST_PIXEL = 1
  SAMPLE_LAST_PIXEL = 6227
  SAMPLE_PROJECTION_OFFSET = 4455.0
  SECOND_STANDARD_PARALLEL = "N/A"
  WESTERNMOST_LONGITUDE = 224.041
END_OBJECT = IMAGE_MAP_PROJECTION
/* The JPEG2000 image data file associated with this label. */
OBJECT = COMPRESSED_FILE
  FILE_NAME = "H3203_0000_ND3.JP2"
  RECORD_TYPE = UNDEFINED
  FILE_RECORDS = UNK
  ENCODING_TYPE = "JP2"
  INTERCHANGE_FORMAT = BINARY
  UNCOMPRESSED_FILE_NAME = "H3203_0000_ND3.IMG"
  REQUIRED_STORAGE_BYTES = "280569939"
  ^DESCRIPTION = "JP2INFO.TXT"
END_OBJECT = COMPRESSED_FILE
END
