PDS_VERSION_ID = PDS3
/* FILE DATA ELEMENTS */
RECORD_TYPE = STREAM
/* POINTERS TO DATA OBJECTS */
^COMPRESSED_FILE = "H3203_0000_P13.JP2"
/* IDENTIFICATION DATA ELEMENTS */
DATA_SET_ID = "MEX-M-HRSC-5-REFDR-MAPPROJECTED-V3.0"
DATA_SET_NAME = "MARS EXPRESS HRSC MAP PROJECTED REFDR V3.0"
DETECTOR_ID = MEX_HRSC_P1
EVENT_TYPE = "MARS-REGIONAL-MAPPING-Vo-Mw"
INSTRUMENT_HOST_ID = MEX
INSTRUMENT_HOST_NAME = "MARS EXPRESS"
INSTRUMENT_ID = HRSC
INSTRUMENT_NAME = "HIGH RESOLUTION STEREO CAMERA"
MISSION_NAME = "MARS EXPRESS"
MISSION_PHASE_NAME = ME_Phase_3
PROCESSING_LEVEL_ID = 3
PRODUCT_CREATION_TIME = 2016-04-13T11:55:32.000Z
PRODUCT_ID = "H3203_0000_P13.JP2"
RELEASE_ID = 0040
REVISION_ID = 0000
/* QUALITY DATA ELEMENTS */
DATA_QUALITY_ID = 1
DATA_QUALITY_DESC = "Data calculated based on original SPICE kernels"
/* TIME DATA ELEMENTS */
SPACECRAFT_CLOCK_START_COUNT = "1/0100443857.07290"
SPACECRAFT_CLOCK_STOP_COUNT = "1/0100444066.30535"
START_TIME = 2006-07-08T13:04:31.891Z
STOP_TIME = 2006-07-08T13:06:56.165Z
/* ORBITAL DATA ELEMENTS */
ASCENDING_NODE_LONGITUDE = 161.01
MAXIMUM_RESOLUTION = 50.2
FOOTPRINT_POINT_LATITUDE = (21.1452,21.1523,21.1832,20.9988, 20.8145,20.6302,20.4461,20.2627,20.0786 ,19.8939,19.7089,19.5242,19.2487, 19.0642,18.8797,18.6946,18.5098,18.3243 ,18.1381,17.8593,17.6735,17.4877, 17.3012,17.0212,16.8341,16.6461,16.4584 ,16.2704,16.0773,15.8817,15.6872, 15.4931,15.2008,15.0053,14.8093,14.6093 ,14.4088,14.2147,14.0202,13.8234, 13.6291,13.4351,13.2414,12.944,12.7446, 12.5457,12.347,12.1486,11.9503,11.7519, 11.6371,11.6289,11.6178,11.6112,11.8098 ,12.1075,12.4055,12.6042,12.8031, 13.0025,13.2982,13.4931,13.6887,13.886, 14.1799,14.3758,14.5749,14.7751,14.9731 ,15.1692,15.3661,15.5626,15.7581, 16.0533,16.25,16.4388,16.6269,16.8142, 17.0026,17.1898,17.377,17.5646,17.7511, 17.9367,18.1233,18.3096,18.4953,18.6799 ,18.8642,19.0462,19.2296,19.4136, 19.5965,19.8706,20.1464,20.3295,20.694, 20.9692,21.1533,21.1452)
FOOTPRINT_POINT_LONGITUDE = (224.764,224.411,224.103,224.104, 224.104,224.105,224.105,224.105,224.106 ,224.106,224.106,224.106,224.106, 224.106,224.106,224.106,224.105,224.105 ,224.105,224.104,224.104,224.103, 224.103,224.102,224.101,224.1,224.099, 224.098,224.097,224.096,224.095,224.094 ,224.092,224.091,224.089,224.088, 224.086,224.085,224.083,224.081,224.08, 224.078,224.076,224.073,224.071,224.069 ,224.067,224.065,224.063,224.061, 224.218,224.583,225.023,225.296,225.296 ,225.296,225.295,225.295,225.295, 225.294,225.291,225.289,225.286,225.281 ,225.276,225.273,225.267,225.26,225.255 ,225.252,225.248,225.244,225.241, 225.235,225.231,225.229,225.227,225.226 ,225.224,225.223,225.222,225.221,225.22 ,225.221,225.221,225.221,225.221, 225.223,225.224,225.228,225.231,225.233 ,225.236,225.242,225.245,225.248, 225.255,225.259,225.261,224.764)
ORBIT_NUMBER = 3203
ORBITAL_ECCENTRICITY = 0.569
ORBITAL_INCLINATION = 86.69
ORBITAL_SEMIMAJOR_AXIS = 8614.71
PERIAPSIS_ALTITUDE = 316.76
PERIAPSIS_ARGUMENT_ANGLE = 155.02
PERIAPSIS_TIME = 2006-07-08T13:03:52.000Z
SPACECRAFT_ORIENTATION = (0.0,-1.0,0.0)
^MEX_ORIENTATION_DESC = "MEX_ORIENTATION_DESC.TXT"
SPACECRAFT_POINTING_MODE = ACROSSTRACK
^MEX_POINTING_DESC = "MEX_POINTING_DESC.TXT"
RIGHT_ASCENSION = -1e+32
DECLINATION = -1e+32
OFFSET_ANGLE = 0.52
SPACECRAFT_SOLAR_DISTANCE = 2.49118e+08
TARGET_NAME = MARS
/* CAMERA DATA ELEMENTS */
DETECTOR_TEMPERATURE = 17.5549
FOCAL_PLANE_TEMPERATURE = 8.5833
INST_CMPRS_NAME = "DISCRETE COSINE TRANSFORMATION (DCT)"
INST_CMPRS_RATIO = 10.9172
INST_CMPRS_QUALITY = 0
INST_CMPRS_QUANTZ_TBL_ID = 0
INSTRUMENT_TEMPERATURE = 11.234
LENS_TEMPERATURE = 8.5833
MACROPIXEL_SIZE = 4
MISSING_FRAMES = 0
PIXEL_SUBSAMPLING_FLAG = N
SIGNAL_CHAIN_ID = 3
/* RADIOMETRIC DATA ELEMENTS */
BANDWIDTH = 174.0
CENTER_FILTER_WAVELENGTH = 675.0
RADIANCE_OFFSET = 7.35259
RADIANCE_SCALING_FACTOR = 0.0151034
REFLECTANCE_SCALING_FACTOR = 0.000504162
MEX:REFLECTANCE_OFFSET = 0.245435
/* IMAGE OBJECT DEFINITIONS */
OBJECT = IMAGE
  INTERCHANGE_FORMAT = BINARY
  LINES = 11263
  LINE_SAMPLES = 1557
  SAMPLE_TYPE = UNSIGNED_INTEGER
  SAMPLE_BITS = 8
  BANDS = 1
  BAND_STORAGE_TYPE = BAND_SEQUENTIAL
  MAXIMUM = 255
  MEAN = 103.26
  MINIMUM = 1
  STANDARD_DEVIATION = 40.3096
END_OBJECT = IMAGE
/* MAP OBJECT DEFINITIONS */
OBJECT = IMAGE_MAP_PROJECTION
  ^DATA_SET_MAP_PROJECTION_CATALOG= "DSMAP.CAT"
  A_AXIS_RADIUS = 3396.0
  B_AXIS_RADIUS = 3396.0
  C_AXIS_RADIUS = 3396.0
  CENTER_LATITUDE = 0.0
  CENTER_LONGITUDE = 225.0
  COORDINATE_SYSTEM_NAME = PLANETOGRAPHIC
  COORDINATE_SYSTEM_TYPE = "BODY-FIXED ROTATING"
  EASTERNMOST_LONGITUDE = 225.296
  FIRST_STANDARD_PARALLEL = "N/A"
  LINE_FIRST_PIXEL = 1
  LINE_LAST_PIXEL = 11263
  LINE_PROJECTION_OFFSET = 25049.125
  MAP_PROJECTION_ROTATION = 0.0
  MAP_PROJECTION_TYPE = SINUSOIDAL
  MAP_RESOLUTION = 1185.42760773333
  MAP_SCALE = 0.05
  MAXIMUM_LATITUDE = 21.1832
  MINIMUM_LATITUDE = 11.6112
  POSITIVE_LONGITUDE_DIRECTION = EAST
  REFERENCE_LATITUDE = "N/A"
  REFERENCE_LONGITUDE = "N/A"
  SAMPLE_FIRST_PIXEL = 1
  SAMPLE_LAST_PIXEL = 1557
  SAMPLE_PROJECTION_OFFSET = 1113.375
  SECOND_STANDARD_PARALLEL = "N/A"
  WESTERNMOST_LONGITUDE = 224.061
END_OBJECT = IMAGE_MAP_PROJECTION
/* The JPEG2000 image data file associated with this label. */
OBJECT = COMPRESSED_FILE
  FILE_NAME = "H3203_0000_P13.JP2"
  RECORD_TYPE = UNDEFINED
  FILE_RECORDS = UNK
  ENCODING_TYPE = "JP2"
  INTERCHANGE_FORMAT = BINARY
  UNCOMPRESSED_FILE_NAME = "H3203_0000_P13.IMG"
  REQUIRED_STORAGE_BYTES = "17555175"
  ^DESCRIPTION = "JP2INFO.TXT"
END_OBJECT = COMPRESSED_FILE
END
