PDS_VERSION_ID = PDS3
/* FILE DATA ELEMENTS */
RECORD_TYPE = STREAM
/* POINTERS TO DATA OBJECTS */
^COMPRESSED_FILE = "H3207_0000_IR3.JP2"
/* IDENTIFICATION DATA ELEMENTS */
DATA_SET_ID = "MEX-M-HRSC-5-REFDR-MAPPROJECTED-V3.0"
DATA_SET_NAME = "MARS EXPRESS HRSC MAP PROJECTED REFDR V3.0"
DETECTOR_ID = MEX_HRSC_IR
EVENT_TYPE = "MARS-REGIONAL-MAPPING-Vo-Mw-La"
INSTRUMENT_HOST_ID = MEX
INSTRUMENT_HOST_NAME = "MARS EXPRESS"
INSTRUMENT_ID = HRSC
INSTRUMENT_NAME = "HIGH RESOLUTION STEREO CAMERA"
MISSION_NAME = "MARS EXPRESS"
MISSION_PHASE_NAME = ME_Phase_3
PROCESSING_LEVEL_ID = 3
PRODUCT_CREATION_TIME = 2016-04-13T11:55:32.000Z
PRODUCT_ID = "H3207_0000_IR3.JP2"
RELEASE_ID = 0040
REVISION_ID = 0000
/* QUALITY DATA ELEMENTS */
DATA_QUALITY_ID = 2
DATA_QUALITY_DESC = "Data calculated based on photogrammetrically improved orbit and attitude data"
/* TIME DATA ELEMENTS */
SPACECRAFT_CLOCK_START_COUNT = "1/0100540898.09086"
SPACECRAFT_CLOCK_STOP_COUNT = "1/0100541255.09659"
START_TIME = 2006-07-09T16:01:49.701Z
STOP_TIME = 2006-07-09T16:05:39.030Z
/* ORBITAL DATA ELEMENTS */
ASCENDING_NODE_LONGITUDE = 160.92
MAXIMUM_RESOLUTION = 134.9
FOOTPRINT_POINT_LATITUDE = (3.58154,3.60823,3.60872,3.35749, 3.10644,2.72285,2.46557,2.20854,1.82295 ,1.55943,1.29645,0.902127,0.502256, 0.233365,-0.0350645,-0.304782,-0.716928 ,-0.992042,-1.26667,-1.54584,-1.8271, -2.10751,-2.38847,-2.67596,-2.96291, -3.24936,-3.54153,-3.97808,-4.27424, -4.57148,-4.86882,-5.17019,-5.47442, -5.7779,-6.24025,-6.54808,-6.86156, -7.33183,-7.65162,-8.12981,-8.45337, -8.77318,-9.10399,-9.43442,-9.77311, -10.1043,-10.443,-10.7848,-10.9988, -11.0259,-11.0532,-11.0716,-11.0822, -10.7401,-10.3981,-10.0626,-9.72596, -9.39595,-9.06535,-8.739,-8.41352, -8.08723,-7.76581,-7.44774,-7.13403, -6.66307,-6.35507,-5.89294,-5.4392, -5.13557,-4.68959,-4.39192,-4.09555, -3.80407,-3.51216,-3.22083,-2.93512, -2.6481,-2.36247,-1.94103,-1.65958, -1.38005,-1.10557,-0.692887,-0.417605, -0.148569,0.120056,0.389572,0.789705, 1.05282,1.44765,1.71183,1.96955,2.22652 ,2.48367,2.74135,2.9966,3.24774,3.49902 ,3.58154)
FOOTPRINT_POINT_LONGITUDE = (192.278,191.849,191.455,191.45,191.444 ,191.436,191.43,191.424,191.415,191.409 ,191.403,191.393,191.384,191.377,191.37 ,191.363,191.353,191.346,191.339, 191.332,191.324,191.317,191.309,191.301 ,191.293,191.285,191.277,191.264, 191.256,191.247,191.238,191.229,191.22, 191.211,191.197,191.187,191.178,191.163 ,191.152,191.137,191.126,191.115, 191.104,191.093,191.082,191.07,191.058, 191.046,191.333,191.859,192.432,192.82, 193.069,193.062,193.055,193.049,193.043 ,193.038,193.033,193.028,193.022, 193.014,193.008,193.004,193.0,192.994, 192.99,192.985,192.98,192.976,192.972, 192.969,192.965,192.962,192.96,192.956, 192.953,192.95,192.947,192.943,192.94, 192.938,192.936,192.933,192.93,192.928, 192.926,192.924,192.921,192.92,192.918, 192.916,192.914,192.913,192.912,192.911 ,192.91,192.909,192.908,192.278)
ORBIT_NUMBER = 3207
ORBITAL_ECCENTRICITY = 0.569
ORBITAL_INCLINATION = 86.69
ORBITAL_SEMIMAJOR_AXIS = 8602.15
PERIAPSIS_ALTITUDE = 317.61
PERIAPSIS_ARGUMENT_ANGLE = 154.32
PERIAPSIS_TIME = 2006-07-09T15:56:38.000Z
SPACECRAFT_ORIENTATION = (0.0,-1.0,0.0)
^MEX_ORIENTATION_DESC = "MEX_ORIENTATION_DESC.TXT"
SPACECRAFT_POINTING_MODE = ACROSSTRACK
^MEX_POINTING_DESC = "MEX_POINTING_DESC.TXT"
RIGHT_ASCENSION = -1e+32
DECLINATION = -1e+32
OFFSET_ANGLE = 1.17
SPACECRAFT_SOLAR_DISTANCE = 2.49096e+08
TARGET_NAME = MARS
/* CAMERA DATA ELEMENTS */
DETECTOR_TEMPERATURE = 17.1471
FOCAL_PLANE_TEMPERATURE = 7.5638
INST_CMPRS_NAME = "DISCRETE COSINE TRANSFORMATION (DCT)"
INST_CMPRS_RATIO = 13.4432
INST_CMPRS_QUALITY = 0
INST_CMPRS_QUANTZ_TBL_ID = 0
INSTRUMENT_TEMPERATURE = 11.0301
LENS_TEMPERATURE = 7.9716
MACROPIXEL_SIZE = 8
MISSING_FRAMES = 0
PIXEL_SUBSAMPLING_FLAG = N
SIGNAL_CHAIN_ID = 2
/* RADIOMETRIC DATA ELEMENTS */
BANDWIDTH = 81.0
CENTER_FILTER_WAVELENGTH = 955.5
RADIANCE_OFFSET = 1.08362
RADIANCE_SCALING_FACTOR = 0.0063034
REFLECTANCE_SCALING_FACTOR = 0.000843797
MEX:REFLECTANCE_OFFSET = 0.145057
/* IMAGE OBJECT DEFINITIONS */
OBJECT = IMAGE
  INTERCHANGE_FORMAT = BINARY
  LINES = 8670
  LINE_SAMPLES = 1325
  SAMPLE_TYPE = UNSIGNED_INTEGER
  SAMPLE_BITS = 8
  BANDS = 1
  BAND_STORAGE_TYPE = BAND_SEQUENTIAL
  MAXIMUM = 255
  MEAN = 140.21
  MINIMUM = 1
  STANDARD_DEVIATION = 23.3332
END_OBJECT = IMAGE
/* MAP OBJECT DEFINITIONS */
OBJECT = IMAGE_MAP_PROJECTION
  ^DATA_SET_MAP_PROJECTION_CATALOG= "DSMAP.CAT"
  A_AXIS_RADIUS = 3396.0
  B_AXIS_RADIUS = 3396.0
  C_AXIS_RADIUS = 3396.0
  CENTER_LATITUDE = 0.0
  CENTER_LONGITUDE = 192.0
  COORDINATE_SYSTEM_NAME = PLANETOGRAPHIC
  COORDINATE_SYSTEM_TYPE = "BODY-FIXED ROTATING"
  EASTERNMOST_LONGITUDE = 193.069
  FIRST_STANDARD_PARALLEL = "N/A"
  LINE_FIRST_PIXEL = 1
  LINE_LAST_PIXEL = 8670
  LINE_PROJECTION_OFFSET = 2135.8125
  MAP_PROJECTION_ROTATION = 0.0
  MAP_PROJECTION_TYPE = SINUSOIDAL
  MAP_RESOLUTION = 592.713803866667
  MAP_SCALE = 0.1
  MAXIMUM_LATITUDE = 3.60872
  MINIMUM_LATITUDE = -11.0822
  POSITIVE_LONGITUDE_DIRECTION = EAST
  REFERENCE_LATITUDE = "N/A"
  REFERENCE_LONGITUDE = "N/A"
  SAMPLE_FIRST_PIXEL = 1
  SAMPLE_LAST_PIXEL = 1325
  SAMPLE_PROJECTION_OFFSET = 613.4375
  SECOND_STANDARD_PARALLEL = "N/A"
  WESTERNMOST_LONGITUDE = 191.046
END_OBJECT = IMAGE_MAP_PROJECTION
/* The JPEG2000 image data file associated with this label. */
OBJECT = COMPRESSED_FILE
  FILE_NAME = "H3207_0000_IR3.JP2"
  RECORD_TYPE = UNDEFINED
  FILE_RECORDS = UNK
  ENCODING_TYPE = "JP2"
  INTERCHANGE_FORMAT = BINARY
  UNCOMPRESSED_FILE_NAME = "H3207_0000_IR3.IMG"
  REQUIRED_STORAGE_BYTES = "11507625"
  ^DESCRIPTION = "JP2INFO.TXT"
END_OBJECT = COMPRESSED_FILE
END
