PDS_VERSION_ID = PDS3
/* FILE DATA ELEMENTS */
RECORD_TYPE = STREAM
/* POINTERS TO DATA OBJECTS */
^COMPRESSED_FILE = "H3207_0000_P23.JP2"
/* IDENTIFICATION DATA ELEMENTS */
DATA_SET_ID = "MEX-M-HRSC-5-REFDR-MAPPROJECTED-V3.0"
DATA_SET_NAME = "MARS EXPRESS HRSC MAP PROJECTED REFDR V3.0"
DETECTOR_ID = MEX_HRSC_P2
EVENT_TYPE = "MARS-REGIONAL-MAPPING-Vo-Mw-La"
INSTRUMENT_HOST_ID = MEX
INSTRUMENT_HOST_NAME = "MARS EXPRESS"
INSTRUMENT_ID = HRSC
INSTRUMENT_NAME = "HIGH RESOLUTION STEREO CAMERA"
MISSION_NAME = "MARS EXPRESS"
MISSION_PHASE_NAME = ME_Phase_3
PROCESSING_LEVEL_ID = 3
PRODUCT_CREATION_TIME = 2016-04-13T11:55:32.000Z
PRODUCT_ID = "H3207_0000_P23.JP2"
RELEASE_ID = 0040
REVISION_ID = 0000
/* QUALITY DATA ELEMENTS */
DATA_QUALITY_ID = 2
DATA_QUALITY_DESC = "Data calculated based on photogrammetrically improved orbit and attitude data"
/* TIME DATA ELEMENTS */
SPACECRAFT_CLOCK_START_COUNT = "1/0100540898.09086"
SPACECRAFT_CLOCK_STOP_COUNT = "1/0100541255.09659"
START_TIME = 2006-07-09T16:02:47.905Z
STOP_TIME = 2006-07-09T16:07:11.670Z
/* ORBITAL DATA ELEMENTS */
ASCENDING_NODE_LONGITUDE = 160.92
MAXIMUM_RESOLUTION = 36
FOOTPRINT_POINT_LATITUDE = (3.61927,3.61074,3.5947,3.59773,3.34538 ,3.08908,2.83326,2.57808,2.18806,1.9277 ,1.66793,1.27078,1.00612,0.741198, 0.472384,0.0687819,-0.204135,-0.61236, -0.886715,-1.16444,-1.44164,-1.86275, -2.14445,-2.572,-2.8571,-3.29092, -3.58009,-3.87521,-4.16905,-4.61482, -4.9131,-5.21485,-5.51579,-5.82152, -6.12801,-6.43865,-6.90486,-7.21863, -7.53632,-7.8549,-8.17684,-8.5009, -8.82995,-9.32219,-9.81682,-10.3235, -10.6618,-11.0428,-11.0363,-11.0265, -11.021,-11.0106,-10.9957,-10.8154, -10.4768,-9.97147,-9.63764,-9.3035, -8.97516,-8.64985,-8.3243,-8.00701, -7.68552,-7.36849,-6.89531,-6.58179, -6.27272,-5.96198,-5.50211,-5.0487, -4.74622,-4.44902,-4.15222,-3.85812, -3.41874,-3.12994,-2.83964,-2.41192, -2.12705,-1.84597,-1.56416,-1.28507, -1.00796,-0.729954,-0.458058,-0.18414, 0.0890111,0.357379,0.626055,0.894138, 1.15853,1.42392,1.68856,1.94775,2.20863 ,2.59918,2.98251,3.2386,3.61998, 3.61927)
FOOTPRINT_POINT_LONGITUDE = (192.551,192.305,191.822,191.379, 191.372,191.366,191.359,191.352,191.341 ,191.334,191.327,191.315,191.307,191.3, 191.292,191.28,191.271,191.259,191.25, 191.242,191.233,191.219,191.21,191.196, 191.186,191.171,191.161,191.151,191.14, 191.124,191.114,191.102,191.091,191.08, 191.068,191.056,191.038,191.026,191.013 ,191.0,190.987,190.973,190.96,190.939, 190.917,190.895,190.88,190.995,191.33, 191.78,192.074,192.464,192.974,193.212, 193.202,193.188,193.179,193.172,193.163 ,193.154,193.146,193.135,193.129, 193.121,193.112,193.105,193.098,193.094 ,193.086,193.077,193.074,193.068, 193.062,193.057,193.05,193.044,193.04, 193.033,193.028,193.024,193.02,193.017, 193.012,193.009,193.004,193.002,192.999 ,192.995,192.992,192.988,192.985, 192.983,192.98,192.977,192.975,192.972, 192.968,192.966,192.963,192.551)
ORBIT_NUMBER = 3207
ORBITAL_ECCENTRICITY = 0.569
ORBITAL_INCLINATION = 86.69
ORBITAL_SEMIMAJOR_AXIS = 8602.15
PERIAPSIS_ALTITUDE = 317.61
PERIAPSIS_ARGUMENT_ANGLE = 154.32
PERIAPSIS_TIME = 2006-07-09T15:56:38.000Z
SPACECRAFT_ORIENTATION = (0.0,-1.0,0.0)
^MEX_ORIENTATION_DESC = "MEX_ORIENTATION_DESC.TXT"
SPACECRAFT_POINTING_MODE = ACROSSTRACK
^MEX_POINTING_DESC = "MEX_POINTING_DESC.TXT"
RIGHT_ASCENSION = -1e+32
DECLINATION = -1e+32
OFFSET_ANGLE = 1.17
SPACECRAFT_SOLAR_DISTANCE = 2.49096e+08
TARGET_NAME = MARS
/* CAMERA DATA ELEMENTS */
DETECTOR_TEMPERATURE = 18.3705
FOCAL_PLANE_TEMPERATURE = 7.5638
INST_CMPRS_NAME = "DISCRETE COSINE TRANSFORMATION (DCT)"
INST_CMPRS_RATIO = 7.02313
INST_CMPRS_QUALITY = 0
INST_CMPRS_QUANTZ_TBL_ID = 0
INSTRUMENT_TEMPERATURE = 11.0301
LENS_TEMPERATURE = 7.9716
MACROPIXEL_SIZE = 2
MISSING_FRAMES = 0
PIXEL_SUBSAMPLING_FLAG = N
SIGNAL_CHAIN_ID = 3
/* RADIOMETRIC DATA ELEMENTS */
BANDWIDTH = 177.0
CENTER_FILTER_WAVELENGTH = 676.5
RADIANCE_OFFSET = 3.09888
RADIANCE_SCALING_FACTOR = 0.0249678
REFLECTANCE_SCALING_FACTOR = 0.000821435
MEX:REFLECTANCE_OFFSET = 0.101952
/* IMAGE OBJECT DEFINITIONS */
OBJECT = IMAGE
  INTERCHANGE_FORMAT = BINARY
  LINES = 34678
  LINE_SAMPLES = 5300
  SAMPLE_TYPE = UNSIGNED_INTEGER
  SAMPLE_BITS = 8
  BANDS = 1
  BAND_STORAGE_TYPE = BAND_SEQUENTIAL
  MAXIMUM = 255
  MEAN = 142.439
  MINIMUM = 1
  STANDARD_DEVIATION = 22.9425
END_OBJECT = IMAGE
/* MAP OBJECT DEFINITIONS */
OBJECT = IMAGE_MAP_PROJECTION
  ^DATA_SET_MAP_PROJECTION_CATALOG= "DSMAP.CAT"
  A_AXIS_RADIUS = 3396.0
  B_AXIS_RADIUS = 3396.0
  C_AXIS_RADIUS = 3396.0
  CENTER_LATITUDE = 0.0
  CENTER_LONGITUDE = 192.0
  COORDINATE_SYSTEM_NAME = PLANETOGRAPHIC
  COORDINATE_SYSTEM_TYPE = "BODY-FIXED ROTATING"
  EASTERNMOST_LONGITUDE = 193.212
  FIRST_STANDARD_PARALLEL = "N/A"
  LINE_FIRST_PIXEL = 1
  LINE_LAST_PIXEL = 34678
  LINE_PROJECTION_OFFSET = 8544.75
  MAP_PROJECTION_ROTATION = 0.0
  MAP_PROJECTION_TYPE = SINUSOIDAL
  MAP_RESOLUTION = 2370.85521546667
  MAP_SCALE = 0.025
  MAXIMUM_LATITUDE = 3.61998
  MINIMUM_LATITUDE = -11.0428
  POSITIVE_LONGITUDE_DIRECTION = EAST
  REFERENCE_LATITUDE = "N/A"
  REFERENCE_LONGITUDE = "N/A"
  SAMPLE_FIRST_PIXEL = 1
  SAMPLE_LAST_PIXEL = 5300
  SAMPLE_PROJECTION_OFFSET = 2455.25
  SECOND_STANDARD_PARALLEL = "N/A"
  WESTERNMOST_LONGITUDE = 190.88
END_OBJECT = IMAGE_MAP_PROJECTION
/* The JPEG2000 image data file associated with this label. */
OBJECT = COMPRESSED_FILE
  FILE_NAME = "H3207_0000_P23.JP2"
  RECORD_TYPE = UNDEFINED
  FILE_RECORDS = UNK
  ENCODING_TYPE = "JP2"
  INTERCHANGE_FORMAT = BINARY
  UNCOMPRESSED_FILE_NAME = "H3207_0000_P23.IMG"
  REQUIRED_STORAGE_BYTES = "183819900"
  ^DESCRIPTION = "JP2INFO.TXT"
END_OBJECT = COMPRESSED_FILE
END
