PDS_VERSION_ID = PDS3
/* FILE DATA ELEMENTS */
RECORD_TYPE = STREAM
/* POINTERS TO DATA OBJECTS */
^COMPRESSED_FILE = "H3211_0000_ND3.JP2"
/* IDENTIFICATION DATA ELEMENTS */
DATA_SET_ID = "MEX-M-HRSC-5-REFDR-MAPPROJECTED-V3.0"
DATA_SET_NAME = "MARS EXPRESS HRSC MAP PROJECTED REFDR V3.0"
DETECTOR_ID = MEX_HRSC_NADIR
EVENT_TYPE = "MARS-REGIONAL-MAPPING-Vo-Im-Fl"
INSTRUMENT_HOST_ID = MEX
INSTRUMENT_HOST_NAME = "MARS EXPRESS"
INSTRUMENT_ID = HRSC
INSTRUMENT_NAME = "HIGH RESOLUTION STEREO CAMERA"
MISSION_NAME = "MARS EXPRESS"
MISSION_PHASE_NAME = ME_Phase_3
PROCESSING_LEVEL_ID = 3
PRODUCT_CREATION_TIME = 2016-04-13T11:55:32.000Z
PRODUCT_ID = "H3211_0000_ND3.JP2"
RELEASE_ID = 0040
REVISION_ID = 0000
/* QUALITY DATA ELEMENTS */
DATA_QUALITY_ID = 2
DATA_QUALITY_DESC = "Data calculated based on photogrammetrically improved orbit and attitude data"
/* TIME DATA ELEMENTS */
SPACECRAFT_CLOCK_START_COUNT = "1/0100637036.08273"
SPACECRAFT_CLOCK_STOP_COUNT = "1/0100637226.22743"
START_TIME = 2006-07-10T18:44:40.346Z
STOP_TIME = 2006-07-10T18:46:38.357Z
/* ORBITAL DATA ELEMENTS */
ASCENDING_NODE_LONGITUDE = 160.83
MAXIMUM_RESOLUTION = 14
FOOTPRINT_POINT_LATITUDE = (44.4832,44.482,44.4799,44.4769,44.4732 ,44.4687,44.465,44.3053,44.1454,43.9855 ,43.8254,43.6653,43.505,43.3447,43.1842 ,43.0237,42.863,42.7023,42.5415,42.3805 ,42.2195,42.0584,41.8971,41.7358, 41.5744,41.4129,41.2514,41.0897,40.9279 ,40.7661,40.6042,40.4422,40.2801, 40.1179,39.9556,39.7151,39.4428,39.1703 ,38.8976,38.6246,38.3515,38.0782, 37.8046,37.6678,37.5309,37.3939,37.2569 ,37.1199,36.9051,36.9072,36.9092, 36.9108,36.9121,36.9125,36.9812,37.1184 ,37.2556,37.3927,37.5299,37.6669, 37.8039,37.9409,38.0778,38.2147,38.3515 ,38.625,38.8983,39.1714,39.4443,39.7169 ,39.956,40.1185,40.2809,40.4432,40.6055 ,40.7677,40.9298,41.0918,41.2537, 41.4156,41.5773,41.739,41.9006,42.0621, 42.2235,42.3848,42.546,42.7072,42.8682, 43.0291,43.19,43.3508,43.5114,43.672, 43.8325,43.9928,44.1531,44.3133,44.4733 ,44.4832)
FOOTPRINT_POINT_LONGITUDE = (160.084,159.763,159.448,159.137, 158.831,158.529,158.254,158.263,158.271 ,158.279,158.287,158.295,158.303, 158.311,158.318,158.326,158.333,158.341 ,158.348,158.355,158.362,158.369, 158.376,158.382,158.389,158.396,158.402 ,158.408,158.414,158.421,158.427, 158.433,158.439,158.444,158.45,158.458, 158.467,158.476,158.485,158.493,158.501 ,158.509,158.517,158.52,158.524,158.528 ,158.531,158.535,158.6,158.799,159.046, 159.298,159.635,159.914,160.157,160.159 ,160.161,160.164,160.166,160.168, 160.171,160.173,160.175,160.177,160.179 ,160.184,160.188,160.192,160.196,160.2, 160.203,160.206,160.209,160.211,160.214 ,160.217,160.224,160.224,160.226,160.23 ,160.232,160.235,160.238,160.241, 160.244,160.248,160.252,160.255,160.258 ,160.26,160.264,160.268,160.271,160.274 ,160.277,160.281,160.284,160.287,160.29 ,160.084)
ORBIT_NUMBER = 3211
ORBITAL_ECCENTRICITY = 0.569
ORBITAL_INCLINATION = 86.68
ORBITAL_SEMIMAJOR_AXIS = 8603.66
PERIAPSIS_ALTITUDE = 318.48
PERIAPSIS_ARGUMENT_ANGLE = 153.63
PERIAPSIS_TIME = 2006-07-10T18:49:20.000Z
SPACECRAFT_ORIENTATION = (0.0,-1.0,0.0)
^MEX_ORIENTATION_DESC = "MEX_ORIENTATION_DESC.TXT"
SPACECRAFT_POINTING_MODE = ACROSSTRACK
^MEX_POINTING_DESC = "MEX_POINTING_DESC.TXT"
RIGHT_ASCENSION = -1e+32
DECLINATION = -1e+32
OFFSET_ANGLE = 1.28
SPACECRAFT_SOLAR_DISTANCE = 2.49073e+08
TARGET_NAME = MARS
/* CAMERA DATA ELEMENTS */
DETECTOR_TEMPERATURE = 17.9627
FOCAL_PLANE_TEMPERATURE = 7.3599
INST_CMPRS_NAME = "DISCRETE COSINE TRANSFORMATION (DCT)"
INST_CMPRS_RATIO = 6.6726
INST_CMPRS_QUALITY = 0
INST_CMPRS_QUANTZ_TBL_ID = 0
INSTRUMENT_TEMPERATURE = 10.8262
LENS_TEMPERATURE = 7.9716
MACROPIXEL_SIZE = 1
MISSING_FRAMES = 0
PIXEL_SUBSAMPLING_FLAG = N
SIGNAL_CHAIN_ID = 0
/* RADIOMETRIC DATA ELEMENTS */
BANDWIDTH = 177.0
CENTER_FILTER_WAVELENGTH = 677.5
RADIANCE_OFFSET = 3.52004
RADIANCE_SCALING_FACTOR = 0.0257676
REFLECTANCE_SCALING_FACTOR = 0.000849201
MEX:REFLECTANCE_OFFSET = 0.116007
/* IMAGE OBJECT DEFINITIONS */
OBJECT = IMAGE
  INTERCHANGE_FORMAT = BINARY
  LINES = 35954
  LINE_SAMPLES = 7349
  SAMPLE_TYPE = UNSIGNED_INTEGER
  SAMPLE_BITS = 8
  BANDS = 1
  BAND_STORAGE_TYPE = BAND_SEQUENTIAL
  MAXIMUM = 255
  MEAN = 187.447
  MINIMUM = 1
  STANDARD_DEVIATION = 12.3023
END_OBJECT = IMAGE
/* MAP OBJECT DEFINITIONS */
OBJECT = IMAGE_MAP_PROJECTION
  ^DATA_SET_MAP_PROJECTION_CATALOG= "DSMAP.CAT"
  A_AXIS_RADIUS = 3396.0
  B_AXIS_RADIUS = 3396.0
  C_AXIS_RADIUS = 3396.0
  CENTER_LATITUDE = 0.0
  CENTER_LONGITUDE = 159.0
  COORDINATE_SYSTEM_NAME = PLANETOGRAPHIC
  COORDINATE_SYSTEM_TYPE = "BODY-FIXED ROTATING"
  EASTERNMOST_LONGITUDE = 160.29
  FIRST_STANDARD_PARALLEL = "N/A"
  LINE_FIRST_PIXEL = 1
  LINE_LAST_PIXEL = 35954
  LINE_PROJECTION_OFFSET = 210939.0
  MAP_PROJECTION_ROTATION = 0.0
  MAP_PROJECTION_TYPE = SINUSOIDAL
  MAP_RESOLUTION = 4741.71043093333
  MAP_SCALE = 0.0125
  MAXIMUM_LATITUDE = 44.4832
  MINIMUM_LATITUDE = 36.9051
  POSITIVE_LONGITUDE_DIRECTION = EAST
  REFERENCE_LATITUDE = "N/A"
  REFERENCE_LONGITUDE = "N/A"
  SAMPLE_FIRST_PIXEL = 1
  SAMPLE_LAST_PIXEL = 7349
  SAMPLE_PROJECTION_OFFSET = 2614.0
  SECOND_STANDARD_PARALLEL = "N/A"
  WESTERNMOST_LONGITUDE = 158.254
END_OBJECT = IMAGE_MAP_PROJECTION
/* The JPEG2000 image data file associated with this label. */
OBJECT = COMPRESSED_FILE
  FILE_NAME = "H3211_0000_ND3.JP2"
  RECORD_TYPE = UNDEFINED
  FILE_RECORDS = UNK
  ENCODING_TYPE = "JP2"
  INTERCHANGE_FORMAT = BINARY
  UNCOMPRESSED_FILE_NAME = "H3211_0000_ND3.IMG"
  REQUIRED_STORAGE_BYTES = "264255342"
  ^DESCRIPTION = "JP2INFO.TXT"
END_OBJECT = COMPRESSED_FILE
END
