PDS_VERSION_ID = PDS3
/* FILE DATA ELEMENTS */
RECORD_TYPE = STREAM
/* POINTERS TO DATA OBJECTS */
^COMPRESSED_FILE = "H3217_0000_GR3.JP2"
/* IDENTIFICATION DATA ELEMENTS */
DATA_SET_ID = "MEX-M-HRSC-5-REFDR-MAPPROJECTED-V3.0"
DATA_SET_NAME = "MARS EXPRESS HRSC MAP PROJECTED REFDR V3.0"
DETECTOR_ID = MEX_HRSC_GREEN
EVENT_TYPE = "MARS-REGIONAL-MAPPING-Vo-Te-La"
INSTRUMENT_HOST_ID = MEX
INSTRUMENT_HOST_NAME = "MARS EXPRESS"
INSTRUMENT_ID = HRSC
INSTRUMENT_NAME = "HIGH RESOLUTION STEREO CAMERA"
MISSION_NAME = "MARS EXPRESS"
MISSION_PHASE_NAME = ME_Phase_3
PROCESSING_LEVEL_ID = 3
PRODUCT_CREATION_TIME = 2016-04-13T11:55:32.000Z
PRODUCT_ID = "H3217_0000_GR3.JP2"
RELEASE_ID = 0040
REVISION_ID = 0000
/* QUALITY DATA ELEMENTS */
DATA_QUALITY_ID = 2
DATA_QUALITY_DESC = "Data calculated based on photogrammetrically improved orbit and attitude data"
/* TIME DATA ELEMENTS */
SPACECRAFT_CLOCK_START_COUNT = "1/0100782441.07295"
SPACECRAFT_CLOCK_STOP_COUNT = "1/0100782768.24503"
START_TIME = 2006-07-12T11:07:51.887Z
STOP_TIME = 2006-07-12T11:12:09.213Z
/* ORBITAL DATA ELEMENTS */
ASCENDING_NODE_LONGITUDE = 160.71
MAXIMUM_RESOLUTION = 105.7
FOOTPRINT_POINT_LATITUDE = (28.9731,28.9562,28.9369,28.9263, 28.9062,28.4144,28.0869,27.7575,27.2656 ,26.7736,26.4456,25.9538,25.6254, 25.2984,24.9688,24.6406,24.1481,23.8198 ,23.3271,22.999,22.6706,22.3422,22.0139 ,21.686,21.3581,21.0305,20.703,20.3755, 19.8843,19.5569,19.2296,18.9025,18.4121 ,18.087,17.7584,17.4317,17.1054,16.7794 ,16.4536,15.9651,15.6398,15.3147, 14.9898,14.6652,14.1786,13.8057,13.4198 ,13.2257,12.8399,12.4545,12.1796, 12.1867,12.1969,12.2013,12.2108,12.7898 ,13.1758,13.5627,13.9498,14.4683, 14.7935,15.1195,15.4451,15.771,16.0971, 16.5858,17.0758,17.5669,18.0565,18.3835 ,18.7109,19.0385,19.3656,19.6933, 20.0209,20.349,20.6782,21.1714,21.4994, 21.8271,22.1565,22.6501,22.9785,23.4722 ,23.8013,24.2948,24.6239,24.9529,25.282 ,25.6112,25.9402,26.2692,26.7625, 27.0913,27.4201,27.7489,28.0775,28.4061 ,28.7347,28.9731)
FOOTPRINT_POINT_LONGITUDE = (286.538,286.127,285.693,285.468, 285.163,285.183,285.199,285.202,285.223 ,285.243,285.256,285.278,285.288, 285.309,285.311,285.321,285.337,285.346 ,285.358,285.367,285.375,285.381, 285.388,285.395,285.404,285.413,285.421 ,285.429,285.439,285.444,285.45,285.455 ,285.463,285.479,285.469,285.471, 285.475,285.479,285.483,285.487,285.49, 285.493,285.495,285.497,285.5,285.503, 285.508,285.501,285.502,285.503,285.616 ,285.89,286.341,286.551,286.941,286.934 ,286.927,286.921,286.916,286.909, 286.904,286.903,286.898,286.893,286.889 ,286.878,286.871,286.867,286.854, 286.847,286.841,286.835,286.827,286.82, 286.812,286.806,286.804,286.797,286.788 ,286.777,286.774,286.766,286.757, 286.748,286.742,286.731,286.724,286.716 ,286.709,286.702,286.694,286.686, 286.673,286.664,286.655,286.647,286.638 ,286.628,286.619,286.538)
ORBIT_NUMBER = 3217
ORBITAL_ECCENTRICITY = 0.569
ORBITAL_INCLINATION = 86.68
ORBITAL_SEMIMAJOR_AXIS = 8608.37
PERIAPSIS_ALTITUDE = 318.88
PERIAPSIS_ARGUMENT_ANGLE = 152.57
PERIAPSIS_TIME = 2006-07-12T11:08:21.000Z
SPACECRAFT_ORIENTATION = (0.0,-1.0,0.0)
^MEX_ORIENTATION_DESC = "MEX_ORIENTATION_DESC.TXT"
SPACECRAFT_POINTING_MODE = ACROSSTRACK
^MEX_POINTING_DESC = "MEX_POINTING_DESC.TXT"
RIGHT_ASCENSION = -1e+32
DECLINATION = -1e+32
OFFSET_ANGLE = -1.95
SPACECRAFT_SOLAR_DISTANCE = 2.49034e+08
TARGET_NAME = MARS
/* CAMERA DATA ELEMENTS */
DETECTOR_TEMPERATURE = 18.3705
FOCAL_PLANE_TEMPERATURE = 7.5638
INST_CMPRS_NAME = "DISCRETE COSINE TRANSFORMATION (DCT)"
INST_CMPRS_RATIO = 10.0387
INST_CMPRS_QUALITY = 0
INST_CMPRS_QUANTZ_TBL_ID = 0
INSTRUMENT_TEMPERATURE = 11.0301
LENS_TEMPERATURE = 8.1755
MACROPIXEL_SIZE = 8
MISSING_FRAMES = 0
PIXEL_SUBSAMPLING_FLAG = N
SIGNAL_CHAIN_ID = 2
/* RADIOMETRIC DATA ELEMENTS */
BANDWIDTH = 88.0
CENTER_FILTER_WAVELENGTH = 538.0
RADIANCE_OFFSET = 1.50643
RADIANCE_SCALING_FACTOR = 0.00604494
REFLECTANCE_SCALING_FACTOR = 0.000322774
MEX:REFLECTANCE_OFFSET = 0.0804368
/* IMAGE OBJECT DEFINITIONS */
OBJECT = IMAGE
  INTERCHANGE_FORMAT = BINARY
  LINES = 9936
  LINE_SAMPLES = 1085
  SAMPLE_TYPE = UNSIGNED_INTEGER
  SAMPLE_BITS = 8
  BANDS = 1
  BAND_STORAGE_TYPE = BAND_SEQUENTIAL
  MAXIMUM = 255
  MEAN = 134.949
  MINIMUM = 1
  STANDARD_DEVIATION = 27.316
END_OBJECT = IMAGE
/* MAP OBJECT DEFINITIONS */
OBJECT = IMAGE_MAP_PROJECTION
  ^DATA_SET_MAP_PROJECTION_CATALOG= "DSMAP.CAT"
  A_AXIS_RADIUS = 3396.0
  B_AXIS_RADIUS = 3396.0
  C_AXIS_RADIUS = 3396.0
  CENTER_LATITUDE = 0.0
  CENTER_LONGITUDE = 286.0
  COORDINATE_SYSTEM_NAME = PLANETOGRAPHIC
  COORDINATE_SYSTEM_TYPE = "BODY-FIXED ROTATING"
  EASTERNMOST_LONGITUDE = 286.941
  FIRST_STANDARD_PARALLEL = "N/A"
  LINE_FIRST_PIXEL = 1
  LINE_LAST_PIXEL = 9936
  LINE_PROJECTION_OFFSET = 17168.8125
  MAP_PROJECTION_ROTATION = 0.0
  MAP_PROJECTION_TYPE = SINUSOIDAL
  MAP_RESOLUTION = 592.713803866667
  MAP_SCALE = 0.1
  MAXIMUM_LATITUDE = 28.9731
  MINIMUM_LATITUDE = 12.1796
  POSITIVE_LONGITUDE_DIRECTION = EAST
  REFERENCE_LATITUDE = "N/A"
  REFERENCE_LONGITUDE = "N/A"
  SAMPLE_FIRST_PIXEL = 1
  SAMPLE_LAST_PIXEL = 1085
  SAMPLE_PROJECTION_OFFSET = 533.5625
  SECOND_STANDARD_PARALLEL = "N/A"
  WESTERNMOST_LONGITUDE = 285.163
END_OBJECT = IMAGE_MAP_PROJECTION
/* The JPEG2000 image data file associated with this label. */
OBJECT = COMPRESSED_FILE
  FILE_NAME = "H3217_0000_GR3.JP2"
  RECORD_TYPE = UNDEFINED
  FILE_RECORDS = UNK
  ENCODING_TYPE = "JP2"
  INTERCHANGE_FORMAT = BINARY
  UNCOMPRESSED_FILE_NAME = "H3217_0000_GR3.IMG"
  REQUIRED_STORAGE_BYTES = "10799005"
  ^DESCRIPTION = "JP2INFO.TXT"
END_OBJECT = COMPRESSED_FILE
END
