PDS_VERSION_ID = PDS3
/* FILE DATA ELEMENTS */
RECORD_TYPE = STREAM
/* POINTERS TO DATA OBJECTS */
^COMPRESSED_FILE = "H3220_0000_P23.JP2"
/* IDENTIFICATION DATA ELEMENTS */
DATA_SET_ID = "MEX-M-HRSC-5-REFDR-MAPPROJECTED-V3.0"
DATA_SET_NAME = "MARS EXPRESS HRSC MAP PROJECTED REFDR V3.0"
DETECTOR_ID = MEX_HRSC_P2
EVENT_TYPE = "MARS-REGIONAL-MAPPING-Im-Lc"
INSTRUMENT_HOST_ID = MEX
INSTRUMENT_HOST_NAME = "MARS EXPRESS"
INSTRUMENT_ID = HRSC
INSTRUMENT_NAME = "HIGH RESOLUTION STEREO CAMERA"
MISSION_NAME = "MARS EXPRESS"
MISSION_PHASE_NAME = ME_Phase_3
PROCESSING_LEVEL_ID = 3
PRODUCT_CREATION_TIME = 2016-04-13T11:55:32.000Z
PRODUCT_ID = "H3220_0000_P23.JP2"
RELEASE_ID = 0040
REVISION_ID = 0000
/* QUALITY DATA ELEMENTS */
DATA_QUALITY_ID = 2
DATA_QUALITY_DESC = "Data calculated based on photogrammetrically improved orbit and attitude data"
/* TIME DATA ELEMENTS */
SPACECRAFT_CLOCK_START_COUNT = "1/0100854997.07276"
SPACECRAFT_CLOCK_STOP_COUNT = "1/0100855194.15080"
START_TIME = 2006-07-13T07:17:31.193Z
STOP_TIME = 2006-07-13T07:19:46.793Z
/* ORBITAL DATA ELEMENTS */
ASCENDING_NODE_LONGITUDE = 160.66
MAXIMUM_RESOLUTION = 53.3
FOOTPRINT_POINT_LATITUDE = (30.4374,30.4231,30.4135,30.4039, 30.3944,30.4046,30.2244,30.0507,29.876, 29.615,29.441,29.2677,29.0933,28.9177, 28.7436,28.5706,28.3107,28.1371,27.8775 ,27.6173,27.4439,27.2707,27.0975, 26.8382,26.6652,26.489,26.3103,26.1316, 25.8636,25.6853,25.507,25.3288,25.1504, 24.972,24.7935,24.5267,24.2594,24.0813, 23.9034,23.6367,23.3703,23.1924,22.9268 ,22.7486,22.5716,22.395,22.1291,21.9518 ,21.774,21.5972,21.5755,21.5884,21.6024 ,21.6115,21.6245,21.801,21.9778,22.1551 ,22.3318,22.5088,22.6861,22.952,23.1297 ,23.3074,23.5741,23.7519,23.9299, 24.1072,24.287,24.5529,24.7313,24.9095, 25.088,25.2667,25.4453,25.7131,25.8917, 26.0715,26.3387,26.5182,26.6952,26.8673 ,27.041,27.2145,27.3875,27.5612,27.7337 ,27.9107,28.1759,28.3531,28.5273,28.697 ,28.8748,29.049,29.2211,29.6443,29.9069 ,30.0816,30.2557,30.4374)
FOOTPRINT_POINT_LONGITUDE = (355.352,355.038,354.834,354.632, 354.434,354.059,354.061,354.062,354.063 ,354.065,354.067,354.068,354.069, 354.069,354.07,354.071,354.073,354.074, 354.076,354.077,354.077,354.078,354.078 ,354.079,354.08,354.08,354.08,354.081, 354.081,354.081,354.082,354.082,354.082 ,354.082,354.081,354.081,354.081,354.08 ,354.08,354.079,354.078,354.077,354.077 ,354.075,354.075,354.074,354.073, 354.071,354.07,354.069,354.339,354.604, 354.9,355.1,355.385,355.386,355.387, 355.388,355.388,355.389,355.39,355.391, 355.393,355.394,355.396,355.397,355.398 ,355.398,355.401,355.401,355.402, 355.403,355.404,355.406,355.407,355.408 ,355.409,355.412,355.412,355.414, 355.414,355.414,355.416,355.417,355.418 ,355.419,355.419,355.426,355.435, 355.442,355.444,355.439,355.446,355.448 ,355.447,355.431,355.435,355.438, 355.439,355.352)
ORBIT_NUMBER = 3220
ORBITAL_ECCENTRICITY = 0.569
ORBITAL_INCLINATION = 86.68
ORBITAL_SEMIMAJOR_AXIS = 8601.87
PERIAPSIS_ALTITUDE = 319.66
PERIAPSIS_ARGUMENT_ANGLE = 152.0
PERIAPSIS_TIME = 2006-07-13T07:17:49.000Z
SPACECRAFT_ORIENTATION = (0.0,-1.0,0.0)
^MEX_ORIENTATION_DESC = "MEX_ORIENTATION_DESC.TXT"
SPACECRAFT_POINTING_MODE = ACROSSTRACK
^MEX_POINTING_DESC = "MEX_POINTING_DESC.TXT"
RIGHT_ASCENSION = -1e+32
DECLINATION = -1e+32
OFFSET_ANGLE = 1.15
SPACECRAFT_SOLAR_DISTANCE = 2.49013e+08
TARGET_NAME = MARS
/* CAMERA DATA ELEMENTS */
DETECTOR_TEMPERATURE = 18.5744
FOCAL_PLANE_TEMPERATURE = 8.3794
INST_CMPRS_NAME = "DISCRETE COSINE TRANSFORMATION (DCT)"
INST_CMPRS_RATIO = 8.95998
INST_CMPRS_QUALITY = 0
INST_CMPRS_QUANTZ_TBL_ID = 0
INSTRUMENT_TEMPERATURE = 11.234
LENS_TEMPERATURE = 8.5833
MACROPIXEL_SIZE = 4
MISSING_FRAMES = 0
PIXEL_SUBSAMPLING_FLAG = N
SIGNAL_CHAIN_ID = 3
/* RADIOMETRIC DATA ELEMENTS */
BANDWIDTH = 177.0
CENTER_FILTER_WAVELENGTH = 676.5
RADIANCE_OFFSET = 3.37192
RADIANCE_SCALING_FACTOR = 0.0252865
REFLECTANCE_SCALING_FACTOR = 0.000831358
MEX:REFLECTANCE_OFFSET = 0.11086
/* IMAGE OBJECT DEFINITIONS */
OBJECT = IMAGE
  INTERCHANGE_FORMAT = BINARY
  LINES = 10491
  LINE_SAMPLES = 1578
  SAMPLE_TYPE = UNSIGNED_INTEGER
  SAMPLE_BITS = 8
  BANDS = 1
  BAND_STORAGE_TYPE = BAND_SEQUENTIAL
  MAXIMUM = 255
  MEAN = 163.026
  MINIMUM = 1
  STANDARD_DEVIATION = 21.031
END_OBJECT = IMAGE
/* MAP OBJECT DEFINITIONS */
OBJECT = IMAGE_MAP_PROJECTION
  ^DATA_SET_MAP_PROJECTION_CATALOG= "DSMAP.CAT"
  A_AXIS_RADIUS = 3396.0
  B_AXIS_RADIUS = 3396.0
  C_AXIS_RADIUS = 3396.0
  CENTER_LATITUDE = 0.0
  CENTER_LONGITUDE = 355.0
  COORDINATE_SYSTEM_NAME = PLANETOGRAPHIC
  COORDINATE_SYSTEM_TYPE = "BODY-FIXED ROTATING"
  EASTERNMOST_LONGITUDE = 355.448
  FIRST_STANDARD_PARALLEL = "N/A"
  LINE_FIRST_PIXEL = 1
  LINE_LAST_PIXEL = 10491
  LINE_PROJECTION_OFFSET = 36073.125
  MAP_PROJECTION_ROTATION = 0.0
  MAP_PROJECTION_TYPE = SINUSOIDAL
  MAP_RESOLUTION = 1185.42760773333
  MAP_SCALE = 0.05
  MAXIMUM_LATITUDE = 30.4374
  MINIMUM_LATITUDE = 21.5755
  POSITIVE_LONGITUDE_DIRECTION = EAST
  REFERENCE_LATITUDE = "N/A"
  REFERENCE_LONGITUDE = "N/A"
  SAMPLE_FIRST_PIXEL = 1
  SAMPLE_LAST_PIXEL = 1578
  SAMPLE_PROJECTION_OFFSET = 1030.875
  SECOND_STANDARD_PARALLEL = "N/A"
  WESTERNMOST_LONGITUDE = 354.059
END_OBJECT = IMAGE_MAP_PROJECTION
/* The JPEG2000 image data file associated with this label. */
OBJECT = COMPRESSED_FILE
  FILE_NAME = "H3220_0000_P23.JP2"
  RECORD_TYPE = UNDEFINED
  FILE_RECORDS = UNK
  ENCODING_TYPE = "JP2"
  INTERCHANGE_FORMAT = BINARY
  UNCOMPRESSED_FILE_NAME = "H3220_0000_P23.IMG"
  REQUIRED_STORAGE_BYTES = "16573734"
  ^DESCRIPTION = "JP2INFO.TXT"
END_OBJECT = COMPRESSED_FILE
END
