PDS_VERSION_ID = PDS3
/* FILE DATA ELEMENTS */
RECORD_TYPE = STREAM
/* POINTERS TO DATA OBJECTS */
^COMPRESSED_FILE = "H3220_0001_P13.JP2"
/* IDENTIFICATION DATA ELEMENTS */
DATA_SET_ID = "MEX-M-HRSC-5-REFDR-MAPPROJECTED-V3.0"
DATA_SET_NAME = "MARS EXPRESS HRSC MAP PROJECTED REFDR V3.0"
DETECTOR_ID = MEX_HRSC_P1
EVENT_TYPE = "MARS-REGIONAL-MAPPING-Lc-La-Ot"
INSTRUMENT_HOST_ID = MEX
INSTRUMENT_HOST_NAME = "MARS EXPRESS"
INSTRUMENT_ID = HRSC
INSTRUMENT_NAME = "HIGH RESOLUTION STEREO CAMERA"
MISSION_NAME = "MARS EXPRESS"
MISSION_PHASE_NAME = ME_Phase_3
PROCESSING_LEVEL_ID = 3
PRODUCT_CREATION_TIME = 2016-04-13T11:55:32.000Z
PRODUCT_ID = "H3220_0001_P13.JP2"
RELEASE_ID = 0040
REVISION_ID = 0000
/* QUALITY DATA ELEMENTS */
DATA_QUALITY_ID = 2
DATA_QUALITY_DESC = "Data calculated based on photogrammetrically improved orbit and attitude data"
/* TIME DATA ELEMENTS */
SPACECRAFT_CLOCK_START_COUNT = "1/0100855482.09074"
SPACECRAFT_CLOCK_STOP_COUNT = "1/0100855810.52521"
START_TIME = 2006-07-13T07:25:02.266Z
STOP_TIME = 2006-07-13T07:28:06.043Z
/* ORBITAL DATA ELEMENTS */
ASCENDING_NODE_LONGITUDE = 160.66
MAXIMUM_RESOLUTION = 39.3
FOOTPRINT_POINT_LATITUDE = (-1.49895,-1.48596,-1.47331,-1.46107, -1.44925,-1.43781,-1.43607,-1.73656, -2.13724,-2.54424,-2.74815,-2.95484, -3.15788,-3.36677,-3.57475,-3.88607, -4.09451,-4.30835,-4.52313,-4.73363, -4.94711,-5.16225,-5.37786,-5.59623, -5.81492,-6.03315,-6.25449,-6.47791, -6.81252,-7.14866,-7.37414,-7.60214, -7.94713,-8.29421,-8.52753,-8.76014, -8.996,-9.23244,-9.4688,-9.70832, -9.94717,-10.1865,-10.4295,-10.6735, -10.9203,-11.1662,-11.5392,-11.7888, -12.1668,-12.42,-12.6757,-12.6991, -12.7102,-12.7177,-12.7293,-12.7465, -12.771,-12.5151,-12.1355,-11.8825, -11.6328,-11.2616,-11.0124,-10.7656, -10.5222,-10.2786,-10.037,-9.79755, -9.43887,-9.20248,-8.84818,-8.49848, -8.26485,-8.03501,-7.80659,-7.57688, -7.35114,-7.12562,-6.90041,-6.56706, -6.34444,-6.12242,-5.90372,-5.68607, -5.35942,-5.03719,-4.82189,-4.50209, -4.29103,-4.07949,-3.8686,-3.55765, -3.35014,-3.14167,-2.93747,-2.73327, -2.52881,-2.22379,-1.82329,-1.49895)
FOOTPRINT_POINT_LONGITUDE = (355.249,354.978,354.71,354.445,354.183 ,353.924,353.679,353.67,353.658,353.646 ,353.64,353.634,353.627,353.62,353.614, 353.604,353.597,353.59,353.584,353.576, 353.569,353.562,353.555,353.547,353.54, 353.532,353.524,353.517,353.505,353.493 ,353.485,353.477,353.464,353.452, 353.443,353.435,353.426,353.417,353.408 ,353.399,353.389,353.38,353.37,353.361, 353.351,353.341,353.326,353.316,353.3, 353.29,353.279,353.605,353.934,354.155, 354.489,354.939,355.588,355.582,355.573 ,355.566,355.561,355.554,355.546, 355.541,355.535,355.529,355.525,355.52, 355.512,355.507,355.5,355.493,355.488, 355.483,355.48,355.476,355.472,355.468, 355.465,355.46,355.457,355.453,355.449, 355.447,355.442,355.438,355.435,355.43, 355.428,355.425,355.422,355.419,355.417 ,355.414,355.411,355.409,355.406, 355.403,355.399,355.249)
ORBIT_NUMBER = 3220
ORBITAL_ECCENTRICITY = 0.569
ORBITAL_INCLINATION = 86.68
ORBITAL_SEMIMAJOR_AXIS = 8601.87
PERIAPSIS_ALTITUDE = 319.66
PERIAPSIS_ARGUMENT_ANGLE = 152.0
PERIAPSIS_TIME = 2006-07-13T07:17:49.000Z
SPACECRAFT_ORIENTATION = (0.0,-1.0,0.0)
^MEX_ORIENTATION_DESC = "MEX_ORIENTATION_DESC.TXT"
SPACECRAFT_POINTING_MODE = ACROSSTRACK
^MEX_POINTING_DESC = "MEX_POINTING_DESC.TXT"
RIGHT_ASCENSION = -1e+32
DECLINATION = -1e+32
OFFSET_ANGLE = 1.15
SPACECRAFT_SOLAR_DISTANCE = 2.49013e+08
TARGET_NAME = MARS
/* CAMERA DATA ELEMENTS */
DETECTOR_TEMPERATURE = 18.5744
FOCAL_PLANE_TEMPERATURE = 8.3794
INST_CMPRS_NAME = "DISCRETE COSINE TRANSFORMATION (DCT)"
INST_CMPRS_RATIO = 10.802
INST_CMPRS_QUALITY = 0
INST_CMPRS_QUANTZ_TBL_ID = 0
INSTRUMENT_TEMPERATURE = 12.8652
LENS_TEMPERATURE = 8.9911
MACROPIXEL_SIZE = 2
MISSING_FRAMES = 0
PIXEL_SUBSAMPLING_FLAG = N
SIGNAL_CHAIN_ID = 3
/* RADIOMETRIC DATA ELEMENTS */
BANDWIDTH = 174.0
CENTER_FILTER_WAVELENGTH = 675.0
RADIANCE_OFFSET = 2.13321
RADIANCE_SCALING_FACTOR = 0.0171294
REFLECTANCE_SCALING_FACTOR = 0.000571308
MEX:REFLECTANCE_OFFSET = 0.0711478
/* IMAGE OBJECT DEFINITIONS */
OBJECT = IMAGE
  INTERCHANGE_FORMAT = BINARY
  LINES = 13346
  LINE_SAMPLES = 2922
  SAMPLE_TYPE = UNSIGNED_INTEGER
  SAMPLE_BITS = 8
  BANDS = 1
  BAND_STORAGE_TYPE = BAND_SEQUENTIAL
  MAXIMUM = 255
  MEAN = 92.1663
  MINIMUM = 1
  STANDARD_DEVIATION = 27.4691
END_OBJECT = IMAGE
/* MAP OBJECT DEFINITIONS */
OBJECT = IMAGE_MAP_PROJECTION
  ^DATA_SET_MAP_PROJECTION_CATALOG= "DSMAP.CAT"
  A_AXIS_RADIUS = 3396.0
  B_AXIS_RADIUS = 3396.0
  C_AXIS_RADIUS = 3396.0
  CENTER_LATITUDE = 0.0
  CENTER_LONGITUDE = 354.0
  COORDINATE_SYSTEM_NAME = PLANETOGRAPHIC
  COORDINATE_SYSTEM_TYPE = "BODY-FIXED ROTATING"
  EASTERNMOST_LONGITUDE = 355.588
  FIRST_STANDARD_PARALLEL = "N/A"
  LINE_FIRST_PIXEL = 1
  LINE_LAST_PIXEL = 13346
  LINE_PROJECTION_OFFSET = -1715.25
  MAP_PROJECTION_ROTATION = 0.0
  MAP_PROJECTION_TYPE = SINUSOIDAL
  MAP_RESOLUTION = 1185.42760773333
  MAP_SCALE = 0.05
  MAXIMUM_LATITUDE = -1.43607
  MINIMUM_LATITUDE = -12.771
  POSITIVE_LONGITUDE_DIRECTION = EAST
  REFERENCE_LATITUDE = "N/A"
  REFERENCE_LONGITUDE = "N/A"
  SAMPLE_FIRST_PIXEL = 1
  SAMPLE_LAST_PIXEL = 2922
  SAMPLE_PROJECTION_OFFSET = 924.75
  SECOND_STANDARD_PARALLEL = "N/A"
  WESTERNMOST_LONGITUDE = 353.279
END_OBJECT = IMAGE_MAP_PROJECTION
/* The JPEG2000 image data file associated with this label. */
OBJECT = COMPRESSED_FILE
  FILE_NAME = "H3220_0001_P13.JP2"
  RECORD_TYPE = UNDEFINED
  FILE_RECORDS = UNK
  ENCODING_TYPE = "JP2"
  INTERCHANGE_FORMAT = BINARY
  UNCOMPRESSED_FILE_NAME = "H3220_0001_P13.IMG"
  REQUIRED_STORAGE_BYTES = "39020388"
  ^DESCRIPTION = "JP2INFO.TXT"
END_OBJECT = COMPRESSED_FILE
END
