PDS_VERSION_ID = PDS3
/* FILE DATA ELEMENTS */
RECORD_TYPE = STREAM
/* POINTERS TO DATA OBJECTS */
^COMPRESSED_FILE = "H3221_0000_IR3.JP2"
/* IDENTIFICATION DATA ELEMENTS */
DATA_SET_ID = "MEX-M-HRSC-5-REFDR-MAPPROJECTED-V3.0"
DATA_SET_NAME = "MARS EXPRESS HRSC MAP PROJECTED REFDR V3.0"
DETECTOR_ID = MEX_HRSC_IR
EVENT_TYPE = "MARS-REGIONAL-MAPPING-Vo-Te"
INSTRUMENT_HOST_ID = MEX
INSTRUMENT_HOST_NAME = "MARS EXPRESS"
INSTRUMENT_ID = HRSC
INSTRUMENT_NAME = "HIGH RESOLUTION STEREO CAMERA"
MISSION_NAME = "MARS EXPRESS"
MISSION_PHASE_NAME = ME_Phase_3
PROCESSING_LEVEL_ID = 3
PRODUCT_CREATION_TIME = 2016-04-13T11:55:32.000Z
PRODUCT_ID = "H3221_0000_IR3.JP2"
RELEASE_ID = 0040
REVISION_ID = 0000
/* QUALITY DATA ELEMENTS */
DATA_QUALITY_ID = 1
DATA_QUALITY_DESC = "Data calculated based on original SPICE kernels"
/* TIME DATA ELEMENTS */
SPACECRAFT_CLOCK_START_COUNT = "1/0100879679.08397"
SPACECRAFT_CLOCK_STOP_COUNT = "1/0100879985.47146"
START_TIME = 2006-07-13T14:08:11.576Z
STOP_TIME = 2006-07-13T14:10:55.814Z
/* ORBITAL DATA ELEMENTS */
ASCENDING_NODE_LONGITUDE = 160.63
MAXIMUM_RESOLUTION = 77.9
FOOTPRINT_POINT_LATITUDE = (-1.51697,-1.51261,-1.50933,-1.5072, -1.50495,-1.64953,-2.01264,-2.47356, -2.84336,-3.02973,-3.21845,-3.40686, -3.59529,-3.78333,-3.97455,-4.16612, -4.35792,-4.54913,-4.84267,-5.03862, -5.23185,-5.42836,-5.63544,-5.93081, -6.12993,-6.32663,-6.53019,-6.73442, -6.93781,-7.14495,-7.34831,-7.55513, -7.87582,-8.08693,-8.29193,-8.50377, -8.71719,-8.92981,-9.14635,-9.36245, -9.57928,-9.79891,-10.1277,-10.3499, -10.5725,-10.9082,-11.1342,-11.3598, -11.5889,-11.7098,-11.7117,-11.7151, -11.7185,-11.7228,-11.7287,-11.6153, -11.3861,-11.047,-10.8209,-10.598, -10.3752,-10.1528,-9.93346,-9.71403, -9.38733,-9.17128,-8.84753,-8.63472, -8.42166,-8.20885,-7.99926,-7.79086, -7.57895,-7.37301,-7.17547,-6.96147, -6.75404,-6.55175,-6.35011,-6.04931, -5.84787,-5.55235,-5.35103,-5.1554, -4.96015,-4.76578,-4.57087,-4.37988, -4.18785,-3.99513,-3.70862,-3.51998, -3.33159,-3.14268,-2.77052,-2.49211, -2.12238,-1.85004,-1.48622,-1.51697)
FOOTPRINT_POINT_LONGITUDE = (255.662,255.292,254.969,254.722, 254.414,254.249,254.238,254.224,254.212 ,254.206,254.2,254.194,254.188,254.182, 254.176,254.17,254.163,254.157,254.147, 254.14,254.134,254.127,254.117,254.107, 254.1,254.095,254.087,254.079,254.072, 254.063,254.056,254.048,254.034,254.025 ,254.018,254.01,254.001,253.993,253.984 ,253.975,253.966,253.956,253.942, 253.933,253.923,253.909,253.898,253.888 ,253.878,254.191,254.391,254.691,254.99 ,255.35,255.789,256.013,256.009,256.003 ,255.999,255.995,255.991,255.988, 255.984,255.981,255.975,255.972,255.967 ,255.964,255.96,255.957,255.954,255.951 ,255.948,255.945,255.945,255.94,255.936 ,255.933,255.931,255.928,255.925, 255.922,255.919,255.917,255.915,255.913 ,255.911,255.909,255.907,255.905, 255.902,255.9,255.898,255.896,255.892, 255.889,255.886,255.883,255.88,255.662)
ORBIT_NUMBER = 3221
ORBITAL_ECCENTRICITY = 0.569
ORBITAL_INCLINATION = 86.68
ORBITAL_SEMIMAJOR_AXIS = 8614.55
PERIAPSIS_ALTITUDE = 319.07
PERIAPSIS_ARGUMENT_ANGLE = 151.83
PERIAPSIS_TIME = 2006-07-13T14:01:02.000Z
SPACECRAFT_ORIENTATION = (0.0,-1.0,0.0)
^MEX_ORIENTATION_DESC = "MEX_ORIENTATION_DESC.TXT"
SPACECRAFT_POINTING_MODE = NADIR
^MEX_POINTING_DESC = "MEX_POINTING_DESC.TXT"
RIGHT_ASCENSION = -1e+32
DECLINATION = -1e+32
OFFSET_ANGLE = -1e+32
SPACECRAFT_SOLAR_DISTANCE = 2.49005e+08
TARGET_NAME = MARS
/* CAMERA DATA ELEMENTS */
DETECTOR_TEMPERATURE = 17.1471
FOCAL_PLANE_TEMPERATURE = 7.7677
INST_CMPRS_NAME = "DISCRETE COSINE TRANSFORMATION (DCT)"
INST_CMPRS_RATIO = 13.3256
INST_CMPRS_QUALITY = 0
INST_CMPRS_QUANTZ_TBL_ID = 0
INSTRUMENT_TEMPERATURE = 11.234
LENS_TEMPERATURE = 8.3794
MACROPIXEL_SIZE = 4
MISSING_FRAMES = 0
PIXEL_SUBSAMPLING_FLAG = N
SIGNAL_CHAIN_ID = 2
/* RADIOMETRIC DATA ELEMENTS */
BANDWIDTH = 81.0
CENTER_FILTER_WAVELENGTH = 955.5
RADIANCE_OFFSET = 0.721417
RADIANCE_SCALING_FACTOR = 0.00866784
REFLECTANCE_SCALING_FACTOR = 0.00115946
MEX:REFLECTANCE_OFFSET = 0.0965009
/* IMAGE OBJECT DEFINITIONS */
OBJECT = IMAGE
  INTERCHANGE_FORMAT = BINARY
  LINES = 6089
  LINE_SAMPLES = 1405
  SAMPLE_TYPE = UNSIGNED_INTEGER
  SAMPLE_BITS = 8
  BANDS = 1
  BAND_STORAGE_TYPE = BAND_SEQUENTIAL
  MAXIMUM = 255
  MEAN = 139.987
  MINIMUM = 1
  STANDARD_DEVIATION = 24.5512
END_OBJECT = IMAGE
/* MAP OBJECT DEFINITIONS */
OBJECT = IMAGE_MAP_PROJECTION
  ^DATA_SET_MAP_PROJECTION_CATALOG= "DSMAP.CAT"
  A_AXIS_RADIUS = 3396.0
  B_AXIS_RADIUS = 3396.0
  C_AXIS_RADIUS = 3396.0
  CENTER_LATITUDE = 0.0
  CENTER_LONGITUDE = 255.0
  COORDINATE_SYSTEM_NAME = PLANETOGRAPHIC
  COORDINATE_SYSTEM_TYPE = "BODY-FIXED ROTATING"
  EASTERNMOST_LONGITUDE = 256.013
  FIRST_STANDARD_PARALLEL = "N/A"
  LINE_FIRST_PIXEL = 1
  LINE_LAST_PIXEL = 6089
  LINE_PROJECTION_OFFSET = -878.375
  MAP_PROJECTION_ROTATION = 0.0
  MAP_PROJECTION_TYPE = SINUSOIDAL
  MAP_RESOLUTION = 592.713803866667
  MAP_SCALE = 0.1
  MAXIMUM_LATITUDE = -1.48622
  MINIMUM_LATITUDE = -11.7287
  POSITIVE_LONGITUDE_DIRECTION = EAST
  REFERENCE_LATITUDE = "N/A"
  REFERENCE_LONGITUDE = "N/A"
  SAMPLE_FIRST_PIXEL = 1
  SAMPLE_LAST_PIXEL = 1405
  SAMPLE_PROJECTION_OFFSET = 735.375
  SECOND_STANDARD_PARALLEL = "N/A"
  WESTERNMOST_LONGITUDE = 253.878
END_OBJECT = IMAGE_MAP_PROJECTION
/* The JPEG2000 image data file associated with this label. */
OBJECT = COMPRESSED_FILE
  FILE_NAME = "H3221_0000_IR3.JP2"
  RECORD_TYPE = UNDEFINED
  FILE_RECORDS = UNK
  ENCODING_TYPE = "JP2"
  INTERCHANGE_FORMAT = BINARY
  UNCOMPRESSED_FILE_NAME = "H3221_0000_IR3.IMG"
  REQUIRED_STORAGE_BYTES = "8574715"
  ^DESCRIPTION = "JP2INFO.TXT"
END_OBJECT = COMPRESSED_FILE
END
