PDS_VERSION_ID = PDS3
/* FILE DATA ELEMENTS */
RECORD_TYPE = STREAM
/* POINTERS TO DATA OBJECTS */
^COMPRESSED_FILE = "H3225_0000_S13.JP2"
/* IDENTIFICATION DATA ELEMENTS */
DATA_SET_ID = "MEX-M-HRSC-5-REFDR-MAPPROJECTED-V3.0"
DATA_SET_NAME = "MARS EXPRESS HRSC MAP PROJECTED REFDR V3.0"
DETECTOR_ID = MEX_HRSC_S1
EVENT_TYPE = "MARS-LOCAL-STEREO-Vo-Gl-Mw"
INSTRUMENT_HOST_ID = MEX
INSTRUMENT_HOST_NAME = "MARS EXPRESS"
INSTRUMENT_ID = HRSC
INSTRUMENT_NAME = "HIGH RESOLUTION STEREO CAMERA"
MISSION_NAME = "MARS EXPRESS"
MISSION_PHASE_NAME = ME_Phase_3
PROCESSING_LEVEL_ID = 3
PRODUCT_CREATION_TIME = 2016-04-13T11:55:32.000Z
PRODUCT_ID = "H3225_0000_S13.JP2"
RELEASE_ID = 0040
REVISION_ID = 0000
/* QUALITY DATA ELEMENTS */
DATA_QUALITY_ID = 1
DATA_QUALITY_DESC = "Data calculated based on original SPICE kernels"
/* TIME DATA ELEMENTS */
SPACECRAFT_CLOCK_START_COUNT = "1/0100976064.08241"
SPACECRAFT_CLOCK_STOP_COUNT = "1/0100976213.24667"
START_TIME = 2006-07-14T16:54:29.338Z
STOP_TIME = 2006-07-14T16:55:54.968Z
/* ORBITAL DATA ELEMENTS */
ASCENDING_NODE_LONGITUDE = 160.55
MAXIMUM_RESOLUTION = 13.5
FOOTPRINT_POINT_LATITUDE = (23.6241,23.6244,23.6245,23.6244,23.624 ,23.6237,23.6232,23.6227,23.6217, 23.5895,23.4228,23.2568,23.1457,23.0339 ,22.9229,22.7562,22.5899,22.4236, 22.3118,22.1999,22.0889,21.9224,21.7553 ,21.5884,21.4219,21.2555,21.0898, 20.9803,20.8696,20.7604,20.5966,20.4888 ,20.3256,20.161,20.0493,19.9368,19.8229 ,19.7088,19.5968,19.4809,19.3628, 19.2422,19.1249,19.0097,18.8958,18.7805 ,18.6682,18.4982,18.327,18.1547,18.0389 ,17.9723,17.9758,17.9842,17.9878, 17.9902,17.9921,17.9944,17.9956,17.9979 ,17.9994,18.1154,18.231,18.3467,18.52, 18.6354,18.8086,18.9246,19.0408,19.1559 ,19.2715,19.3869,19.5596,19.732,19.8475 ,19.9616,20.1288,20.2962,20.4637, 20.6286,20.7919,20.9594,21.1266,21.2937 ,21.4608,21.6281,21.7397,21.852,21.9628 ,22.115,22.2675,22.43,22.5845,22.7498, 22.916,23.0819,23.2477,23.4141,23.525, 23.6241)
FOOTPRINT_POINT_LONGITUDE = (222.691,222.535,222.391,222.294, 222.138,222.043,221.947,221.851,221.719 ,221.513,221.514,221.516,221.517, 221.518,221.519,221.52,221.521,221.523, 221.523,221.524,221.525,221.526,221.527 ,221.528,221.529,221.53,221.531,221.532 ,221.532,221.533,221.535,221.536, 221.538,221.539,221.54,221.54,221.54, 221.54,221.541,221.541,221.541,221.539, 221.539,221.539,221.54,221.54,221.541, 221.541,221.542,221.542,221.542,221.626 ,221.722,221.89,222.021,222.103,222.21, 222.375,222.516,222.657,222.745,222.744 ,222.744,222.744,222.743,222.743, 222.743,222.742,222.741,222.741,222.741 ,222.741,222.74,222.74,222.74,222.74, 222.739,222.739,222.738,222.739,222.74, 222.739,222.739,222.738,222.738,222.737 ,222.737,222.736,222.736,222.741, 222.746,222.747,222.751,222.751,222.751 ,222.751,222.751,222.75,222.75,222.691)
ORBIT_NUMBER = 3225
ORBITAL_ECCENTRICITY = 0.569
ORBITAL_INCLINATION = 86.69
ORBITAL_SEMIMAJOR_AXIS = 8607.37
PERIAPSIS_ALTITUDE = 319.7
PERIAPSIS_ARGUMENT_ANGLE = 151.12
PERIAPSIS_TIME = 2006-07-14T16:53:38.000Z
SPACECRAFT_ORIENTATION = (0.0,-1.0,0.0)
^MEX_ORIENTATION_DESC = "MEX_ORIENTATION_DESC.TXT"
SPACECRAFT_POINTING_MODE = ACROSSTRACK
^MEX_POINTING_DESC = "MEX_POINTING_DESC.TXT"
RIGHT_ASCENSION = -1e+32
DECLINATION = -1e+32
OFFSET_ANGLE = 0.05
SPACECRAFT_SOLAR_DISTANCE = 2.48975e+08
TARGET_NAME = MARS
/* CAMERA DATA ELEMENTS */
DETECTOR_TEMPERATURE = 18.3705
FOCAL_PLANE_TEMPERATURE = 8.3794
INST_CMPRS_NAME = "DISCRETE COSINE TRANSFORMATION (DCT)"
INST_CMPRS_RATIO = 7.93115
INST_CMPRS_QUALITY = 0
INST_CMPRS_QUANTZ_TBL_ID = 0
INSTRUMENT_TEMPERATURE = 11.8457
LENS_TEMPERATURE = 8.7872
MACROPIXEL_SIZE = 1
MISSING_FRAMES = 0
PIXEL_SUBSAMPLING_FLAG = N
SIGNAL_CHAIN_ID = 2
/* RADIOMETRIC DATA ELEMENTS */
BANDWIDTH = 180.0
CENTER_FILTER_WAVELENGTH = 677.0
RADIANCE_OFFSET = 8.95564
RADIANCE_SCALING_FACTOR = 0.013843
REFLECTANCE_SCALING_FACTOR = 0.000447696
MEX:REFLECTANCE_OFFSET = 0.289634
/* IMAGE OBJECT DEFINITIONS */
OBJECT = IMAGE
  INTERCHANGE_FORMAT = BINARY
  LINES = 26867
  LINE_SAMPLES = 6023
  SAMPLE_TYPE = UNSIGNED_INTEGER
  SAMPLE_BITS = 8
  BANDS = 1
  BAND_STORAGE_TYPE = BAND_SEQUENTIAL
  MAXIMUM = 254
  MEAN = 118.04
  MINIMUM = 1
  STANDARD_DEVIATION = 42.1254
END_OBJECT = IMAGE
/* MAP OBJECT DEFINITIONS */
OBJECT = IMAGE_MAP_PROJECTION
  ^DATA_SET_MAP_PROJECTION_CATALOG= "DSMAP.CAT"
  A_AXIS_RADIUS = 3396.0
  B_AXIS_RADIUS = 3396.0
  C_AXIS_RADIUS = 3396.0
  CENTER_LATITUDE = 0.0
  CENTER_LONGITUDE = 222.0
  COORDINATE_SYSTEM_NAME = PLANETOGRAPHIC
  COORDINATE_SYSTEM_TYPE = "BODY-FIXED ROTATING"
  EASTERNMOST_LONGITUDE = 222.751
  FIRST_STANDARD_PARALLEL = "N/A"
  LINE_FIRST_PIXEL = 1
  LINE_LAST_PIXEL = 26867
  LINE_PROJECTION_OFFSET = 111947.0
  MAP_PROJECTION_ROTATION = 0.0
  MAP_PROJECTION_TYPE = SINUSOIDAL
  MAP_RESOLUTION = 4741.71043093333
  MAP_SCALE = 0.0125
  MAXIMUM_LATITUDE = 23.6245
  MINIMUM_LATITUDE = 17.9723
  POSITIVE_LONGITUDE_DIRECTION = EAST
  REFERENCE_LATITUDE = "N/A"
  REFERENCE_LONGITUDE = "N/A"
  SAMPLE_FIRST_PIXEL = 1
  SAMPLE_LAST_PIXEL = 6023
  SAMPLE_PROJECTION_OFFSET = 2324.0
  SECOND_STANDARD_PARALLEL = "N/A"
  WESTERNMOST_LONGITUDE = 221.513
END_OBJECT = IMAGE_MAP_PROJECTION
/* The JPEG2000 image data file associated with this label. */
OBJECT = COMPRESSED_FILE
  FILE_NAME = "H3225_0000_S13.JP2"
  RECORD_TYPE = UNDEFINED
  FILE_RECORDS = UNK
  ENCODING_TYPE = "JP2"
  INTERCHANGE_FORMAT = BINARY
  UNCOMPRESSED_FILE_NAME = "H3225_0000_S13.IMG"
  REQUIRED_STORAGE_BYTES = "161850056"
  ^DESCRIPTION = "JP2INFO.TXT"
END_OBJECT = COMPRESSED_FILE
END
