PDS_VERSION_ID = PDS3
/* FILE DATA ELEMENTS */
RECORD_TYPE = STREAM
/* POINTERS TO DATA OBJECTS */
^COMPRESSED_FILE = "H3231_0000_RE3.JP2"
/* IDENTIFICATION DATA ELEMENTS */
DATA_SET_ID = "MEX-M-HRSC-5-REFDR-MAPPROJECTED-V3.0"
DATA_SET_NAME = "MARS EXPRESS HRSC MAP PROJECTED REFDR V3.0"
DETECTOR_ID = MEX_HRSC_RED
EVENT_TYPE = "MARS-REGIONAL-MAPPING-Vo-Im-Eo"
INSTRUMENT_HOST_ID = MEX
INSTRUMENT_HOST_NAME = "MARS EXPRESS"
INSTRUMENT_ID = HRSC
INSTRUMENT_NAME = "HIGH RESOLUTION STEREO CAMERA"
MISSION_NAME = "MARS EXPRESS"
MISSION_PHASE_NAME = ME_Phase_3
PROCESSING_LEVEL_ID = 3
PRODUCT_CREATION_TIME = 2016-04-13T11:55:32.000Z
PRODUCT_ID = "H3231_0000_RE3.JP2"
RELEASE_ID = 0040
REVISION_ID = 0000
/* QUALITY DATA ELEMENTS */
DATA_QUALITY_ID = 2
DATA_QUALITY_DESC = "Data calculated based on photogrammetrically improved orbit and attitude data"
/* TIME DATA ELEMENTS */
SPACECRAFT_CLOCK_START_COUNT = "1/0101120672.08253"
SPACECRAFT_CLOCK_STOP_COUNT = "1/0101120910.57944"
START_TIME = 2006-07-16T09:06:09.527Z
STOP_TIME = 2006-07-16T09:08:28.212Z
/* ORBITAL DATA ELEMENTS */
ASCENDING_NODE_LONGITUDE = 160.43
MAXIMUM_RESOLUTION = 131.3
FOOTPRINT_POINT_LATITUDE = (57.8154,57.8043,57.7918,57.7781,57.763 ,57.7466,57.7264,57.4271,57.233,57.0414 ,56.8502,56.6582,56.3707,56.183,55.9951 ,55.7129,55.5246,55.338,55.0634,54.7867 ,54.602,54.4188,54.2388,54.0576,53.7875 ,53.6073,53.3369,53.1604,52.9842, 52.8077,52.6312,52.4547,52.2783,52.106, 51.9338,51.761,51.5883,51.4155,51.2428, 51.0711,50.8187,50.4818,50.229,49.9757, 49.8066,49.6379,49.469,49.2154,49.0463, 48.8781,48.8857,48.8905,48.8978,48.9018 ,48.9048,49.0784,49.2484,49.5034, 49.6759,49.8471,50.0976,50.2671,50.4369 ,50.6065,50.7762,50.9458,51.1151, 51.2879,51.5488,51.7228,51.8965,52.0695 ,52.2432,52.5077,52.6856,52.8634, 53.0411,53.3076,53.486,53.6675,53.8497, 54.1221,54.3042,54.4851,54.6693,54.8567 ,55.043,55.2278,55.4134,55.6006,55.7901 ,55.9797,56.1679,56.355,56.5488,56.8438 ,57.1292,57.3234,57.5195,57.8154)
FOOTPRINT_POINT_LONGITUDE = (350.866,350.423,349.977,349.529, 349.079,348.626,348.113,348.056,348.103 ,348.149,348.193,348.237,348.302, 348.344,348.385,348.446,348.485,348.525 ,348.58,348.635,348.672,348.707,348.741 ,348.777,348.826,348.859,348.908,348.94 ,348.97,349.001,349.031,349.06,349.09, 349.118,349.145,349.173,349.201,349.228 ,349.255,349.28,349.318,349.367,349.404 ,349.44,349.463,349.486,349.509,349.543 ,349.565,349.827,350.208,350.486, 350.939,351.252,351.544,351.684,351.676 ,351.663,351.655,351.646,351.633, 351.624,351.615,351.606,351.597,351.587 ,351.578,351.568,351.553,351.543, 351.533,351.523,351.512,351.496,351.485 ,351.474,351.463,351.446,351.434, 351.422,351.41,351.392,351.379,351.366, 351.353,351.34,351.326,351.313,351.299, 351.285,351.27,351.255,351.24,351.225, 351.21,351.186,351.161,351.144,351.127, 350.866)
ORBIT_NUMBER = 3231
ORBITAL_ECCENTRICITY = 0.568
ORBITAL_INCLINATION = 86.68
ORBITAL_SEMIMAJOR_AXIS = 8599.06
PERIAPSIS_ALTITUDE = 320.92
PERIAPSIS_ARGUMENT_ANGLE = 150.05
PERIAPSIS_TIME = 2006-07-16T09:12:52.000Z
SPACECRAFT_ORIENTATION = (0.0,-1.0,0.0)
^MEX_ORIENTATION_DESC = "MEX_ORIENTATION_DESC.TXT"
SPACECRAFT_POINTING_MODE = ACROSSTRACK
^MEX_POINTING_DESC = "MEX_POINTING_DESC.TXT"
RIGHT_ASCENSION = -1e+32
DECLINATION = -1e+32
OFFSET_ANGLE = -0.6
SPACECRAFT_SOLAR_DISTANCE = 2.48927e+08
TARGET_NAME = MARS
/* CAMERA DATA ELEMENTS */
DETECTOR_TEMPERATURE = 18.3705
FOCAL_PLANE_TEMPERATURE = 7.5638
INST_CMPRS_NAME = "DISCRETE COSINE TRANSFORMATION (DCT)"
INST_CMPRS_RATIO = 20.601
INST_CMPRS_QUALITY = 0
INST_CMPRS_QUANTZ_TBL_ID = 0
INSTRUMENT_TEMPERATURE = 11.0301
LENS_TEMPERATURE = 8.3794
MACROPIXEL_SIZE = 8
MISSING_FRAMES = 0
PIXEL_SUBSAMPLING_FLAG = N
SIGNAL_CHAIN_ID = 2
/* RADIOMETRIC DATA ELEMENTS */
BANDWIDTH = 48.0
CENTER_FILTER_WAVELENGTH = 748.0
RADIANCE_OFFSET = 0.71475
RADIANCE_SCALING_FACTOR = 0.00577076
REFLECTANCE_SCALING_FACTOR = 0.000816023
MEX:REFLECTANCE_OFFSET = 0.10107
/* IMAGE OBJECT DEFINITIONS */
OBJECT = IMAGE
  INTERCHANGE_FORMAT = BINARY
  LINES = 5404
  LINE_SAMPLES = 1338
  SAMPLE_TYPE = UNSIGNED_INTEGER
  SAMPLE_BITS = 8
  BANDS = 1
  BAND_STORAGE_TYPE = BAND_SEQUENTIAL
  MAXIMUM = 254
  MEAN = 105.226
  MINIMUM = 1
  STANDARD_DEVIATION = 38.1618
END_OBJECT = IMAGE
/* MAP OBJECT DEFINITIONS */
OBJECT = IMAGE_MAP_PROJECTION
  ^DATA_SET_MAP_PROJECTION_CATALOG= "DSMAP.CAT"
  A_AXIS_RADIUS = 3396.0
  B_AXIS_RADIUS = 3396.0
  C_AXIS_RADIUS = 3396.0
  CENTER_LATITUDE = 0.0
  CENTER_LONGITUDE = 350.0
  COORDINATE_SYSTEM_NAME = PLANETOGRAPHIC
  COORDINATE_SYSTEM_TYPE = "BODY-FIXED ROTATING"
  EASTERNMOST_LONGITUDE = 351.684
  FIRST_STANDARD_PARALLEL = "N/A"
  LINE_FIRST_PIXEL = 1
  LINE_LAST_PIXEL = 5404
  LINE_PROJECTION_OFFSET = 34355.5625
  MAP_PROJECTION_ROTATION = 0.0
  MAP_PROJECTION_TYPE = SINUSOIDAL
  MAP_RESOLUTION = 592.713803866667
  MAP_SCALE = 0.1
  MAXIMUM_LATITUDE = 57.8154
  MINIMUM_LATITUDE = 48.8781
  POSITIVE_LONGITUDE_DIRECTION = EAST
  REFERENCE_LATITUDE = "N/A"
  REFERENCE_LONGITUDE = "N/A"
  SAMPLE_FIRST_PIXEL = 1
  SAMPLE_LAST_PIXEL = 1338
  SAMPLE_PROJECTION_OFFSET = 662.6875
  SECOND_STANDARD_PARALLEL = "N/A"
  WESTERNMOST_LONGITUDE = 348.056
END_OBJECT = IMAGE_MAP_PROJECTION
/* The JPEG2000 image data file associated with this label. */
OBJECT = COMPRESSED_FILE
  FILE_NAME = "H3231_0000_RE3.JP2"
  RECORD_TYPE = UNDEFINED
  FILE_RECORDS = UNK
  ENCODING_TYPE = "JP2"
  INTERCHANGE_FORMAT = BINARY
  UNCOMPRESSED_FILE_NAME = "H3231_0000_RE3.IMG"
  REQUIRED_STORAGE_BYTES = "7249284"
  ^DESCRIPTION = "JP2INFO.TXT"
END_OBJECT = COMPRESSED_FILE
END
