PDS_VERSION_ID = PDS3
/* FILE DATA ELEMENTS */
RECORD_TYPE = STREAM
/* POINTERS TO DATA OBJECTS */
^COMPRESSED_FILE = "H3231_0001_S13.JP2"
/* IDENTIFICATION DATA ELEMENTS */
DATA_SET_ID = "MEX-M-HRSC-5-REFDR-MAPPROJECTED-V3.0"
DATA_SET_NAME = "MARS EXPRESS HRSC MAP PROJECTED REFDR V3.0"
DETECTOR_ID = MEX_HRSC_S1
EVENT_TYPE = "MARS-LOCAL-MAPPING-Im-Lc-La"
INSTRUMENT_HOST_ID = MEX
INSTRUMENT_HOST_NAME = "MARS EXPRESS"
INSTRUMENT_ID = HRSC
INSTRUMENT_NAME = "HIGH RESOLUTION STEREO CAMERA"
MISSION_NAME = "MARS EXPRESS"
MISSION_PHASE_NAME = ME_Phase_3
PROCESSING_LEVEL_ID = 3
PRODUCT_CREATION_TIME = 2016-04-13T11:55:32.000Z
PRODUCT_ID = "H3231_0001_S13.JP2"
RELEASE_ID = 0040
REVISION_ID = 0000
/* QUALITY DATA ELEMENTS */
DATA_QUALITY_ID = 2
DATA_QUALITY_DESC = "Data calculated based on photogrammetrically improved orbit and attitude data"
/* TIME DATA ELEMENTS */
SPACECRAFT_CLOCK_START_COUNT = "1/0101121165.07294"
SPACECRAFT_CLOCK_STOP_COUNT = "1/0101121408.24219"
START_TIME = 2006-07-16T09:12:50.318Z
STOP_TIME = 2006-07-16T09:15:46.942Z
/* ORBITAL DATA ELEMENTS */
ASCENDING_NODE_LONGITUDE = 160.43
MAXIMUM_RESOLUTION = 27.4
FOOTPRINT_POINT_LATITUDE = (28.2045,28.1951,28.1853,28.1749, 28.1639,28.1524,28.0943,27.8693,27.6442 ,27.4186,27.1928,26.9669,26.6283, 26.4024,26.1769,25.9499,25.7227,25.4962 ,25.2698,24.9313,24.7049,24.4779, 24.2477,24.0192,23.7961,23.57,23.3423, 23.1166,22.8874,22.6563,22.3099,22.073, 21.7178,21.3644,21.131,20.9013,20.6698, 20.4307,20.19,19.9516,19.5989,19.3636, 19.1331,18.8963,18.541,18.1763,17.9321, 17.6872,17.3169,17.0732,16.8285,16.5845 ,16.4702,16.4806,16.4918,16.501,16.6342 ,16.8789,17.124,17.3681,17.613,17.9835, 18.2285,18.5927,18.8292,19.0665,19.4225 ,19.6615,19.8967,20.1345,20.369,20.7161 ,20.9469,21.1837,21.5375,21.7743, 22.0113,22.3649,22.5923,22.941,23.1752, 23.5143,23.7417,24.0829,24.4238,24.651, 24.8781,25.1066,25.3338,25.6744,26.0076 ,26.2341,26.5775,26.8079,27.0314, 27.2597,27.5985,27.8244,28.0506, 28.2045)
FOOTPRINT_POINT_LONGITUDE = (352.174,351.98,351.784,351.587,351.389 ,351.188,350.963,350.97,350.975,350.981 ,350.986,350.992,351.0,351.005,351.01, 351.014,351.018,351.023,351.027,351.035 ,351.039,351.043,351.044,351.047, 351.053,351.058,351.061,351.065,351.067 ,351.067,351.068,351.07,351.072,351.076 ,351.08,351.086,351.09,351.09,351.089, 351.089,351.092,351.094,351.099,351.099 ,351.1,351.1,351.101,351.101,351.101, 351.101,351.101,351.101,351.367,351.594 ,351.855,352.102,352.386,352.384, 352.382,352.38,352.378,352.375,352.373, 352.37,352.368,352.366,352.362,352.36, 352.358,352.356,352.354,352.35,352.348, 352.346,352.343,352.34,352.338,352.335, 352.332,352.329,352.327,352.323,352.321 ,352.317,352.313,352.311,352.308, 352.306,352.303,352.3,352.296,352.293, 352.289,352.286,352.283,352.281,352.277 ,352.274,352.271,352.174)
ORBIT_NUMBER = 3231
ORBITAL_ECCENTRICITY = 0.568
ORBITAL_INCLINATION = 86.68
ORBITAL_SEMIMAJOR_AXIS = 8599.06
PERIAPSIS_ALTITUDE = 320.92
PERIAPSIS_ARGUMENT_ANGLE = 150.05
PERIAPSIS_TIME = 2006-07-16T09:12:52.000Z
SPACECRAFT_ORIENTATION = (0.0,-1.0,0.0)
^MEX_ORIENTATION_DESC = "MEX_ORIENTATION_DESC.TXT"
SPACECRAFT_POINTING_MODE = ACROSSTRACK
^MEX_POINTING_DESC = "MEX_POINTING_DESC.TXT"
RIGHT_ASCENSION = -1e+32
DECLINATION = -1e+32
OFFSET_ANGLE = -0.6
SPACECRAFT_SOLAR_DISTANCE = 2.48927e+08
TARGET_NAME = MARS
/* CAMERA DATA ELEMENTS */
DETECTOR_TEMPERATURE = 18.5744
FOCAL_PLANE_TEMPERATURE = 7.7677
INST_CMPRS_NAME = "DISCRETE COSINE TRANSFORMATION (DCT)"
INST_CMPRS_RATIO = 8.72485
INST_CMPRS_QUALITY = 0
INST_CMPRS_QUANTZ_TBL_ID = 0
INSTRUMENT_TEMPERATURE = 12.6613
LENS_TEMPERATURE = 8.5833
MACROPIXEL_SIZE = 2
MISSING_FRAMES = 1
PIXEL_SUBSAMPLING_FLAG = N
SIGNAL_CHAIN_ID = 1
/* RADIOMETRIC DATA ELEMENTS */
BANDWIDTH = 180.0
CENTER_FILTER_WAVELENGTH = 677.0
RADIANCE_OFFSET = 3.80257
RADIANCE_SCALING_FACTOR = 0.0261615
REFLECTANCE_SCALING_FACTOR = 0.000845761
MEX:REFLECTANCE_OFFSET = 0.122931
/* IMAGE OBJECT DEFINITIONS */
OBJECT = IMAGE
  INTERCHANGE_FORMAT = BINARY
  LINES = 27598
  LINE_SAMPLES = 3216
  SAMPLE_TYPE = UNSIGNED_INTEGER
  SAMPLE_BITS = 8
  BANDS = 1
  BAND_STORAGE_TYPE = BAND_SEQUENTIAL
  MAXIMUM = 255
  MEAN = 141.735
  MINIMUM = 1
  STANDARD_DEVIATION = 34.4853
END_OBJECT = IMAGE
/* MAP OBJECT DEFINITIONS */
OBJECT = IMAGE_MAP_PROJECTION
  ^DATA_SET_MAP_PROJECTION_CATALOG= "DSMAP.CAT"
  A_AXIS_RADIUS = 3396.0
  B_AXIS_RADIUS = 3396.0
  C_AXIS_RADIUS = 3396.0
  CENTER_LATITUDE = 0.0
  CENTER_LONGITUDE = 352.0
  COORDINATE_SYSTEM_NAME = PLANETOGRAPHIC
  COORDINATE_SYSTEM_TYPE = "BODY-FIXED ROTATING"
  EASTERNMOST_LONGITUDE = 352.386
  FIRST_STANDARD_PARALLEL = "N/A"
  LINE_FIRST_PIXEL = 1
  LINE_LAST_PIXEL = 27598
  LINE_PROJECTION_OFFSET = 66751.25
  MAP_PROJECTION_ROTATION = 0.0
  MAP_PROJECTION_TYPE = SINUSOIDAL
  MAP_RESOLUTION = 2370.85521546667
  MAP_SCALE = 0.025
  MAXIMUM_LATITUDE = 28.2045
  MINIMUM_LATITUDE = 16.4702
  POSITIVE_LONGITUDE_DIRECTION = EAST
  REFERENCE_LATITUDE = "N/A"
  REFERENCE_LONGITUDE = "N/A"
  SAMPLE_FIRST_PIXEL = 1
  SAMPLE_LAST_PIXEL = 3216
  SAMPLE_PROJECTION_OFFSET = 2286.25
  SECOND_STANDARD_PARALLEL = "N/A"
  WESTERNMOST_LONGITUDE = 350.963
END_OBJECT = IMAGE_MAP_PROJECTION
/* The JPEG2000 image data file associated with this label. */
OBJECT = COMPRESSED_FILE
  FILE_NAME = "H3231_0001_S13.JP2"
  RECORD_TYPE = UNDEFINED
  FILE_RECORDS = UNK
  ENCODING_TYPE = "JP2"
  INTERCHANGE_FORMAT = BINARY
  UNCOMPRESSED_FILE_NAME = "H3231_0001_S13.IMG"
  REQUIRED_STORAGE_BYTES = "88777680"
  ^DESCRIPTION = "JP2INFO.TXT"
END_OBJECT = COMPRESSED_FILE
END
