PDS_VERSION_ID = PDS3
/* FILE DATA ELEMENTS */
RECORD_TYPE = STREAM
/* POINTERS TO DATA OBJECTS */
^COMPRESSED_FILE = "H3235_0000_ND3.JP2"
/* IDENTIFICATION DATA ELEMENTS */
DATA_SET_ID = "MEX-M-HRSC-5-REFDR-MAPPROJECTED-V3.0"
DATA_SET_NAME = "MARS EXPRESS HRSC MAP PROJECTED REFDR V3.0"
DETECTOR_ID = MEX_HRSC_NADIR
EVENT_TYPE = "MARS-REGIONAL-MAPPING-Im-Fl"
INSTRUMENT_HOST_ID = MEX
INSTRUMENT_HOST_NAME = "MARS EXPRESS"
INSTRUMENT_ID = HRSC
INSTRUMENT_NAME = "HIGH RESOLUTION STEREO CAMERA"
MISSION_NAME = "MARS EXPRESS"
MISSION_PHASE_NAME = ME_Phase_3
PROCESSING_LEVEL_ID = 3
PRODUCT_CREATION_TIME = 2016-04-13T11:55:32.000Z
PRODUCT_ID = "H3235_0000_ND3.JP2"
RELEASE_ID = 0040
REVISION_ID = 0000
/* QUALITY DATA ELEMENTS */
DATA_QUALITY_ID = 2
DATA_QUALITY_DESC = "Data calculated based on photogrammetrically improved orbit and attitude data"
/* TIME DATA ELEMENTS */
SPACECRAFT_CLOCK_START_COUNT = "1/0101217808.08263"
SPACECRAFT_CLOCK_STOP_COUNT = "1/0101218062.31354"
START_TIME = 2006-07-17T12:04:05.211Z
STOP_TIME = 2006-07-17T12:07:14.201Z
/* ORBITAL DATA ELEMENTS */
ASCENDING_NODE_LONGITUDE = 160.34
MAXIMUM_RESOLUTION = 13.3
FOOTPRINT_POINT_LATITUDE = (36.6214,36.6207,36.6186,36.1252, 35.6315,35.3846,35.1375,34.8904,34.6433 ,34.3961,34.1488,33.9015,33.6541, 33.4067,33.1593,32.9118,32.6643,32.4168 ,32.1692,31.9216,31.674,31.4264,31.1788 ,30.9311,30.6835,30.4359,30.1882, 29.9406,29.6929,29.4453,29.1977,28.9501 ,28.7025,28.455,28.2075,27.96,27.7126, 27.4651,27.2178,26.9705,26.7232,26.476, 26.2288,25.9817,25.7347,25.4877,25.2408 ,24.7472,24.2539,24.2423,24.2398, 24.2359,24.7294,25.2233,25.4703,25.7174 ,25.9646,26.2118,26.4591,26.7064, 26.9538,27.2013,27.4488,27.6963,27.9439 ,28.1915,28.4392,28.6869,28.9346, 29.1823,29.4301,29.6778,29.9256,30.2973 ,30.5451,30.9168,31.1646,31.4124, 31.6602,31.9079,32.1557,32.4034,32.6511 ,32.8988,33.1465,33.3941,33.6416, 33.8892,34.1367,34.3841,34.6315,34.8788 ,35.1261,35.3733,35.6205,35.8676, 36.1146,36.3615,36.6084,36.6214)
FOOTPRINT_POINT_LONGITUDE = (321.431,320.936,320.509,320.515, 320.521,320.523,320.526,320.528,320.53, 320.532,320.533,320.535,320.538,320.54, 320.541,320.543,320.544,320.545,320.546 ,320.547,320.548,320.548,320.549, 320.549,320.549,320.55,320.55,320.55, 320.55,320.55,320.549,320.549,320.548, 320.548,320.547,320.546,320.546,320.545 ,320.544,320.543,320.542,320.541, 320.539,320.538,320.536,320.535,320.533 ,320.529,320.525,320.938,321.457, 321.952,321.958,321.964,321.967,321.97, 321.973,321.976,321.979,321.983,321.986 ,321.99,321.993,321.996,321.999,322.003 ,322.007,322.01,322.014,322.018,322.021 ,322.025,322.029,322.035,322.039, 322.045,322.049,322.053,322.057,322.061 ,322.065,322.068,322.073,322.077, 322.082,322.085,322.091,322.096,322.1, 322.104,322.107,322.113,322.117,322.122 ,322.126,322.131,322.135,322.14,322.145 ,321.431)
ORBIT_NUMBER = 3235
ORBITAL_ECCENTRICITY = 0.568
ORBITAL_INCLINATION = 86.69
ORBITAL_SEMIMAJOR_AXIS = 8596.98
PERIAPSIS_ALTITUDE = 321.39
PERIAPSIS_ARGUMENT_ANGLE = 149.38
PERIAPSIS_TIME = 2006-07-17T12:05:37.000Z
SPACECRAFT_ORIENTATION = (0.0,-1.0,0.0)
^MEX_ORIENTATION_DESC = "MEX_ORIENTATION_DESC.TXT"
SPACECRAFT_POINTING_MODE = ACROSSTRACK
^MEX_POINTING_DESC = "MEX_POINTING_DESC.TXT"
RIGHT_ASCENSION = -1e+32
DECLINATION = -1e+32
OFFSET_ANGLE = 1.73
SPACECRAFT_SOLAR_DISTANCE = 2.48892e+08
TARGET_NAME = MARS
/* CAMERA DATA ELEMENTS */
DETECTOR_TEMPERATURE = 18.3705
FOCAL_PLANE_TEMPERATURE = 7.9716
INST_CMPRS_NAME = "DISCRETE COSINE TRANSFORMATION (DCT)"
INST_CMPRS_RATIO = 6.8433
INST_CMPRS_QUALITY = 0
INST_CMPRS_QUANTZ_TBL_ID = 0
INSTRUMENT_TEMPERATURE = 11.0301
LENS_TEMPERATURE = 8.3794
MACROPIXEL_SIZE = 1
MISSING_FRAMES = 0
PIXEL_SUBSAMPLING_FLAG = N
SIGNAL_CHAIN_ID = 0
/* RADIOMETRIC DATA ELEMENTS */
BANDWIDTH = 177.0
CENTER_FILTER_WAVELENGTH = 677.5
RADIANCE_OFFSET = 3.361
RADIANCE_SCALING_FACTOR = 0.0183976
REFLECTANCE_SCALING_FACTOR = 0.000605436
MEX:REFLECTANCE_OFFSET = 0.110605
/* IMAGE OBJECT DEFINITIONS */
OBJECT = IMAGE
  INTERCHANGE_FORMAT = BINARY
  LINES = 58725
  LINE_SAMPLES = 6952
  SAMPLE_TYPE = UNSIGNED_INTEGER
  SAMPLE_BITS = 8
  BANDS = 1
  BAND_STORAGE_TYPE = BAND_SEQUENTIAL
  MAXIMUM = 255
  MEAN = 100.16
  MINIMUM = 1
  STANDARD_DEVIATION = 20.0915
END_OBJECT = IMAGE
/* MAP OBJECT DEFINITIONS */
OBJECT = IMAGE_MAP_PROJECTION
  ^DATA_SET_MAP_PROJECTION_CATALOG= "DSMAP.CAT"
  A_AXIS_RADIUS = 3396.0
  B_AXIS_RADIUS = 3396.0
  C_AXIS_RADIUS = 3396.0
  CENTER_LATITUDE = 0.0
  CENTER_LONGITUDE = 321.0
  COORDINATE_SYSTEM_NAME = PLANETOGRAPHIC
  COORDINATE_SYSTEM_TYPE = "BODY-FIXED ROTATING"
  EASTERNMOST_LONGITUDE = 322.145
  FIRST_STANDARD_PARALLEL = "N/A"
  LINE_FIRST_PIXEL = 1
  LINE_LAST_PIXEL = 58725
  LINE_PROJECTION_OFFSET = 173648.0
  MAP_PROJECTION_ROTATION = 0.0
  MAP_PROJECTION_TYPE = SINUSOIDAL
  MAP_RESOLUTION = 4741.71043093333
  MAP_SCALE = 0.0125
  MAXIMUM_LATITUDE = 36.6214
  MINIMUM_LATITUDE = 24.2359
  POSITIVE_LONGITUDE_DIRECTION = EAST
  REFERENCE_LATITUDE = "N/A"
  REFERENCE_LONGITUDE = "N/A"
  SAMPLE_FIRST_PIXEL = 1
  SAMPLE_LAST_PIXEL = 6952
  SAMPLE_PROJECTION_OFFSET = 2182.0
  SECOND_STANDARD_PARALLEL = "N/A"
  WESTERNMOST_LONGITUDE = 320.509
END_OBJECT = IMAGE_MAP_PROJECTION
/* The JPEG2000 image data file associated with this label. */
OBJECT = COMPRESSED_FILE
  FILE_NAME = "H3235_0000_ND3.JP2"
  RECORD_TYPE = UNDEFINED
  FILE_RECORDS = UNK
  ENCODING_TYPE = "JP2"
  INTERCHANGE_FORMAT = BINARY
  UNCOMPRESSED_FILE_NAME = "H3235_0000_ND3.IMG"
  REQUIRED_STORAGE_BYTES = "408290960"
  ^DESCRIPTION = "JP2INFO.TXT"
END_OBJECT = COMPRESSED_FILE
END
