PDS_VERSION_ID = PDS3
/* FILE DATA ELEMENTS */
RECORD_TYPE = STREAM
/* POINTERS TO DATA OBJECTS */
^COMPRESSED_FILE = "H3235_0000_P13.JP2"
/* IDENTIFICATION DATA ELEMENTS */
DATA_SET_ID = "MEX-M-HRSC-5-REFDR-MAPPROJECTED-V3.0"
DATA_SET_NAME = "MARS EXPRESS HRSC MAP PROJECTED REFDR V3.0"
DETECTOR_ID = MEX_HRSC_P1
EVENT_TYPE = "MARS-REGIONAL-MAPPING-Im-Fl"
INSTRUMENT_HOST_ID = MEX
INSTRUMENT_HOST_NAME = "MARS EXPRESS"
INSTRUMENT_ID = HRSC
INSTRUMENT_NAME = "HIGH RESOLUTION STEREO CAMERA"
MISSION_NAME = "MARS EXPRESS"
MISSION_PHASE_NAME = ME_Phase_3
PROCESSING_LEVEL_ID = 3
PRODUCT_CREATION_TIME = 2016-04-13T11:55:32.000Z
PRODUCT_ID = "H3235_0000_P13.JP2"
RELEASE_ID = 0040
REVISION_ID = 0000
/* QUALITY DATA ELEMENTS */
DATA_QUALITY_ID = 2
DATA_QUALITY_DESC = "Data calculated based on photogrammetrically improved orbit and attitude data"
/* TIME DATA ELEMENTS */
SPACECRAFT_CLOCK_START_COUNT = "1/0101217808.08263"
SPACECRAFT_CLOCK_STOP_COUNT = "1/0101218062.31354"
START_TIME = 2006-07-17T12:03:44.597Z
STOP_TIME = 2006-07-17T12:06:54.213Z
/* ORBITAL DATA ELEMENTS */
ASCENDING_NODE_LONGITUDE = 160.34
MAXIMUM_RESOLUTION = 54.8
FOOTPRINT_POINT_LATITUDE = (36.5949,36.6222,36.6371,36.6511, 36.6641,36.6415,36.3978,36.032,35.6658, 35.4216,35.1772,34.9325,34.6877,34.443, 34.1979,33.9524,33.5836,33.3377,33.0918 ,32.8457,32.5995,32.23,31.9835,31.7368, 31.3665,31.1198,30.7489,30.5017,30.2543 ,29.8833,29.6358,29.2641,29.0164, 28.7683,28.5201,28.1481,27.7757,27.5273 ,27.2787,27.0301,26.6572,26.2844, 26.0355,25.6624,25.4134,25.1646,24.7912 ,24.5422,24.2932,24.2395,24.2248, 24.2093,24.1952,24.1718,24.1596,24.4087 ,24.6578,24.9068,25.1559,25.4049, 25.6539,25.9026,26.1516,26.4006,26.7735 ,27.0221,27.2705,27.519,27.7677,28.0163 ,28.2645,28.6367,29.0088,29.2567, 29.5045,29.8761,30.1236,30.3708,30.6182 ,30.9891,31.3598,31.607,31.8538,32.1003 ,32.3475,32.5936,32.9629,33.2089, 33.5773,33.8228,34.1911,34.4365,34.6825 ,34.927,35.1717,35.5388,35.7832,36.0274 ,36.3934,36.5949)
FOOTPRINT_POINT_LONGITUDE = (322.053,321.63,321.386,321.149,320.916 ,320.514,320.517,320.522,320.527, 320.529,320.532,320.535,320.537,320.539 ,320.541,320.543,320.547,320.549,320.55 ,320.552,320.553,320.555,320.556, 320.557,320.559,320.559,320.561,320.561 ,320.561,320.562,320.562,320.562, 320.561,320.561,320.561,320.56,320.56, 320.559,320.558,320.558,320.556,320.554 ,320.553,320.551,320.55,320.548,320.546 ,320.544,320.543,320.89,321.096,321.306 ,321.494,321.796,321.957,321.96,321.963 ,321.966,321.97,321.973,321.976,321.98, 321.983,321.986,321.992,321.995,321.999 ,322.003,322.006,322.01,322.014,322.019 ,322.025,322.029,322.033,322.039, 322.044,322.048,322.053,322.059,322.065 ,322.069,322.073,322.078,322.081, 322.086,322.093,322.098,322.105,322.11, 322.117,322.122,322.125,322.131,322.136 ,322.142,322.147,322.152,322.16, 322.053)
ORBIT_NUMBER = 3235
ORBITAL_ECCENTRICITY = 0.568
ORBITAL_INCLINATION = 86.69
ORBITAL_SEMIMAJOR_AXIS = 8596.98
PERIAPSIS_ALTITUDE = 321.39
PERIAPSIS_ARGUMENT_ANGLE = 149.38
PERIAPSIS_TIME = 2006-07-17T12:05:37.000Z
SPACECRAFT_ORIENTATION = (0.0,-1.0,0.0)
^MEX_ORIENTATION_DESC = "MEX_ORIENTATION_DESC.TXT"
SPACECRAFT_POINTING_MODE = ACROSSTRACK
^MEX_POINTING_DESC = "MEX_POINTING_DESC.TXT"
RIGHT_ASCENSION = -1e+32
DECLINATION = -1e+32
OFFSET_ANGLE = 1.73
SPACECRAFT_SOLAR_DISTANCE = 2.48892e+08
TARGET_NAME = MARS
/* CAMERA DATA ELEMENTS */
DETECTOR_TEMPERATURE = 17.7588
FOCAL_PLANE_TEMPERATURE = 7.9716
INST_CMPRS_NAME = "DISCRETE COSINE TRANSFORMATION (DCT)"
INST_CMPRS_RATIO = 9.17322
INST_CMPRS_QUALITY = 0
INST_CMPRS_QUANTZ_TBL_ID = 0
INSTRUMENT_TEMPERATURE = 11.0301
LENS_TEMPERATURE = 8.3794
MACROPIXEL_SIZE = 4
MISSING_FRAMES = 0
PIXEL_SUBSAMPLING_FLAG = N
SIGNAL_CHAIN_ID = 3
/* RADIOMETRIC DATA ELEMENTS */
BANDWIDTH = 174.0
CENTER_FILTER_WAVELENGTH = 675.0
RADIANCE_OFFSET = 3.793
RADIANCE_SCALING_FACTOR = 0.0173918
REFLECTANCE_SCALING_FACTOR = 0.000579496
MEX:REFLECTANCE_OFFSET = 0.126383
/* IMAGE OBJECT DEFINITIONS */
OBJECT = IMAGE
  INTERCHANGE_FORMAT = BINARY
  LINES = 14682
  LINE_SAMPLES = 1738
  SAMPLE_TYPE = UNSIGNED_INTEGER
  SAMPLE_BITS = 8
  BANDS = 1
  BAND_STORAGE_TYPE = BAND_SEQUENTIAL
  MAXIMUM = 255
  MEAN = 94.3757
  MINIMUM = 1
  STANDARD_DEVIATION = 18.6207
END_OBJECT = IMAGE
/* MAP OBJECT DEFINITIONS */
OBJECT = IMAGE_MAP_PROJECTION
  ^DATA_SET_MAP_PROJECTION_CATALOG= "DSMAP.CAT"
  A_AXIS_RADIUS = 3396.0
  B_AXIS_RADIUS = 3396.0
  C_AXIS_RADIUS = 3396.0
  CENTER_LATITUDE = 0.0
  CENTER_LONGITUDE = 321.0
  COORDINATE_SYSTEM_NAME = PLANETOGRAPHIC
  COORDINATE_SYSTEM_TYPE = "BODY-FIXED ROTATING"
  EASTERNMOST_LONGITUDE = 322.16
  FIRST_STANDARD_PARALLEL = "N/A"
  LINE_FIRST_PIXEL = 1
  LINE_LAST_PIXEL = 14682
  LINE_PROJECTION_OFFSET = 43411.625
  MAP_PROJECTION_ROTATION = 0.0
  MAP_PROJECTION_TYPE = SINUSOIDAL
  MAP_RESOLUTION = 1185.42760773333
  MAP_SCALE = 0.05
  MAXIMUM_LATITUDE = 36.6641
  MINIMUM_LATITUDE = 24.1596
  POSITIVE_LONGITUDE_DIRECTION = EAST
  REFERENCE_LATITUDE = "N/A"
  REFERENCE_LONGITUDE = "N/A"
  SAMPLE_FIRST_PIXEL = 1
  SAMPLE_LAST_PIXEL = 1738
  SAMPLE_PROJECTION_OFFSET = 545.125
  SECOND_STANDARD_PARALLEL = "N/A"
  WESTERNMOST_LONGITUDE = 320.514
END_OBJECT = IMAGE_MAP_PROJECTION
/* The JPEG2000 image data file associated with this label. */
OBJECT = COMPRESSED_FILE
  FILE_NAME = "H3235_0000_P13.JP2"
  RECORD_TYPE = UNDEFINED
  FILE_RECORDS = UNK
  ENCODING_TYPE = "JP2"
  INTERCHANGE_FORMAT = BINARY
  UNCOMPRESSED_FILE_NAME = "H3235_0000_P13.IMG"
  REQUIRED_STORAGE_BYTES = "25538172"
  ^DESCRIPTION = "JP2INFO.TXT"
END_OBJECT = COMPRESSED_FILE
END
