PDS_VERSION_ID = PDS3
/* FILE DATA ELEMENTS */
RECORD_TYPE = STREAM
/* POINTERS TO DATA OBJECTS */
^COMPRESSED_FILE = "H3246_0000_ND3.JP2"
/* IDENTIFICATION DATA ELEMENTS */
DATA_SET_ID = "MEX-M-HRSC-5-REFDR-MAPPROJECTED-V3.0"
DATA_SET_NAME = "MARS EXPRESS HRSC MAP PROJECTED REFDR V3.0"
DETECTOR_ID = MEX_HRSC_NADIR
EVENT_TYPE = "MARS-REGIONAL-MAPPING-Fl-La"
INSTRUMENT_HOST_ID = MEX
INSTRUMENT_HOST_NAME = "MARS EXPRESS"
INSTRUMENT_ID = HRSC
INSTRUMENT_NAME = "HIGH RESOLUTION STEREO CAMERA"
MISSION_NAME = "MARS EXPRESS"
MISSION_PHASE_NAME = ME_Phase_3
PROCESSING_LEVEL_ID = 3
PRODUCT_CREATION_TIME = 2016-04-13T11:55:32.000Z
PRODUCT_ID = "H3246_0000_ND3.JP2"
RELEASE_ID = 0040
REVISION_ID = 0000
/* QUALITY DATA ELEMENTS */
DATA_QUALITY_ID = 2
DATA_QUALITY_DESC = "Data calculated based on photogrammetrically improved orbit and attitude data"
/* TIME DATA ELEMENTS */
SPACECRAFT_CLOCK_START_COUNT = "1/0101484198.09061"
SPACECRAFT_CLOCK_STOP_COUNT = "1/0101484413.57926"
START_TIME = 2006-07-20T14:03:53.700Z
STOP_TIME = 2006-07-20T14:06:16.697Z
/* ORBITAL DATA ELEMENTS */
ASCENDING_NODE_LONGITUDE = 160.11
MAXIMUM_RESOLUTION = 14.1
FOOTPRINT_POINT_LATITUDE = (20.6536,20.6532,20.6525,20.6515, 20.6501,20.6482,20.4808,20.3135,20.1462 ,19.9791,19.8119,19.6449,19.478,19.3111 ,19.1443,18.9776,18.811,18.6444,18.3116 ,17.9791,17.647,17.3152,16.9839,16.6528 ,16.4668,16.2696,16.0725,15.8755, 15.6787,15.4821,15.2856,15.0892,14.893, 14.6969,14.501,14.3053,14.1097,13.9142, 13.7189,13.5238,13.3288,13.134,12.9394, 12.7449,12.5506,12.3564,12.1625,11.9687 ,11.775,11.5729,11.5724,11.5713,11.5694 ,11.5678,11.7615,11.9554,12.1494, 12.3437,12.5381,12.7326,12.9274,13.1222 ,13.3173,13.5125,13.7079,13.9034, 14.0991,14.295,14.491,14.6871,14.8834, 15.0798,15.2765,15.4732,15.6701,15.8671 ,16.0643,16.2616,16.4591,16.6467, 16.9781,17.3099,17.6421,17.9746,18.3075 ,18.474,18.6407,18.8074,18.9743,19.1412 ,19.3082,19.4752,19.6424,19.8096, 19.9769,20.1443,20.3118,20.4793,20.6469 ,20.6536)
FOOTPRINT_POINT_LONGITUDE = (318.296,318.093,317.889,317.684,317.44 ,317.168,317.169,317.169,317.169, 317.169,317.169,317.168,317.168,317.168 ,317.168,317.167,317.167,317.167, 317.165,317.164,317.162,317.161,317.159 ,317.157,317.156,317.155,317.153, 317.152,317.15,317.148,317.146,317.145, 317.142,317.14,317.138,317.136,317.134, 317.131,317.129,317.126,317.124,317.121 ,317.119,317.116,317.113,317.111, 317.108,317.105,317.102,317.26,317.509, 317.859,318.251,318.575,318.573,318.572 ,318.57,318.568,318.567,318.565,318.563 ,318.562,318.56,318.558,318.557,318.555 ,318.553,318.552,318.55,318.548,318.546 ,318.544,318.542,318.54,318.539,318.537 ,318.535,318.533,318.532,318.53,318.527 ,318.524,318.521,318.518,318.514, 318.513,318.511,318.51,318.508,318.506, 318.505,318.503,318.502,318.5,318.499, 318.497,318.495,318.494,318.492, 318.296)
ORBIT_NUMBER = 3246
ORBITAL_ECCENTRICITY = 0.568
ORBITAL_INCLINATION = 86.69
ORBITAL_SEMIMAJOR_AXIS = 8594.42
PERIAPSIS_ALTITUDE = 322.67
PERIAPSIS_ARGUMENT_ANGLE = 147.43
PERIAPSIS_TIME = 2006-07-20T14:00:52.000Z
SPACECRAFT_ORIENTATION = (0.0,-1.0,0.0)
^MEX_ORIENTATION_DESC = "MEX_ORIENTATION_DESC.TXT"
SPACECRAFT_POINTING_MODE = ACROSSTRACK
^MEX_POINTING_DESC = "MEX_POINTING_DESC.TXT"
RIGHT_ASCENSION = -1e+32
DECLINATION = -1e+32
OFFSET_ANGLE = -0.3
SPACECRAFT_SOLAR_DISTANCE = 2.48787e+08
TARGET_NAME = MARS
/* CAMERA DATA ELEMENTS */
DETECTOR_TEMPERATURE = 17.9627
FOCAL_PLANE_TEMPERATURE = 8.1755
INST_CMPRS_NAME = "DISCRETE COSINE TRANSFORMATION (DCT)"
INST_CMPRS_RATIO = 7.08686
INST_CMPRS_QUALITY = 0
INST_CMPRS_QUANTZ_TBL_ID = 0
INSTRUMENT_TEMPERATURE = 10.8262
LENS_TEMPERATURE = 8.5833
MACROPIXEL_SIZE = 1
MISSING_FRAMES = 0
PIXEL_SUBSAMPLING_FLAG = N
SIGNAL_CHAIN_ID = 0
/* RADIOMETRIC DATA ELEMENTS */
BANDWIDTH = 177.0
CENTER_FILTER_WAVELENGTH = 677.5
RADIANCE_OFFSET = 3.57871
RADIANCE_SCALING_FACTOR = 0.0200159
REFLECTANCE_SCALING_FACTOR = 0.000658133
MEX:REFLECTANCE_OFFSET = 0.11767
/* IMAGE OBJECT DEFINITIONS */
OBJECT = IMAGE
  INTERCHANGE_FORMAT = BINARY
  LINES = 43085
  LINE_SAMPLES = 7136
  SAMPLE_TYPE = UNSIGNED_INTEGER
  SAMPLE_BITS = 8
  BANDS = 1
  BAND_STORAGE_TYPE = BAND_SEQUENTIAL
  MAXIMUM = 255
  MEAN = 138.558
  MINIMUM = 1
  STANDARD_DEVIATION = 31.5063
END_OBJECT = IMAGE
/* MAP OBJECT DEFINITIONS */
OBJECT = IMAGE_MAP_PROJECTION
  ^DATA_SET_MAP_PROJECTION_CATALOG= "DSMAP.CAT"
  A_AXIS_RADIUS = 3396.0
  B_AXIS_RADIUS = 3396.0
  C_AXIS_RADIUS = 3396.0
  CENTER_LATITUDE = 0.0
  CENTER_LONGITUDE = 318.0
  COORDINATE_SYSTEM_NAME = PLANETOGRAPHIC
  COORDINATE_SYSTEM_TYPE = "BODY-FIXED ROTATING"
  EASTERNMOST_LONGITUDE = 318.575
  FIRST_STANDARD_PARALLEL = "N/A"
  LINE_FIRST_PIXEL = 1
  LINE_LAST_PIXEL = 43085
  LINE_PROJECTION_OFFSET = 97939.0
  MAP_PROJECTION_ROTATION = 0.0
  MAP_PROJECTION_TYPE = SINUSOIDAL
  MAP_RESOLUTION = 4741.71043093333
  MAP_SCALE = 0.0125
  MAXIMUM_LATITUDE = 20.6536
  MINIMUM_LATITUDE = 11.5678
  POSITIVE_LONGITUDE_DIRECTION = EAST
  REFERENCE_LATITUDE = "N/A"
  REFERENCE_LONGITUDE = "N/A"
  SAMPLE_FIRST_PIXEL = 1
  SAMPLE_LAST_PIXEL = 7136
  SAMPLE_PROJECTION_OFFSET = 4379.0
  SECOND_STANDARD_PARALLEL = "N/A"
  WESTERNMOST_LONGITUDE = 317.102
END_OBJECT = IMAGE_MAP_PROJECTION
/* The JPEG2000 image data file associated with this label. */
OBJECT = COMPRESSED_FILE
  FILE_NAME = "H3246_0000_ND3.JP2"
  RECORD_TYPE = UNDEFINED
  FILE_RECORDS = UNK
  ENCODING_TYPE = "JP2"
  INTERCHANGE_FORMAT = BINARY
  UNCOMPRESSED_FILE_NAME = "H3246_0000_ND3.IMG"
  REQUIRED_STORAGE_BYTES = "307483104"
  ^DESCRIPTION = "JP2INFO.TXT"
END_OBJECT = COMPRESSED_FILE
END
