PDS_VERSION_ID = PDS3
/* FILE DATA ELEMENTS */
RECORD_TYPE = STREAM
/* POINTERS TO DATA OBJECTS */
^COMPRESSED_FILE = "H3249_0000_GR3.JP2"
/* IDENTIFICATION DATA ELEMENTS */
DATA_SET_ID = "MEX-M-HRSC-5-REFDR-MAPPROJECTED-V3.0"
DATA_SET_NAME = "MARS EXPRESS HRSC MAP PROJECTED REFDR V3.0"
DETECTOR_ID = MEX_HRSC_GREEN
EVENT_TYPE = "MARS-REGIONAL-MAPPING-Te-Fl-Mw"
INSTRUMENT_HOST_ID = MEX
INSTRUMENT_HOST_NAME = "MARS EXPRESS"
INSTRUMENT_ID = HRSC
INSTRUMENT_NAME = "HIGH RESOLUTION STEREO CAMERA"
MISSION_NAME = "MARS EXPRESS"
MISSION_PHASE_NAME = ME_Phase_3
PROCESSING_LEVEL_ID = 3
PRODUCT_CREATION_TIME = 2016-04-13T11:55:32.000Z
PRODUCT_ID = "H3249_0000_GR3.JP2"
RELEASE_ID = 0040
REVISION_ID = 0000
/* QUALITY DATA ELEMENTS */
DATA_QUALITY_ID = 2
DATA_QUALITY_DESC = "Data calculated based on photogrammetrically improved orbit and attitude data"
/* TIME DATA ELEMENTS */
SPACECRAFT_CLOCK_START_COUNT = "1/0101556333.07276"
SPACECRAFT_CLOCK_STOP_COUNT = "1/0101556609.32436"
START_TIME = 2006-07-21T10:06:09.920Z
STOP_TIME = 2006-07-21T10:09:38.177Z
/* ORBITAL DATA ELEMENTS */
ASCENDING_NODE_LONGITUDE = 160.05
MAXIMUM_RESOLUTION = 105.3
FOOTPRINT_POINT_LATITUDE = (49.4959,49.4671,49.4344,49.1361, 48.8759,48.6153,48.3542,48.093,47.8315, 47.5698,47.3077,47.0453,46.7826,46.388, 45.993,45.7289,45.4647,45.0697,44.8036, 44.5385,44.2734,44.008,43.7423,43.4765, 43.2103,42.944,42.6774,42.4106,42.1436, 41.8765,41.6092,41.3415,41.0737,40.8058 ,40.5381,40.1361,39.8668,39.4636, 39.1963,38.9259,38.6581,38.3889,38.1194 ,37.8496,37.5796,37.3095,36.9043,36.634 ,36.3634,36.0925,36.0837,36.1026, 36.2585,36.5297,36.8008,37.0716,37.3424 ,37.6131,38.0192,38.4251,38.6937, 39.0985,39.5033,39.7734,40.0443,40.3122 ,40.5812,40.8501,41.1189,41.3877, 41.6563,41.9246,42.1928,42.4608,42.7286 ,42.9962,43.2638,43.5309,43.7979, 44.0648,44.4648,44.8643,45.1308,45.3964 ,45.6618,45.9268,46.3235,46.5885, 46.8523,47.1164,47.3802,47.6437,47.9071 ,48.1701,48.4329,48.6955,48.9576, 49.2196,49.4812,49.4959)
FOOTPRINT_POINT_LONGITUDE = (21.5348,20.9252,20.3036,19.953,19.9901 ,20.0264,20.0615,20.0965,20.1311, 20.1657,20.1993,20.232,20.2645,20.3114, 20.3583,20.3869,20.4158,20.4668,20.4878 ,20.5152,20.5426,20.5695,20.5958, 20.6221,20.6473,20.672,20.6963,20.7204, 20.7442,20.7676,20.7905,20.8124,20.8346 ,20.8563,20.8795,20.913,20.9298,20.9589 ,20.9868,20.9991,21.0251,21.0442, 21.0627,21.0795,21.0958,21.1118,21.1359 ,21.1514,21.166,21.1792,21.5175,22.039, 22.6299,22.6218,22.6135,22.6049,22.5962 ,22.5876,22.5745,22.5614,22.5498, 22.5354,22.5211,22.5119,22.5039,22.4919 ,22.4815,22.471,22.4605,22.4499,22.4392 ,22.4283,22.4173,22.4062,22.3947, 22.3833,22.3718,22.3599,22.3479,22.3358 ,22.3176,22.2989,22.2867,22.2736, 22.2603,22.2466,22.2252,22.2118,22.1971 ,22.1827,22.1682,22.1534,22.1384, 22.1233,22.1079,22.0924,22.0765,22.0604 ,22.044,21.5348)
ORBIT_NUMBER = 3249
ORBITAL_ECCENTRICITY = 0.568
ORBITAL_INCLINATION = 86.67
ORBITAL_SEMIMAJOR_AXIS = 8599.27
PERIAPSIS_ALTITUDE = 322.98
PERIAPSIS_ARGUMENT_ANGLE = 146.89
PERIAPSIS_TIME = 2006-07-21T10:10:30.000Z
SPACECRAFT_ORIENTATION = (0.0,-1.0,0.0)
^MEX_ORIENTATION_DESC = "MEX_ORIENTATION_DESC.TXT"
SPACECRAFT_POINTING_MODE = ACROSSTRACK
^MEX_POINTING_DESC = "MEX_POINTING_DESC.TXT"
RIGHT_ASCENSION = -1e+32
DECLINATION = -1e+32
OFFSET_ANGLE = -0.92
SPACECRAFT_SOLAR_DISTANCE = 2.48755e+08
TARGET_NAME = MARS
/* CAMERA DATA ELEMENTS */
DETECTOR_TEMPERATURE = 19.5939
FOCAL_PLANE_TEMPERATURE = 7.9716
INST_CMPRS_NAME = "DISCRETE COSINE TRANSFORMATION (DCT)"
INST_CMPRS_RATIO = 17.7668
INST_CMPRS_QUALITY = 0
INST_CMPRS_QUANTZ_TBL_ID = 0
INSTRUMENT_TEMPERATURE = 11.6418
LENS_TEMPERATURE = 8.3794
MACROPIXEL_SIZE = 8
MISSING_FRAMES = 0
PIXEL_SUBSAMPLING_FLAG = N
SIGNAL_CHAIN_ID = 2
/* RADIOMETRIC DATA ELEMENTS */
BANDWIDTH = 88.0
CENTER_FILTER_WAVELENGTH = 538.0
RADIANCE_OFFSET = 1.40793
RADIANCE_SCALING_FACTOR = 0.00525838
REFLECTANCE_SCALING_FACTOR = 0.000280148
MEX:REFLECTANCE_OFFSET = 0.0750097
/* IMAGE OBJECT DEFINITIONS */
OBJECT = IMAGE
  INTERCHANGE_FORMAT = BINARY
  LINES = 7949
  LINE_SAMPLES = 1124
  SAMPLE_TYPE = UNSIGNED_INTEGER
  SAMPLE_BITS = 8
  BANDS = 1
  BAND_STORAGE_TYPE = BAND_SEQUENTIAL
  MAXIMUM = 255
  MEAN = 122.776
  MINIMUM = 1
  STANDARD_DEVIATION = 28.7378
END_OBJECT = IMAGE
/* MAP OBJECT DEFINITIONS */
OBJECT = IMAGE_MAP_PROJECTION
  ^DATA_SET_MAP_PROJECTION_CATALOG= "DSMAP.CAT"
  A_AXIS_RADIUS = 3396.0
  B_AXIS_RADIUS = 3396.0
  C_AXIS_RADIUS = 3396.0
  CENTER_LATITUDE = 0.0
  CENTER_LONGITUDE = 22.0
  COORDINATE_SYSTEM_NAME = PLANETOGRAPHIC
  COORDINATE_SYSTEM_TYPE = "BODY-FIXED ROTATING"
  EASTERNMOST_LONGITUDE = 22.6299
  FIRST_STANDARD_PARALLEL = "N/A"
  LINE_FIRST_PIXEL = 1
  LINE_LAST_PIXEL = 7949
  LINE_PROJECTION_OFFSET = 29339.1875
  MAP_PROJECTION_ROTATION = 0.0
  MAP_PROJECTION_TYPE = SINUSOIDAL
  MAP_RESOLUTION = 592.713803866667
  MAP_SCALE = 0.1
  MAXIMUM_LATITUDE = 49.4959
  MINIMUM_LATITUDE = 36.0837
  POSITIVE_LONGITUDE_DIRECTION = EAST
  REFERENCE_LATITUDE = "N/A"
  REFERENCE_LONGITUDE = "N/A"
  SAMPLE_FIRST_PIXEL = 1
  SAMPLE_LAST_PIXEL = 1124
  SAMPLE_PROJECTION_OFFSET = 812.1875
  SECOND_STANDARD_PARALLEL = "N/A"
  WESTERNMOST_LONGITUDE = 19.953
END_OBJECT = IMAGE_MAP_PROJECTION
/* The JPEG2000 image data file associated with this label. */
OBJECT = COMPRESSED_FILE
  FILE_NAME = "H3249_0000_GR3.JP2"
  RECORD_TYPE = UNDEFINED
  FILE_RECORDS = UNK
  ENCODING_TYPE = "JP2"
  INTERCHANGE_FORMAT = BINARY
  UNCOMPRESSED_FILE_NAME = "H3249_0000_GR3.IMG"
  REQUIRED_STORAGE_BYTES = "8953784"
  ^DESCRIPTION = "JP2INFO.TXT"
END_OBJECT = COMPRESSED_FILE
END
