PDS_VERSION_ID = PDS3
/* FILE DATA ELEMENTS */
RECORD_TYPE = STREAM
/* POINTERS TO DATA OBJECTS */
^COMPRESSED_FILE = "H3253_0001_ND3.JP2"
/* IDENTIFICATION DATA ELEMENTS */
DATA_SET_ID = "MEX-M-HRSC-5-REFDR-MAPPROJECTED-V3.0"
DATA_SET_NAME = "MARS EXPRESS HRSC MAP PROJECTED REFDR V3.0"
DETECTOR_ID = MEX_HRSC_NADIR
EVENT_TYPE = "MARS-REGIONAL-MAPPING-Im-Lc-La"
INSTRUMENT_HOST_ID = MEX
INSTRUMENT_HOST_NAME = "MARS EXPRESS"
INSTRUMENT_ID = HRSC
INSTRUMENT_NAME = "HIGH RESOLUTION STEREO CAMERA"
MISSION_NAME = "MARS EXPRESS"
MISSION_PHASE_NAME = ME_Phase_3
PROCESSING_LEVEL_ID = 3
PRODUCT_CREATION_TIME = 2016-04-13T11:55:32.000Z
PRODUCT_ID = "H3253_0001_ND3.JP2"
RELEASE_ID = 0040
REVISION_ID = 0000
/* QUALITY DATA ELEMENTS */
DATA_QUALITY_ID = 1
DATA_QUALITY_DESC = "Data calculated based on original SPICE kernels"
/* TIME DATA ELEMENTS */
SPACECRAFT_CLOCK_START_COUNT = "1/0101653508.08280"
SPACECRAFT_CLOCK_STOP_COUNT = "1/0101653660.40356"
START_TIME = 2006-07-22T13:05:43.074Z
STOP_TIME = 2006-07-22T13:07:09.049Z
/* ORBITAL DATA ELEMENTS */
ASCENDING_NODE_LONGITUDE = 159.97
MAXIMUM_RESOLUTION = 13.6
FOOTPRINT_POINT_LATITUDE = (24.6029,24.6028,24.6025,24.6019,24.601 ,24.5996,24.5983,24.4869,24.3754,24.264 ,24.1525,23.9854,23.874,23.7627,23.6514 ,23.5401,23.4289,23.3176,23.2065, 23.0953,22.9841,22.873,22.762,22.6509, 22.5399,22.4289,22.318,22.207,22.0961, 21.9853,21.8745,21.7637,21.6529,21.5422 ,21.4315,21.3208,21.2102,21.0996,20.989 ,20.8785,20.768,20.6576,20.4367,20.2161 ,19.9956,19.7752,19.555,19.39,19.2251, 19.0607,19.0611,19.0613,19.0613,19.0611 ,19.0605,19.0599,19.1698,19.3349, 19.5552,19.7757,19.9963,20.217,20.3274, 20.4378,20.5483,20.6589,20.7695,20.8801 ,21.0461,21.1568,21.2675,21.3783, 21.4891,21.5999,21.7662,21.8771,21.9881 ,22.099,22.21,22.3211,22.4321,22.5432, 22.6544,22.7655,22.8767,22.9879,23.0991 ,23.2104,23.3217,23.433,23.5444,23.6558 ,23.7672,23.8787,23.9902,24.1017, 24.2132,24.3248,24.4363,24.6029)
FOOTPRINT_POINT_LONGITUDE = (351.239,350.993,350.787,350.583, 350.379,350.139,349.941,349.941,349.941 ,349.941,349.941,349.941,349.942, 349.942,349.942,349.941,349.941,349.941 ,349.941,349.941,349.941,349.941, 349.941,349.941,349.94,349.94,349.94, 349.94,349.939,349.939,349.938,349.938, 349.938,349.937,349.937,349.936,349.936 ,349.935,349.935,349.934,349.934, 349.933,349.932,349.931,349.929,349.928 ,349.925,349.924,349.922,349.92,350.134 ,350.427,350.547,350.763,350.992, 351.183,351.286,351.287,351.286,351.285 ,351.284,351.283,351.28,351.279,351.278 ,351.279,351.279,351.279,351.282, 351.282,351.281,351.281,351.28,351.279, 351.278,351.277,351.276,351.276,351.275 ,351.274,351.274,351.273,351.272,351.27 ,351.268,351.267,351.266,351.265, 351.265,351.264,351.263,351.263,351.263 ,351.262,351.262,351.262,351.261, 351.261,351.26,351.239)
ORBIT_NUMBER = 3253
ORBITAL_ECCENTRICITY = 0.568
ORBITAL_INCLINATION = 86.68
ORBITAL_SEMIMAJOR_AXIS = 8593.35
PERIAPSIS_ALTITUDE = 323.53
PERIAPSIS_ARGUMENT_ANGLE = 146.16
PERIAPSIS_TIME = 2006-07-22T13:03:22.000Z
SPACECRAFT_ORIENTATION = (0.0,-1.0,0.0)
^MEX_ORIENTATION_DESC = "MEX_ORIENTATION_DESC.TXT"
SPACECRAFT_POINTING_MODE = ACROSSTRACK
^MEX_POINTING_DESC = "MEX_POINTING_DESC.TXT"
RIGHT_ASCENSION = -1e+32
DECLINATION = -1e+32
OFFSET_ANGLE = 0.4
SPACECRAFT_SOLAR_DISTANCE = 2.48712e+08
TARGET_NAME = MARS
/* CAMERA DATA ELEMENTS */
DETECTOR_TEMPERATURE = 18.7783
FOCAL_PLANE_TEMPERATURE = 7.9716
INST_CMPRS_NAME = "DISCRETE COSINE TRANSFORMATION (DCT)"
INST_CMPRS_RATIO = 7.15697
INST_CMPRS_QUALITY = 0
INST_CMPRS_QUANTZ_TBL_ID = 0
INSTRUMENT_TEMPERATURE = 12.2535
LENS_TEMPERATURE = 8.5833
MACROPIXEL_SIZE = 1
MISSING_FRAMES = 0
PIXEL_SUBSAMPLING_FLAG = N
SIGNAL_CHAIN_ID = 0
/* RADIOMETRIC DATA ELEMENTS */
BANDWIDTH = 177.0
CENTER_FILTER_WAVELENGTH = 677.5
RADIANCE_OFFSET = 3.361
RADIANCE_SCALING_FACTOR = 0.0271846
REFLECTANCE_SCALING_FACTOR = 0.00089331
MEX:REFLECTANCE_OFFSET = 0.110446
/* IMAGE OBJECT DEFINITIONS */
OBJECT = IMAGE
  INTERCHANGE_FORMAT = BINARY
  LINES = 26287
  LINE_SAMPLES = 6387
  SAMPLE_TYPE = UNSIGNED_INTEGER
  SAMPLE_BITS = 8
  BANDS = 1
  BAND_STORAGE_TYPE = BAND_SEQUENTIAL
  MAXIMUM = 255
  MEAN = 142.268
  MINIMUM = 1
  STANDARD_DEVIATION = 29.0423
END_OBJECT = IMAGE
/* MAP OBJECT DEFINITIONS */
OBJECT = IMAGE_MAP_PROJECTION
  ^DATA_SET_MAP_PROJECTION_CATALOG= "DSMAP.CAT"
  A_AXIS_RADIUS = 3396.0
  B_AXIS_RADIUS = 3396.0
  C_AXIS_RADIUS = 3396.0
  CENTER_LATITUDE = 0.0
  CENTER_LONGITUDE = 351.0
  COORDINATE_SYSTEM_NAME = PLANETOGRAPHIC
  COORDINATE_SYSTEM_TYPE = "BODY-FIXED ROTATING"
  EASTERNMOST_LONGITUDE = 351.287
  FIRST_STANDARD_PARALLEL = "N/A"
  LINE_FIRST_PIXEL = 1
  LINE_LAST_PIXEL = 26287
  LINE_PROJECTION_OFFSET = 116660.0
  MAP_PROJECTION_ROTATION = 0.0
  MAP_PROJECTION_TYPE = SINUSOIDAL
  MAP_RESOLUTION = 4741.71043093333
  MAP_SCALE = 0.0125
  MAXIMUM_LATITUDE = 24.6029
  MINIMUM_LATITUDE = 19.0599
  POSITIVE_LONGITUDE_DIRECTION = EAST
  REFERENCE_LATITUDE = "N/A"
  REFERENCE_LONGITUDE = "N/A"
  SAMPLE_FIRST_PIXEL = 1
  SAMPLE_LAST_PIXEL = 6387
  SAMPLE_PROJECTION_OFFSET = 4865.0
  SECOND_STANDARD_PARALLEL = "N/A"
  WESTERNMOST_LONGITUDE = 349.92
END_OBJECT = IMAGE_MAP_PROJECTION
/* The JPEG2000 image data file associated with this label. */
OBJECT = COMPRESSED_FILE
  FILE_NAME = "H3253_0001_ND3.JP2"
  RECORD_TYPE = UNDEFINED
  FILE_RECORDS = UNK
  ENCODING_TYPE = "JP2"
  INTERCHANGE_FORMAT = BINARY
  UNCOMPRESSED_FILE_NAME = "H3253_0001_ND3.IMG"
  REQUIRED_STORAGE_BYTES = "167927004"
  ^DESCRIPTION = "JP2INFO.TXT"
END_OBJECT = COMPRESSED_FILE
END
