PDS_VERSION_ID = PDS3
/* FILE DATA ELEMENTS */
RECORD_TYPE = STREAM
/* POINTERS TO DATA OBJECTS */
^COMPRESSED_FILE = "H3253_0002_GR3.JP2"
/* IDENTIFICATION DATA ELEMENTS */
DATA_SET_ID = "MEX-M-HRSC-5-REFDR-MAPPROJECTED-V3.0"
DATA_SET_NAME = "MARS EXPRESS HRSC MAP PROJECTED REFDR V3.0"
DETECTOR_ID = MEX_HRSC_GREEN
EVENT_TYPE = "MARS-REGIONAL-MAPPING-Im-Lc-La"
INSTRUMENT_HOST_ID = MEX
INSTRUMENT_HOST_NAME = "MARS EXPRESS"
INSTRUMENT_ID = HRSC
INSTRUMENT_NAME = "HIGH RESOLUTION STEREO CAMERA"
MISSION_NAME = "MARS EXPRESS"
MISSION_PHASE_NAME = ME_Phase_3
PROCESSING_LEVEL_ID = 3
PRODUCT_CREATION_TIME = 2016-04-13T11:55:32.000Z
PRODUCT_ID = "H3253_0002_GR3.JP2"
RELEASE_ID = 0040
REVISION_ID = 0000
/* QUALITY DATA ELEMENTS */
DATA_QUALITY_ID = 2
DATA_QUALITY_DESC = "Data calculated based on photogrammetrically improved orbit and attitude data"
/* TIME DATA ELEMENTS */
SPACECRAFT_CLOCK_START_COUNT = "1/0101653791.08422"
SPACECRAFT_CLOCK_STOP_COUNT = "1/0101654099.59517"
START_TIME = 2006-07-22T13:10:31.755Z
STOP_TIME = 2006-07-22T13:13:35.244Z
/* ORBITAL DATA ELEMENTS */
ASCENDING_NODE_LONGITUDE = 159.97
MAXIMUM_RESOLUTION = 76.4
FOOTPRINT_POINT_LATITUDE = (5.9655,5.96912,5.97399,5.97716,5.98016 ,5.97976,5.69061,5.39971,5.20421, 4.81471,4.51719,4.31819,4.02078,3.71942 ,3.51693,3.31487,3.11209,2.90603, 2.70075,2.49518,2.18263,1.97366,1.76482 ,1.44733,1.235,1.02292,0.807371, 0.591773,0.376478,0.158186,-0.0606342, -0.279081,-0.500749,-0.722676,-0.944368 ,-1.16938,-1.50687,-1.73433,-1.96277, -2.30673,-2.53816,-2.88677,-3.12144, -3.35556,-3.59348,-3.83089,-4.1908, -4.43109,-4.6741,-4.82165,-4.82565, -4.83127,-4.83581,-4.84268,-4.84915, -4.7305,-4.48683,-4.24598,-3.88541, -3.64756,-3.40918,-3.17449,-2.93932, -2.59096,-2.35913,-2.01365,-1.78519, -1.557,-1.33176,-1.10618,-0.771504, -0.549128,-0.326862,-0.10812,0.111015, 0.329866,0.545403,0.76138,0.97757, 1.19015,1.40254,1.72052,2.03418,2.24363 ,2.45159,2.76056,2.96681,3.1723,3.37454 ,3.57707,3.77976,4.08008,4.27908, 4.47837,4.67788,5.06906,5.26501,5.55805 ,5.9423,5.9655)
FOOTPRINT_POINT_LONGITUDE = (351.06,350.811,350.453,350.206,349.959 ,349.691,349.682,349.673,349.667, 349.657,349.647,349.641,349.632,349.623 ,349.617,349.61,349.604,349.597,349.59, 349.583,349.572,349.565,349.558,349.547 ,349.539,349.532,349.524,349.516, 349.508,349.5,349.492,349.484,349.475, 349.467,349.458,349.449,349.436,349.427 ,349.418,349.404,349.394,349.38,349.37, 349.36,349.35,349.34,349.324,349.314, 349.303,349.601,349.825,350.153,350.419 ,350.831,351.203,351.498,351.494,351.49 ,351.484,351.48,351.476,351.473,351.469 ,351.466,351.463,351.456,351.454, 351.451,351.447,351.444,351.44,351.437, 351.434,351.431,351.429,351.426,351.423 ,351.42,351.418,351.414,351.412,351.409 ,351.405,351.403,351.402,351.397, 351.395,351.392,351.39,351.388,351.387, 351.384,351.382,351.38,351.378,351.374, 351.372,351.369,351.366,351.06)
ORBIT_NUMBER = 3253
ORBITAL_ECCENTRICITY = 0.568
ORBITAL_INCLINATION = 86.68
ORBITAL_SEMIMAJOR_AXIS = 8593.35
PERIAPSIS_ALTITUDE = 323.53
PERIAPSIS_ARGUMENT_ANGLE = 146.16
PERIAPSIS_TIME = 2006-07-22T13:03:22.000Z
SPACECRAFT_ORIENTATION = (0.0,-1.0,0.0)
^MEX_ORIENTATION_DESC = "MEX_ORIENTATION_DESC.TXT"
SPACECRAFT_POINTING_MODE = ACROSSTRACK
^MEX_POINTING_DESC = "MEX_POINTING_DESC.TXT"
RIGHT_ASCENSION = -1e+32
DECLINATION = -1e+32
OFFSET_ANGLE = 0.4
SPACECRAFT_SOLAR_DISTANCE = 2.48712e+08
TARGET_NAME = MARS
/* CAMERA DATA ELEMENTS */
DETECTOR_TEMPERATURE = 19.7978
FOCAL_PLANE_TEMPERATURE = 8.5833
INST_CMPRS_NAME = "DISCRETE COSINE TRANSFORMATION (DCT)"
INST_CMPRS_RATIO = 9.6872
INST_CMPRS_QUALITY = 0
INST_CMPRS_QUANTZ_TBL_ID = 0
INSTRUMENT_TEMPERATURE = 13.273
LENS_TEMPERATURE = 8.7872
MACROPIXEL_SIZE = 4
MISSING_FRAMES = 0
PIXEL_SUBSAMPLING_FLAG = N
SIGNAL_CHAIN_ID = 2
/* RADIOMETRIC DATA ELEMENTS */
BANDWIDTH = 88.0
CENTER_FILTER_WAVELENGTH = 538.0
RADIANCE_OFFSET = 1.17423
RADIANCE_SCALING_FACTOR = 0.00654747
REFLECTANCE_SCALING_FACTOR = 0.000348703
MEX:REFLECTANCE_OFFSET = 0.0625367
/* IMAGE OBJECT DEFINITIONS */
OBJECT = IMAGE
  INTERCHANGE_FORMAT = BINARY
  LINES = 6425
  LINE_SAMPLES = 1368
  SAMPLE_TYPE = UNSIGNED_INTEGER
  SAMPLE_BITS = 8
  BANDS = 1
  BAND_STORAGE_TYPE = BAND_SEQUENTIAL
  MAXIMUM = 255
  MEAN = 112.526
  MINIMUM = 1
  STANDARD_DEVIATION = 27.7635
END_OBJECT = IMAGE
/* MAP OBJECT DEFINITIONS */
OBJECT = IMAGE_MAP_PROJECTION
  ^DATA_SET_MAP_PROJECTION_CATALOG= "DSMAP.CAT"
  A_AXIS_RADIUS = 3396.0
  B_AXIS_RADIUS = 3396.0
  C_AXIS_RADIUS = 3396.0
  CENTER_LATITUDE = 0.0
  CENTER_LONGITUDE = 350.0
  COORDINATE_SYSTEM_NAME = PLANETOGRAPHIC
  COORDINATE_SYSTEM_TYPE = "BODY-FIXED ROTATING"
  EASTERNMOST_LONGITUDE = 351.498
  FIRST_STANDARD_PARALLEL = "N/A"
  LINE_FIRST_PIXEL = 1
  LINE_LAST_PIXEL = 6425
  LINE_PROJECTION_OFFSET = 3554.125
  MAP_PROJECTION_ROTATION = 0.0
  MAP_PROJECTION_TYPE = SINUSOIDAL
  MAP_RESOLUTION = 592.713803866667
  MAP_SCALE = 0.1
  MAXIMUM_LATITUDE = 5.98016
  MINIMUM_LATITUDE = -4.84915
  POSITIVE_LONGITUDE_DIRECTION = EAST
  REFERENCE_LATITUDE = "N/A"
  REFERENCE_LONGITUDE = "N/A"
  SAMPLE_FIRST_PIXEL = 1
  SAMPLE_LAST_PIXEL = 1368
  SAMPLE_PROJECTION_OFFSET = 439.875
  SECOND_STANDARD_PARALLEL = "N/A"
  WESTERNMOST_LONGITUDE = 349.303
END_OBJECT = IMAGE_MAP_PROJECTION
/* The JPEG2000 image data file associated with this label. */
OBJECT = COMPRESSED_FILE
  FILE_NAME = "H3253_0002_GR3.JP2"
  RECORD_TYPE = UNDEFINED
  FILE_RECORDS = UNK
  ENCODING_TYPE = "JP2"
  INTERCHANGE_FORMAT = BINARY
  UNCOMPRESSED_FILE_NAME = "H3253_0002_GR3.IMG"
  REQUIRED_STORAGE_BYTES = "8808552"
  ^DESCRIPTION = "JP2INFO.TXT"
END_OBJECT = COMPRESSED_FILE
END
