PDS_VERSION_ID = PDS3
/* FILE DATA ELEMENTS */
RECORD_TYPE = STREAM
/* POINTERS TO DATA OBJECTS */
^COMPRESSED_FILE = "H3254_0000_ND3.JP2"
/* IDENTIFICATION DATA ELEMENTS */
DATA_SET_ID = "MEX-M-HRSC-5-REFDR-MAPPROJECTED-V3.0"
DATA_SET_NAME = "MARS EXPRESS HRSC MAP PROJECTED REFDR V3.0"
DETECTOR_ID = MEX_HRSC_NADIR
EVENT_TYPE = "MARS-REGIONAL-MAPPING-Vo-Gl"
INSTRUMENT_HOST_ID = MEX
INSTRUMENT_HOST_NAME = "MARS EXPRESS"
INSTRUMENT_ID = HRSC
INSTRUMENT_NAME = "HIGH RESOLUTION STEREO CAMERA"
MISSION_NAME = "MARS EXPRESS"
MISSION_PHASE_NAME = ME_Phase_3
PROCESSING_LEVEL_ID = 3
PRODUCT_CREATION_TIME = 2016-04-13T11:55:32.000Z
PRODUCT_ID = "H3254_0000_ND3.JP2"
RELEASE_ID = 0040
REVISION_ID = 0000
/* QUALITY DATA ELEMENTS */
DATA_QUALITY_ID = 1
DATA_QUALITY_DESC = "Data calculated based on original SPICE kernels"
/* TIME DATA ELEMENTS */
SPACECRAFT_CLOCK_START_COUNT = "1/0101677839.08372"
SPACECRAFT_CLOCK_STOP_COUNT = "1/0101678102.25352"
START_TIME = 2006-07-22T19:51:18.067Z
STOP_TIME = 2006-07-22T19:54:13.077Z
/* ORBITAL DATA ELEMENTS */
ASCENDING_NODE_LONGITUDE = 159.95
MAXIMUM_RESOLUTION = 15.4
FOOTPRINT_POINT_LATITUDE = (15.7477,15.7486,15.7497,15.7503, 15.7504,15.5458,15.3418,15.1379,14.9342 ,14.7307,14.5274,14.3243,13.9185, 13.5135,13.1092,12.7057,12.499,12.2923, 12.0858,11.8795,11.6734,11.4644,11.2533 ,11.0425,10.8318,10.6215,10.4081, 10.1928,9.97773,9.7629,9.54835,9.32878, 9.10937,8.89023,8.67138,8.44953,8.2259, 8.00257,7.77953,7.55384,7.32609,7.09866 ,6.87153,6.52454,6.29295,6.06169, 5.70905,5.47339,5.2381,4.98931,4.9865, 4.98242,4.97731,4.97411,5.21363,5.44923 ,5.68518,6.03845,6.27,6.50188,6.8495, 7.07691,7.30463,7.53266,7.75881,7.98212 ,8.20573,8.42963,8.65193,8.87105, 9.09044,9.3101,9.53003,9.74494,9.96002, 10.1753,10.3909,10.6047,10.8153,11.0261 ,11.2372,11.4486,11.6581,11.8644,12.071 ,12.2777,12.4847,12.6919,13.0959, 13.5006,13.9061,14.1091,14.3123,14.5156 ,14.7192,14.9229,15.1268,15.3309, 15.5351,15.7477)
FOOTPRINT_POINT_LONGITUDE = (252.678,252.456,252.137,251.765, 251.476,251.373,251.37,251.367,251.364, 251.362,251.359,251.355,251.349,251.342 ,251.335,251.328,251.324,251.321, 251.317,251.313,251.309,251.305,251.301 ,251.297,251.293,251.289,251.285,251.28 ,251.276,251.272,251.267,251.262, 251.257,251.252,251.247,251.242,251.236 ,251.231,251.225,251.219,251.213, 251.207,251.201,251.191,251.185,251.178 ,251.168,251.161,251.154,251.264, 251.583,252.019,252.524,252.853,252.851 ,252.848,252.845,252.841,252.838, 252.836,252.832,252.829,252.827,252.824 ,252.822,252.819,252.817,252.815, 252.813,252.812,252.81,252.808,252.807, 252.806,252.805,252.803,252.802,252.801 ,252.799,252.797,252.796,252.796, 252.795,252.794,252.795,252.795,252.795 ,252.794,252.792,252.788,252.785, 252.784,252.782,252.78,252.779,252.777, 252.776,252.774,252.773,252.678)
ORBIT_NUMBER = 3254
ORBITAL_ECCENTRICITY = 0.569
ORBITAL_INCLINATION = 86.68
ORBITAL_SEMIMAJOR_AXIS = 8605.2
PERIAPSIS_ALTITUDE = 322.93
PERIAPSIS_ARGUMENT_ANGLE = 145.98
PERIAPSIS_TIME = 2006-07-22T19:46:36.000Z
SPACECRAFT_ORIENTATION = (0.0,-1.0,0.0)
^MEX_ORIENTATION_DESC = "MEX_ORIENTATION_DESC.TXT"
SPACECRAFT_POINTING_MODE = ACROSSTRACK
^MEX_POINTING_DESC = "MEX_POINTING_DESC.TXT"
RIGHT_ASCENSION = -1e+32
DECLINATION = -1e+32
OFFSET_ANGLE = 0.19
SPACECRAFT_SOLAR_DISTANCE = 2.48701e+08
TARGET_NAME = MARS
/* CAMERA DATA ELEMENTS */
DETECTOR_TEMPERATURE = 18.3705
FOCAL_PLANE_TEMPERATURE = 8.3794
INST_CMPRS_NAME = "DISCRETE COSINE TRANSFORMATION (DCT)"
INST_CMPRS_RATIO = 7.3664
INST_CMPRS_QUALITY = 0
INST_CMPRS_QUANTZ_TBL_ID = 0
INSTRUMENT_TEMPERATURE = 11.234
LENS_TEMPERATURE = 8.7872
MACROPIXEL_SIZE = 1
MISSING_FRAMES = 0
PIXEL_SUBSAMPLING_FLAG = N
SIGNAL_CHAIN_ID = 0
/* RADIOMETRIC DATA ELEMENTS */
BANDWIDTH = 177.0
CENTER_FILTER_WAVELENGTH = 677.5
RADIANCE_OFFSET = 7.55309
RADIANCE_SCALING_FACTOR = 0.01481
REFLECTANCE_SCALING_FACTOR = 0.000486625
MEX:REFLECTANCE_OFFSET = 0.248179
/* IMAGE OBJECT DEFINITIONS */
OBJECT = IMAGE
  INTERCHANGE_FORMAT = BINARY
  LINES = 51094
  LINE_SAMPLES = 8591
  SAMPLE_TYPE = UNSIGNED_INTEGER
  SAMPLE_BITS = 8
  BANDS = 1
  BAND_STORAGE_TYPE = BAND_SEQUENTIAL
  MAXIMUM = 255
  MEAN = 159.485
  MINIMUM = 1
  STANDARD_DEVIATION = 35.4359
END_OBJECT = IMAGE
/* MAP OBJECT DEFINITIONS */
OBJECT = IMAGE_MAP_PROJECTION
  ^DATA_SET_MAP_PROJECTION_CATALOG= "DSMAP.CAT"
  A_AXIS_RADIUS = 3396.0
  B_AXIS_RADIUS = 3396.0
  C_AXIS_RADIUS = 3396.0
  CENTER_LATITUDE = 0.0
  CENTER_LONGITUDE = 252.0
  COORDINATE_SYSTEM_NAME = PLANETOGRAPHIC
  COORDINATE_SYSTEM_TYPE = "BODY-FIXED ROTATING"
  EASTERNMOST_LONGITUDE = 252.853
  FIRST_STANDARD_PARALLEL = "N/A"
  LINE_FIRST_PIXEL = 1
  LINE_LAST_PIXEL = 51094
  LINE_PROJECTION_OFFSET = 74684.0
  MAP_PROJECTION_ROTATION = 0.0
  MAP_PROJECTION_TYPE = SINUSOIDAL
  MAP_RESOLUTION = 4741.71043093333
  MAP_SCALE = 0.0125
  MAXIMUM_LATITUDE = 15.7504
  MINIMUM_LATITUDE = 4.97411
  POSITIVE_LONGITUDE_DIRECTION = EAST
  REFERENCE_LATITUDE = "N/A"
  REFERENCE_LONGITUDE = "N/A"
  SAMPLE_FIRST_PIXEL = 1
  SAMPLE_LAST_PIXEL = 8591
  SAMPLE_PROJECTION_OFFSET = 4233.0
  SECOND_STANDARD_PARALLEL = "N/A"
  WESTERNMOST_LONGITUDE = 251.154
END_OBJECT = IMAGE_MAP_PROJECTION
/* The JPEG2000 image data file associated with this label. */
OBJECT = COMPRESSED_FILE
  FILE_NAME = "H3254_0000_ND3.JP2"
  RECORD_TYPE = UNDEFINED
  FILE_RECORDS = UNK
  ENCODING_TYPE = "JP2"
  INTERCHANGE_FORMAT = BINARY
  UNCOMPRESSED_FILE_NAME = "H3254_0000_ND3.IMG"
  REQUIRED_STORAGE_BYTES = "438982918"
  ^DESCRIPTION = "JP2INFO.TXT"
END_OBJECT = COMPRESSED_FILE
END
