PDS_VERSION_ID = PDS3
/* FILE DATA ELEMENTS */
RECORD_TYPE = STREAM
/* POINTERS TO DATA OBJECTS */
^COMPRESSED_FILE = "H3254_0000_S23.JP2"
/* IDENTIFICATION DATA ELEMENTS */
DATA_SET_ID = "MEX-M-HRSC-5-REFDR-MAPPROJECTED-V3.0"
DATA_SET_NAME = "MARS EXPRESS HRSC MAP PROJECTED REFDR V3.0"
DETECTOR_ID = MEX_HRSC_S2
EVENT_TYPE = "MARS-REGIONAL-MAPPING-Vo-Gl"
INSTRUMENT_HOST_ID = MEX
INSTRUMENT_HOST_NAME = "MARS EXPRESS"
INSTRUMENT_ID = HRSC
INSTRUMENT_NAME = "HIGH RESOLUTION STEREO CAMERA"
MISSION_NAME = "MARS EXPRESS"
MISSION_PHASE_NAME = ME_Phase_3
PROCESSING_LEVEL_ID = 3
PRODUCT_CREATION_TIME = 2016-04-13T11:55:32.000Z
PRODUCT_ID = "H3254_0000_S23.JP2"
RELEASE_ID = 0040
REVISION_ID = 0000
/* QUALITY DATA ELEMENTS */
DATA_QUALITY_ID = 1
DATA_QUALITY_DESC = "Data calculated based on original SPICE kernels"
/* TIME DATA ELEMENTS */
SPACECRAFT_CLOCK_START_COUNT = "1/0101677839.08372"
SPACECRAFT_CLOCK_STOP_COUNT = "1/0101678102.25352"
START_TIME = 2006-07-22T19:51:55.733Z
STOP_TIME = 2006-07-22T19:55:05.536Z
/* ORBITAL DATA ELEMENTS */
ASCENDING_NODE_LONGITUDE = 159.95
MAXIMUM_RESOLUTION = 34.4
FOOTPRINT_POINT_LATITUDE = (15.7544,15.7527,15.7511,15.7496, 15.7482,15.7469,15.5398,15.1512,14.7549 ,14.359,14.0627,13.861,13.6586,13.4568, 13.2553,13.0545,12.849,12.5409,12.3357, 12.1311,11.9217,11.7136,11.5042,11.2956 ,11.0812,10.7617,10.4417,10.1165,9.8997 ,9.57506,9.35501,9.13462,8.80508, 8.47082,8.24815,8.02689,7.80137,7.57567 ,7.35115,7.12356,6.89483,6.66686, 6.43572,6.20405,5.97281,5.73796,5.50286 ,5.26746,4.97878,4.97642,4.97446, 4.97218,4.97076,4.96917,5.08815,5.32541 ,5.55965,5.79376,6.02614,6.25627, 6.48782,6.71715,6.94462,7.17282,7.39933 ,7.73564,7.96019,8.18252,8.5159,8.84956 ,9.06859,9.28963,9.61895,9.94395, 10.1608,10.3769,10.5909,10.8025,11.0166 ,11.2287,11.442,11.7592,11.9709,12.1865 ,12.3948,12.7074,12.9153,13.1206,13.322 ,13.5237,13.7258,13.9281,14.1285, 14.3263,14.5244,14.7228,14.9218,15.1203 ,15.5091,15.7544)
FOOTPRINT_POINT_LONGITUDE = (252.761,252.53,252.299,252.069,251.84, 251.597,251.334,251.328,251.321,251.314 ,251.309,251.305,251.301,251.297, 251.293,251.289,251.284,251.278,251.273 ,251.269,251.264,251.259,251.255,251.25 ,251.246,251.238,251.231,251.223, 251.218,251.21,251.204,251.198,251.19, 251.18,251.174,251.168,251.161,251.154, 251.147,251.14,251.133,251.125,251.118, 251.11,251.102,251.094,251.087,251.079, 251.14,251.465,251.718,252.025,252.242, 252.659,252.936,252.932,252.928,252.924 ,252.92,252.916,252.912,252.909,252.905 ,252.901,252.898,252.892,252.889, 252.886,252.881,252.877,252.875,252.873 ,252.869,252.866,252.863,252.861, 252.859,252.857,252.855,252.852,252.852 ,252.849,252.848,252.849,252.848, 252.846,252.844,252.843,252.84,252.838, 252.836,252.834,252.831,252.829,252.827 ,252.825,252.823,252.821,252.817, 252.761)
ORBIT_NUMBER = 3254
ORBITAL_ECCENTRICITY = 0.569
ORBITAL_INCLINATION = 86.68
ORBITAL_SEMIMAJOR_AXIS = 8605.2
PERIAPSIS_ALTITUDE = 322.93
PERIAPSIS_ARGUMENT_ANGLE = 145.98
PERIAPSIS_TIME = 2006-07-22T19:46:36.000Z
SPACECRAFT_ORIENTATION = (0.0,-1.0,0.0)
^MEX_ORIENTATION_DESC = "MEX_ORIENTATION_DESC.TXT"
SPACECRAFT_POINTING_MODE = ACROSSTRACK
^MEX_POINTING_DESC = "MEX_POINTING_DESC.TXT"
RIGHT_ASCENSION = -1e+32
DECLINATION = -1e+32
OFFSET_ANGLE = 0.19
SPACECRAFT_SOLAR_DISTANCE = 2.48701e+08
TARGET_NAME = MARS
/* CAMERA DATA ELEMENTS */
DETECTOR_TEMPERATURE = 18.5744
FOCAL_PLANE_TEMPERATURE = 8.3794
INST_CMPRS_NAME = "DISCRETE COSINE TRANSFORMATION (DCT)"
INST_CMPRS_RATIO = 12.1216
INST_CMPRS_QUALITY = 0
INST_CMPRS_QUANTZ_TBL_ID = 0
INSTRUMENT_TEMPERATURE = 11.234
LENS_TEMPERATURE = 8.7872
MACROPIXEL_SIZE = 2
MISSING_FRAMES = 0
PIXEL_SUBSAMPLING_FLAG = N
SIGNAL_CHAIN_ID = 1
/* RADIOMETRIC DATA ELEMENTS */
BANDWIDTH = 178.0
CENTER_FILTER_WAVELENGTH = 679.0
RADIANCE_OFFSET = 7.68659
RADIANCE_SCALING_FACTOR = 0.0148026
REFLECTANCE_SCALING_FACTOR = 0.000484869
MEX:REFLECTANCE_OFFSET = 0.251779
/* IMAGE OBJECT DEFINITIONS */
OBJECT = IMAGE
  INTERCHANGE_FORMAT = BINARY
  LINES = 25547
  LINE_SAMPLES = 4296
  SAMPLE_TYPE = UNSIGNED_INTEGER
  SAMPLE_BITS = 8
  BANDS = 1
  BAND_STORAGE_TYPE = BAND_SEQUENTIAL
  MAXIMUM = 255
  MEAN = 161.251
  MINIMUM = 1
  STANDARD_DEVIATION = 38.9363
END_OBJECT = IMAGE
/* MAP OBJECT DEFINITIONS */
OBJECT = IMAGE_MAP_PROJECTION
  ^DATA_SET_MAP_PROJECTION_CATALOG= "DSMAP.CAT"
  A_AXIS_RADIUS = 3396.0
  B_AXIS_RADIUS = 3396.0
  C_AXIS_RADIUS = 3396.0
  CENTER_LATITUDE = 0.0
  CENTER_LONGITUDE = 252.0
  COORDINATE_SYSTEM_NAME = PLANETOGRAPHIC
  COORDINATE_SYSTEM_TYPE = "BODY-FIXED ROTATING"
  EASTERNMOST_LONGITUDE = 252.936
  FIRST_STANDARD_PARALLEL = "N/A"
  LINE_FIRST_PIXEL = 1
  LINE_LAST_PIXEL = 25547
  LINE_PROJECTION_OFFSET = 37341.75
  MAP_PROJECTION_ROTATION = 0.0
  MAP_PROJECTION_TYPE = SINUSOIDAL
  MAP_RESOLUTION = 2370.85521546667
  MAP_SCALE = 0.025
  MAXIMUM_LATITUDE = 15.7544
  MINIMUM_LATITUDE = 4.96917
  POSITIVE_LONGITUDE_DIRECTION = EAST
  REFERENCE_LATITUDE = "N/A"
  REFERENCE_LONGITUDE = "N/A"
  SAMPLE_FIRST_PIXEL = 1
  SAMPLE_LAST_PIXEL = 4296
  SAMPLE_PROJECTION_OFFSET = 2116.25
  SECOND_STANDARD_PARALLEL = "N/A"
  WESTERNMOST_LONGITUDE = 251.079
END_OBJECT = IMAGE_MAP_PROJECTION
/* The JPEG2000 image data file associated with this label. */
OBJECT = COMPRESSED_FILE
  FILE_NAME = "H3254_0000_S23.JP2"
  RECORD_TYPE = UNDEFINED
  FILE_RECORDS = UNK
  ENCODING_TYPE = "JP2"
  INTERCHANGE_FORMAT = BINARY
  UNCOMPRESSED_FILE_NAME = "H3254_0000_S23.IMG"
  REQUIRED_STORAGE_BYTES = "109775688"
  ^DESCRIPTION = "JP2INFO.TXT"
END_OBJECT = COMPRESSED_FILE
END
