PDS_VERSION_ID = PDS3
/* FILE DATA ELEMENTS */
RECORD_TYPE = STREAM
/* POINTERS TO DATA OBJECTS */
^COMPRESSED_FILE = "H3261_0000_S13.JP2"
/* IDENTIFICATION DATA ELEMENTS */
DATA_SET_ID = "MEX-M-HRSC-5-REFDR-MAPPROJECTED-V3.0"
DATA_SET_NAME = "MARS EXPRESS HRSC MAP PROJECTED REFDR V3.0"
DETECTOR_ID = MEX_HRSC_S1
EVENT_TYPE = "MARS-REGIONAL-MAPPING-Vo-Fl-Gl"
INSTRUMENT_HOST_ID = MEX
INSTRUMENT_HOST_NAME = "MARS EXPRESS"
INSTRUMENT_ID = HRSC
INSTRUMENT_NAME = "HIGH RESOLUTION STEREO CAMERA"
MISSION_NAME = "MARS EXPRESS"
MISSION_PHASE_NAME = ME_Phase_3
PROCESSING_LEVEL_ID = 3
PRODUCT_CREATION_TIME = 2016-04-13T11:55:32.000Z
PRODUCT_ID = "H3261_0000_S13.JP2"
RELEASE_ID = 0040
REVISION_ID = 0000
/* QUALITY DATA ELEMENTS */
DATA_QUALITY_ID = 2
DATA_QUALITY_DESC = "Data calculated based on photogrammetrically improved orbit and attitude data"
/* TIME DATA ELEMENTS */
SPACECRAFT_CLOCK_START_COUNT = "1/0101847043.08424"
SPACECRAFT_CLOCK_STOP_COUNT = "1/0101847457.05923"
START_TIME = 2006-07-24T18:50:48.331Z
STOP_TIME = 2006-07-24T18:56:03.575Z
/* ORBITAL DATA ELEMENTS */
ASCENDING_NODE_LONGITUDE = 159.8
MAXIMUM_RESOLUTION = 27.9
FOOTPRINT_POINT_LATITUDE = (27.0938,27.0978,27.0817,26.5378, 26.1751,25.8091,25.4449,25.0796,24.5342 ,24.1707,23.7966,23.2328,22.6691, 22.1042,21.7281,21.3522,20.787,20.2227, 19.8363,19.461,19.0856,18.5227,18.1476, 17.585,17.1565,16.7098,16.2628,15.8154, 15.3689,14.9226,14.4765,14.0307,13.5852 ,12.9177,12.2511,11.807,11.1243,10.6691 ,9.97215,9.50597,9.03105,8.55339, 8.06931,7.58225,7.33747,7.08883,6.8395, 6.35007,6.33539,6.32651,6.32067,6.30926 ,6.5537,6.80205,7.05058,7.29873,7.78654 ,8.27344,8.74644,9.2234,9.6951,10.1611, 10.6284,11.3103,11.7663,12.2106,12.6557 ,13.1007,13.5462,13.9923,14.6619,15.335 ,16.0029,16.4507,16.8987,17.5536, 17.9293,18.3053,18.6812,19.2452,19.621, 19.9961,20.3822,20.7564,21.3205,21.6966 ,22.0739,22.64,23.0163,23.3942,23.7708, 24.1452,24.5091,25.0548,25.4184,25.786, 26.1453,26.5132,27.0525,27.0938)
FOOTPRINT_POINT_LONGITUDE = (284.275,283.877,283.5,283.505,283.507, 283.509,283.511,283.512,283.514,283.515 ,283.516,283.517,283.517,283.516, 283.515,283.514,283.512,283.509,283.507 ,283.505,283.503,283.498,283.495,283.49 ,283.486,283.481,283.476,283.471, 283.465,283.459,283.452,283.446,283.439 ,283.428,283.416,283.408,283.395, 283.385,283.371,283.36,283.35,283.339, 283.327,283.315,283.309,283.303,283.296 ,283.285,283.566,284.006,284.275, 284.703,284.914,284.913,284.911,284.91, 284.908,284.905,284.904,284.901,284.898 ,284.896,284.892,284.889,284.886, 284.883,284.881,284.878,284.876,284.874 ,284.87,284.865,284.863,284.861,284.858 ,284.855,284.853,284.851,284.849, 284.846,284.844,284.842,284.841,284.84, 284.837,284.835,284.832,284.829,284.827 ,284.824,284.821,284.819,284.818, 284.814,284.812,284.808,284.808,284.804 ,284.804,284.275)
ORBIT_NUMBER = 3261
ORBITAL_ECCENTRICITY = 0.568
ORBITAL_INCLINATION = 86.67
ORBITAL_SEMIMAJOR_AXIS = 8598.16
PERIAPSIS_ALTITUDE = 324.04
PERIAPSIS_ARGUMENT_ANGLE = 144.77
PERIAPSIS_TIME = 2006-07-24T18:49:14.000Z
SPACECRAFT_ORIENTATION = (0.0,-1.0,0.0)
^MEX_ORIENTATION_DESC = "MEX_ORIENTATION_DESC.TXT"
SPACECRAFT_POINTING_MODE = ACROSSTRACK
^MEX_POINTING_DESC = "MEX_POINTING_DESC.TXT"
RIGHT_ASCENSION = -1e+32
DECLINATION = -1e+32
OFFSET_ANGLE = 0.3
SPACECRAFT_SOLAR_DISTANCE = 2.48621e+08
TARGET_NAME = MARS
/* CAMERA DATA ELEMENTS */
DETECTOR_TEMPERATURE = 17.7588
FOCAL_PLANE_TEMPERATURE = 8.3794
INST_CMPRS_NAME = "DISCRETE COSINE TRANSFORMATION (DCT)"
INST_CMPRS_RATIO = 10.8058
INST_CMPRS_QUALITY = 0
INST_CMPRS_QUANTZ_TBL_ID = 0
INSTRUMENT_TEMPERATURE = 11.8457
LENS_TEMPERATURE = 8.7872
MACROPIXEL_SIZE = 2
MISSING_FRAMES = 3
PIXEL_SUBSAMPLING_FLAG = N
SIGNAL_CHAIN_ID = 1
/* RADIOMETRIC DATA ELEMENTS */
BANDWIDTH = 180.0
CENTER_FILTER_WAVELENGTH = 677.0
RADIANCE_OFFSET = 7.80529
RADIANCE_SCALING_FACTOR = 0.017005
REFLECTANCE_SCALING_FACTOR = 0.000548394
MEX:REFLECTANCE_OFFSET = 0.251713
/* IMAGE OBJECT DEFINITIONS */
OBJECT = IMAGE
  INTERCHANGE_FORMAT = BINARY
  LINES = 49168
  LINE_SAMPLES = 4285
  SAMPLE_TYPE = UNSIGNED_INTEGER
  SAMPLE_BITS = 8
  BANDS = 1
  BAND_STORAGE_TYPE = BAND_SEQUENTIAL
  MAXIMUM = 255
  MEAN = 116.519
  MINIMUM = 1
  STANDARD_DEVIATION = 20.969
END_OBJECT = IMAGE
/* MAP OBJECT DEFINITIONS */
OBJECT = IMAGE_MAP_PROJECTION
  ^DATA_SET_MAP_PROJECTION_CATALOG= "DSMAP.CAT"
  A_AXIS_RADIUS = 3396.0
  B_AXIS_RADIUS = 3396.0
  C_AXIS_RADIUS = 3396.0
  CENTER_LATITUDE = 0.0
  CENTER_LONGITUDE = 284.0
  COORDINATE_SYSTEM_NAME = PLANETOGRAPHIC
  COORDINATE_SYSTEM_TYPE = "BODY-FIXED ROTATING"
  EASTERNMOST_LONGITUDE = 284.914
  FIRST_STANDARD_PARALLEL = "N/A"
  LINE_FIRST_PIXEL = 1
  LINE_LAST_PIXEL = 49168
  LINE_PROJECTION_OFFSET = 64194.75
  MAP_PROJECTION_ROTATION = 0.0
  MAP_PROJECTION_TYPE = SINUSOIDAL
  MAP_RESOLUTION = 2370.85521546667
  MAP_SCALE = 0.025
  MAXIMUM_LATITUDE = 27.0978
  MINIMUM_LATITUDE = 6.30926
  POSITIVE_LONGITUDE_DIRECTION = EAST
  REFERENCE_LATITUDE = "N/A"
  REFERENCE_LONGITUDE = "N/A"
  SAMPLE_FIRST_PIXEL = 1
  SAMPLE_LAST_PIXEL = 4285
  SAMPLE_PROJECTION_OFFSET = 1878.25
  SECOND_STANDARD_PARALLEL = "N/A"
  WESTERNMOST_LONGITUDE = 283.285
END_OBJECT = IMAGE_MAP_PROJECTION
/* The JPEG2000 image data file associated with this label. */
OBJECT = COMPRESSED_FILE
  FILE_NAME = "H3261_0000_S13.JP2"
  RECORD_TYPE = UNDEFINED
  FILE_RECORDS = UNK
  ENCODING_TYPE = "JP2"
  INTERCHANGE_FORMAT = BINARY
  UNCOMPRESSED_FILE_NAME = "H3261_0000_S13.IMG"
  REQUIRED_STORAGE_BYTES = "210710590"
  ^DESCRIPTION = "JP2INFO.TXT"
END_OBJECT = COMPRESSED_FILE
END
