PDS_VERSION_ID = PDS3
/* FILE DATA ELEMENTS */
RECORD_TYPE = STREAM
/* POINTERS TO DATA OBJECTS */
^COMPRESSED_FILE = "H3268_0000_IR3.JP2"
/* IDENTIFICATION DATA ELEMENTS */
DATA_SET_ID = "MEX-M-HRSC-5-REFDR-MAPPROJECTED-V3.0"
DATA_SET_NAME = "MARS EXPRESS HRSC MAP PROJECTED REFDR V3.0"
DETECTOR_ID = MEX_HRSC_IR
EVENT_TYPE = "MARS-REGIONAL-MAPPING-Im-Eo"
INSTRUMENT_HOST_ID = MEX
INSTRUMENT_HOST_NAME = "MARS EXPRESS"
INSTRUMENT_ID = HRSC
INSTRUMENT_NAME = "HIGH RESOLUTION STEREO CAMERA"
MISSION_NAME = "MARS EXPRESS"
MISSION_PHASE_NAME = ME_Phase_3
PROCESSING_LEVEL_ID = 3
PRODUCT_CREATION_TIME = 2016-04-13T11:55:32.000Z
PRODUCT_ID = "H3268_0000_IR3.JP2"
RELEASE_ID = 0040
REVISION_ID = 0000
/* QUALITY DATA ELEMENTS */
DATA_QUALITY_ID = 1
DATA_QUALITY_DESC = "Data calculated based on original SPICE kernels"
/* TIME DATA ELEMENTS */
SPACECRAFT_CLOCK_START_COUNT = "1/0102015806.09039"
SPACECRAFT_CLOCK_STOP_COUNT = "1/0102016057.50209"
START_TIME = 2006-07-26T17:43:41.395Z
STOP_TIME = 2006-07-26T17:46:32.964Z
/* ORBITAL DATA ELEMENTS */
ASCENDING_NODE_LONGITUDE = 159.65
MAXIMUM_RESOLUTION = 140.7
FOOTPRINT_POINT_LATITUDE = (64.4992,64.4593,64.429,64.3956,64.3591 ,64.3195,64.1513,63.9407,63.7324, 63.5237,63.3156,63.1104,62.9044,62.6979 ,62.495,62.2917,61.9869,61.7879,61.5869 ,61.3836,61.1811,60.8898,60.6917, 60.4941,60.2997,60.1046,59.9093,59.6195 ,59.4278,59.2355,58.9469,58.7582, 58.5691,58.3797,58.0963,57.9105,57.7244 ,57.4446,57.2579,57.0752,56.8921, 56.7087,56.5251,56.3416,55.9822,55.6214 ,55.3507,54.9969,54.6427,54.4351, 54.4714,54.5027,54.5182,54.7997,55.157, 55.5134,55.6956,55.8778,56.0598,56.2414 ,56.4228,56.6067,56.792,56.9772,57.1621 ,57.3467,57.5338,57.7222,57.9105, 58.0985,58.2862,58.4776,58.6692,58.8605 ,59.0515,59.342,59.5368,59.7313,59.9254 ,60.1224,60.3197,60.517,60.7142,61.0149 ,61.2152,61.4154,61.7199,61.9233, 62.1265,62.3321,62.5385,62.7446,62.9515 ,63.1612,63.3704,63.5793,63.7918, 64.0039,64.2158,64.4992)
FOOTPRINT_POINT_LONGITUDE = (314.453,313.522,312.902,312.282, 311.663,311.044,310.251,310.334,310.415 ,310.494,310.571,310.647,310.721, 310.793,310.864,310.933,311.034,311.1, 311.164,311.225,311.284,311.377,311.435 ,311.492,311.548,311.603,311.657, 311.735,311.786,311.836,311.91,311.958, 312.004,312.05,312.118,312.162,312.205, 312.268,312.31,312.35,312.389,312.428, 312.466,312.504,312.577,312.648,312.7, 312.766,312.831,313.343,314.029,314.714 ,315.09,315.372,315.35,315.328,315.317, 315.305,315.293,315.281,315.269,315.257 ,315.244,315.232,315.219,315.206, 315.192,315.178,315.164,315.15,315.136, 315.122,315.107,315.091,315.076,315.052 ,315.036,315.02,315.003,314.986,314.969 ,314.951,314.933,314.905,314.886, 314.867,314.837,314.817,314.796,314.775 ,314.754,314.732,314.709,314.686, 314.663,314.639,314.614,314.589,314.564 ,314.453)
ORBIT_NUMBER = 3268
ORBITAL_ECCENTRICITY = 0.568
ORBITAL_INCLINATION = 86.69
ORBITAL_SEMIMAJOR_AXIS = 8589.05
PERIAPSIS_ALTITUDE = 325.23
PERIAPSIS_ARGUMENT_ANGLE = 143.53
PERIAPSIS_TIME = 2006-07-26T17:51:45.000Z
SPACECRAFT_ORIENTATION = (0.0,-1.0,0.0)
^MEX_ORIENTATION_DESC = "MEX_ORIENTATION_DESC.TXT"
SPACECRAFT_POINTING_MODE = ACROSSTRACK
^MEX_POINTING_DESC = "MEX_POINTING_DESC.TXT"
RIGHT_ASCENSION = -1e+32
DECLINATION = -1e+32
OFFSET_ANGLE = -0.25
SPACECRAFT_SOLAR_DISTANCE = 2.48534e+08
TARGET_NAME = MARS
/* CAMERA DATA ELEMENTS */
DETECTOR_TEMPERATURE = 17.351
FOCAL_PLANE_TEMPERATURE = 7.7677
INST_CMPRS_NAME = "DISCRETE COSINE TRANSFORMATION (DCT)"
INST_CMPRS_RATIO = 34.0973
INST_CMPRS_QUALITY = 0
INST_CMPRS_QUANTZ_TBL_ID = 0
INSTRUMENT_TEMPERATURE = 11.4379
LENS_TEMPERATURE = 7.9716
MACROPIXEL_SIZE = 8
MISSING_FRAMES = 0
PIXEL_SUBSAMPLING_FLAG = N
SIGNAL_CHAIN_ID = 2
/* RADIOMETRIC DATA ELEMENTS */
BANDWIDTH = 81.0
CENTER_FILTER_WAVELENGTH = 955.5
RADIANCE_OFFSET = 0.886795
RADIANCE_SCALING_FACTOR = 0.00327891
REFLECTANCE_SCALING_FACTOR = 0.000436948
MEX:REFLECTANCE_OFFSET = 0.118175
/* IMAGE OBJECT DEFINITIONS */
OBJECT = IMAGE
  INTERCHANGE_FORMAT = BINARY
  LINES = 5892
  LINE_SAMPLES = 1471
  SAMPLE_TYPE = UNSIGNED_INTEGER
  SAMPLE_BITS = 8
  BANDS = 1
  BAND_STORAGE_TYPE = BAND_SEQUENTIAL
  MAXIMUM = 255
  MEAN = 118.698
  MINIMUM = 1
  STANDARD_DEVIATION = 57.2789
END_OBJECT = IMAGE
/* MAP OBJECT DEFINITIONS */
OBJECT = IMAGE_MAP_PROJECTION
  ^DATA_SET_MAP_PROJECTION_CATALOG= "DSMAP.CAT"
  A_AXIS_RADIUS = 3396.0
  B_AXIS_RADIUS = 3396.0
  C_AXIS_RADIUS = 3396.0
  CENTER_LATITUDE = 0.0
  CENTER_LONGITUDE = 313.0
  COORDINATE_SYSTEM_NAME = PLANETOGRAPHIC
  COORDINATE_SYSTEM_TYPE = "BODY-FIXED ROTATING"
  EASTERNMOST_LONGITUDE = 315.372
  FIRST_STANDARD_PARALLEL = "N/A"
  LINE_FIRST_PIXEL = 1
  LINE_LAST_PIXEL = 5892
  LINE_PROJECTION_OFFSET = 38159.1875
  MAP_PROJECTION_ROTATION = 0.0
  MAP_PROJECTION_TYPE = SINUSOIDAL
  MAP_RESOLUTION = 592.713803866667
  MAP_SCALE = 0.1
  MAXIMUM_LATITUDE = 64.4992
  MINIMUM_LATITUDE = 54.4351
  POSITIVE_LONGITUDE_DIRECTION = EAST
  REFERENCE_LATITUDE = "N/A"
  REFERENCE_LONGITUDE = "N/A"
  SAMPLE_FIRST_PIXEL = 1
  SAMPLE_LAST_PIXEL = 1471
  SAMPLE_PROJECTION_OFFSET = 675.3125
  SECOND_STANDARD_PARALLEL = "N/A"
  WESTERNMOST_LONGITUDE = 310.251
END_OBJECT = IMAGE_MAP_PROJECTION
/* The JPEG2000 image data file associated with this label. */
OBJECT = COMPRESSED_FILE
  FILE_NAME = "H3268_0000_IR3.JP2"
  RECORD_TYPE = UNDEFINED
  FILE_RECORDS = UNK
  ENCODING_TYPE = "JP2"
  INTERCHANGE_FORMAT = BINARY
  UNCOMPRESSED_FILE_NAME = "H3268_0000_IR3.IMG"
  REQUIRED_STORAGE_BYTES = "8686255"
  ^DESCRIPTION = "JP2INFO.TXT"
END_OBJECT = COMPRESSED_FILE
END
