PDS_VERSION_ID = PDS3
/* FILE DATA ELEMENTS */
RECORD_TYPE = STREAM
/* POINTERS TO DATA OBJECTS */
^COMPRESSED_FILE = "H3268_0000_P13.JP2"
/* IDENTIFICATION DATA ELEMENTS */
DATA_SET_ID = "MEX-M-HRSC-5-REFDR-MAPPROJECTED-V3.0"
DATA_SET_NAME = "MARS EXPRESS HRSC MAP PROJECTED REFDR V3.0"
DETECTOR_ID = MEX_HRSC_P1
EVENT_TYPE = "MARS-REGIONAL-MAPPING-Im-Eo"
INSTRUMENT_HOST_ID = MEX
INSTRUMENT_HOST_NAME = "MARS EXPRESS"
INSTRUMENT_ID = HRSC
INSTRUMENT_NAME = "HIGH RESOLUTION STEREO CAMERA"
MISSION_NAME = "MARS EXPRESS"
MISSION_PHASE_NAME = ME_Phase_3
PROCESSING_LEVEL_ID = 3
PRODUCT_CREATION_TIME = 2016-04-13T11:55:32.000Z
PRODUCT_ID = "H3268_0000_P13.JP2"
RELEASE_ID = 0040
REVISION_ID = 0000
/* QUALITY DATA ELEMENTS */
DATA_QUALITY_ID = 1
DATA_QUALITY_DESC = "Data calculated based on original SPICE kernels"
/* TIME DATA ELEMENTS */
SPACECRAFT_CLOCK_START_COUNT = "1/0102015806.09039"
SPACECRAFT_CLOCK_STOP_COUNT = "1/0102016057.50209"
START_TIME = 2006-07-26T17:43:50.938Z
STOP_TIME = 2006-07-26T17:46:39.832Z
/* ORBITAL DATA ELEMENTS */
ASCENDING_NODE_LONGITUDE = 159.65
MAXIMUM_RESOLUTION = 34.3
FOOTPRINT_POINT_LATITUDE = (64.4815,64.4639,64.4357,64.4023, 64.3678,64.33,64.2891,64.2591,64.0577, 63.8442,63.6335,63.4224,63.2109,63.0032 ,62.6908,62.4825,62.1749,61.9699,61.765 ,61.5623,61.3555,61.1525,60.8557, 60.6564,60.4563,60.2565,60.0604,59.864, 59.6672,59.3732,59.1801,58.9866,58.7928 ,58.5989,58.409,58.2188,58.0285,57.8376 ,57.6483,57.4615,57.2743,57.0869, 56.8991,56.6216,56.2538,56.0695,55.7931 ,55.5225,55.1607,54.7092,54.4286, 54.4489,54.4703,54.4887,54.5116,54.5269 ,54.7141,55.075,55.5312,55.8952,56.1734 ,56.3593,56.545,56.9157,57.1049,57.2942 ,57.4833,57.6721,57.8607,58.0534, 58.3422,58.5345,58.7265,59.0198,59.2157 ,59.4113,59.6065,59.8062,60.0051, 60.2039,60.4023,60.604,60.8063,61.0083, 61.2099,61.4154,61.7235,61.9284,62.1363 ,62.3453,62.5532,62.762,62.974,63.1856, 63.3967,63.6113,63.826,64.0404,64.257, 64.4815)
FOOTPRINT_POINT_LONGITUDE = (314.42,313.984,313.349,312.674,312.04, 311.406,310.772,310.336,310.279,310.362 ,310.443,310.522,310.6,310.676,310.786, 310.858,310.962,311.03,311.097,311.161, 311.22,311.282,311.376,311.435,311.492, 311.549,311.604,311.658,311.711,311.789 ,311.84,311.889,311.938,311.986,312.032 ,312.078,312.123,312.167,312.211, 312.253,312.294,312.336,312.376,312.435 ,312.511,312.548,312.603,312.656, 312.724,312.807,313.054,313.421,313.836 ,314.225,314.76,315.148,315.364,315.342 ,315.313,315.289,315.27,315.258,315.245 ,315.219,315.206,315.192,315.178, 315.164,315.15,315.135,315.112,315.097, 315.082,315.058,315.041,315.025,315.008 ,314.99,314.973,314.955,314.937,314.918 ,314.899,314.88,314.86,314.84,314.809, 314.788,314.766,314.744,314.721,314.698 ,314.675,314.651,314.626,314.601, 314.575,314.549,314.522,314.42)
ORBIT_NUMBER = 3268
ORBITAL_ECCENTRICITY = 0.568
ORBITAL_INCLINATION = 86.69
ORBITAL_SEMIMAJOR_AXIS = 8589.05
PERIAPSIS_ALTITUDE = 325.23
PERIAPSIS_ARGUMENT_ANGLE = 143.53
PERIAPSIS_TIME = 2006-07-26T17:51:45.000Z
SPACECRAFT_ORIENTATION = (0.0,-1.0,0.0)
^MEX_ORIENTATION_DESC = "MEX_ORIENTATION_DESC.TXT"
SPACECRAFT_POINTING_MODE = ACROSSTRACK
^MEX_POINTING_DESC = "MEX_POINTING_DESC.TXT"
RIGHT_ASCENSION = -1e+32
DECLINATION = -1e+32
OFFSET_ANGLE = -0.25
SPACECRAFT_SOLAR_DISTANCE = 2.48534e+08
TARGET_NAME = MARS
/* CAMERA DATA ELEMENTS */
DETECTOR_TEMPERATURE = 17.351
FOCAL_PLANE_TEMPERATURE = 7.7677
INST_CMPRS_NAME = "DISCRETE COSINE TRANSFORMATION (DCT)"
INST_CMPRS_RATIO = 18.1827
INST_CMPRS_QUALITY = 0
INST_CMPRS_QUANTZ_TBL_ID = 0
INSTRUMENT_TEMPERATURE = 11.4379
LENS_TEMPERATURE = 7.9716
MACROPIXEL_SIZE = 2
MISSING_FRAMES = 0
PIXEL_SUBSAMPLING_FLAG = N
SIGNAL_CHAIN_ID = 3
/* RADIOMETRIC DATA ELEMENTS */
BANDWIDTH = 174.0
CENTER_FILTER_WAVELENGTH = 675.0
RADIANCE_OFFSET = 3.95623
RADIANCE_SCALING_FACTOR = 0.011676
REFLECTANCE_SCALING_FACTOR = 0.000387928
MEX:REFLECTANCE_OFFSET = 0.131444
/* IMAGE OBJECT DEFINITIONS */
OBJECT = IMAGE
  INTERCHANGE_FORMAT = BINARY
  LINES = 23567
  LINE_SAMPLES = 5883
  SAMPLE_TYPE = UNSIGNED_INTEGER
  SAMPLE_BITS = 8
  BANDS = 1
  BAND_STORAGE_TYPE = BAND_SEQUENTIAL
  MAXIMUM = 255
  MEAN = 121.851
  MINIMUM = 1
  STANDARD_DEVIATION = 59.8288
END_OBJECT = IMAGE
/* MAP OBJECT DEFINITIONS */
OBJECT = IMAGE_MAP_PROJECTION
  ^DATA_SET_MAP_PROJECTION_CATALOG= "DSMAP.CAT"
  A_AXIS_RADIUS = 3396.0
  B_AXIS_RADIUS = 3396.0
  C_AXIS_RADIUS = 3396.0
  CENTER_LATITUDE = 0.0
  CENTER_LONGITUDE = 313.0
  COORDINATE_SYSTEM_NAME = PLANETOGRAPHIC
  COORDINATE_SYSTEM_TYPE = "BODY-FIXED ROTATING"
  EASTERNMOST_LONGITUDE = 315.364
  FIRST_STANDARD_PARALLEL = "N/A"
  LINE_FIRST_PIXEL = 1
  LINE_LAST_PIXEL = 23567
  LINE_PROJECTION_OFFSET = 152638.25
  MAP_PROJECTION_ROTATION = 0.0
  MAP_PROJECTION_TYPE = SINUSOIDAL
  MAP_RESOLUTION = 2370.85521546667
  MAP_SCALE = 0.025
  MAXIMUM_LATITUDE = 64.4815
  MINIMUM_LATITUDE = 54.4286
  POSITIVE_LONGITUDE_DIRECTION = EAST
  REFERENCE_LATITUDE = "N/A"
  REFERENCE_LONGITUDE = "N/A"
  SAMPLE_FIRST_PIXEL = 1
  SAMPLE_LAST_PIXEL = 5883
  SAMPLE_PROJECTION_OFFSET = 2702.75
  SECOND_STANDARD_PARALLEL = "N/A"
  WESTERNMOST_LONGITUDE = 310.279
END_OBJECT = IMAGE_MAP_PROJECTION
/* The JPEG2000 image data file associated with this label. */
OBJECT = COMPRESSED_FILE
  FILE_NAME = "H3268_0000_P13.JP2"
  RECORD_TYPE = UNDEFINED
  FILE_RECORDS = UNK
  ENCODING_TYPE = "JP2"
  INTERCHANGE_FORMAT = BINARY
  UNCOMPRESSED_FILE_NAME = "H3268_0000_P13.IMG"
  REQUIRED_STORAGE_BYTES = "138674076"
  ^DESCRIPTION = "JP2INFO.TXT"
END_OBJECT = COMPRESSED_FILE
END
