PDS_VERSION_ID = PDS3
/* FILE DATA ELEMENTS */
RECORD_TYPE = STREAM
/* POINTERS TO DATA OBJECTS */
^COMPRESSED_FILE = "H3272_0001_BL3.JP2"
/* IDENTIFICATION DATA ELEMENTS */
DATA_SET_ID = "MEX-M-HRSC-5-REFDR-MAPPROJECTED-V3.0"
DATA_SET_NAME = "MARS EXPRESS HRSC MAP PROJECTED REFDR V3.0"
DETECTOR_ID = MEX_HRSC_BLUE
EVENT_TYPE = "MARS-REGIONAL-MAPPING-Vo-Fl-Gl"
INSTRUMENT_HOST_ID = MEX
INSTRUMENT_HOST_NAME = "MARS EXPRESS"
INSTRUMENT_ID = HRSC
INSTRUMENT_NAME = "HIGH RESOLUTION STEREO CAMERA"
MISSION_NAME = "MARS EXPRESS"
MISSION_PHASE_NAME = ME_Phase_3
PROCESSING_LEVEL_ID = 3
PRODUCT_CREATION_TIME = 2016-04-13T11:55:32.000Z
PRODUCT_ID = "H3272_0001_BL3.JP2"
RELEASE_ID = 0040
REVISION_ID = 0000
/* QUALITY DATA ELEMENTS */
DATA_QUALITY_ID = 1
DATA_QUALITY_DESC = "Data calculated based on original SPICE kernels"
/* TIME DATA ELEMENTS */
SPACECRAFT_CLOCK_START_COUNT = "1/0102113222.09083"
SPACECRAFT_CLOCK_STOP_COUNT = "1/0102113665.62068"
START_TIME = 2006-07-27T20:47:42.974Z
STOP_TIME = 2006-07-27T20:53:38.242Z
/* ORBITAL DATA ELEMENTS */
ASCENDING_NODE_LONGITUDE = 159.57
MAXIMUM_RESOLUTION = 111.2
FOOTPRINT_POINT_LATITUDE = (26.1117,26.1079,26.1027,25.7428, 25.2045,24.8456,24.4869,24.1288,23.771, 23.4137,23.0569,22.7006,21.9893,21.5714 ,21.1487,20.7266,20.3052,19.8846, 19.4648,19.0458,18.6277,18.2103,17.7936 ,17.3779,16.9629,16.5488,15.9147, 15.4918,14.8462,14.4148,13.7557,13.3159 ,12.8664,12.418,11.9616,11.505,11.04, 10.3376,9.86406,9.38425,8.65701,7.91827 ,7.42062,6.91564,6.40568,5.89101, 5.36991,4.84202,4.41378,4.40831,4.39971 ,4.93303,5.46071,5.98323,6.49745, 7.00755,7.51305,8.01132,8.50397,8.99394 ,9.47596,10.1918,10.665,11.1306,11.5942 ,12.0518,12.5068,12.956,13.4041,13.8447 ,14.5027,14.9349,15.3679,15.7911, 16.2152,16.636,17.0508,17.4663,17.8828, 18.3001,18.718,19.1372,19.557,19.9776, 20.3989,20.8208,21.2434,21.6668,22.0707 ,22.4264,22.7828,23.1397,23.4971, 23.8549,24.2131,24.5718,24.9309,25.29, 25.6498,26.1117)
FOOTPRINT_POINT_LONGITUDE = (283.515,282.914,282.298,282.299, 282.299,282.299,282.299,282.299,282.298 ,282.298,282.297,282.295,282.292, 282.289,282.286,282.283,282.28,282.276, 282.272,282.267,282.263,282.257,282.252 ,282.247,282.241,282.234,282.224, 282.217,282.206,282.198,282.185,282.176 ,282.166,282.156,282.146,282.135, 282.123,282.106,282.093,282.08,282.059, 282.038,282.023,282.007,281.99,281.973, 281.956,281.937,282.297,282.78,283.588, 283.829,283.823,283.818,283.813,283.81, 283.806,283.801,283.796,283.79,283.786, 283.778,283.774,283.769,283.765,283.76, 283.756,283.752,283.748,283.744,283.738 ,283.735,283.731,283.727,283.724, 283.721,283.717,283.714,283.71,283.707, 283.703,283.7,283.697,283.694,283.69, 283.687,283.683,283.679,283.675,283.672 ,283.669,283.666,283.663,283.66,283.657 ,283.654,283.651,283.646,283.643, 283.515)
ORBIT_NUMBER = 3272
ORBITAL_ECCENTRICITY = 0.568
ORBITAL_INCLINATION = 86.67
ORBITAL_SEMIMAJOR_AXIS = 8595.37
PERIAPSIS_ALTITUDE = 325.32
PERIAPSIS_ARGUMENT_ANGLE = 142.82
PERIAPSIS_TIME = 2006-07-27T20:44:49.000Z
SPACECRAFT_ORIENTATION = (0.0,-1.0,0.0)
^MEX_ORIENTATION_DESC = "MEX_ORIENTATION_DESC.TXT"
SPACECRAFT_POINTING_MODE = ACROSSTRACK
^MEX_POINTING_DESC = "MEX_POINTING_DESC.TXT"
RIGHT_ASCENSION = -1e+32
DECLINATION = -1e+32
OFFSET_ANGLE = 0.3
SPACECRAFT_SOLAR_DISTANCE = 2.48483e+08
TARGET_NAME = MARS
/* CAMERA DATA ELEMENTS */
DETECTOR_TEMPERATURE = 19.1861
FOCAL_PLANE_TEMPERATURE = 8.1755
INST_CMPRS_NAME = "DISCRETE COSINE TRANSFORMATION (DCT)"
INST_CMPRS_RATIO = 19.2157
INST_CMPRS_QUALITY = 0
INST_CMPRS_QUANTZ_TBL_ID = 0
INSTRUMENT_TEMPERATURE = 12.4574
LENS_TEMPERATURE = 7.3599
MACROPIXEL_SIZE = 8
MISSING_FRAMES = 0
PIXEL_SUBSAMPLING_FLAG = N
SIGNAL_CHAIN_ID = 2
/* RADIOMETRIC DATA ELEMENTS */
BANDWIDTH = 76.0
CENTER_FILTER_WAVELENGTH = 444.0
RADIANCE_OFFSET = 0.902523
RADIANCE_SCALING_FACTOR = 0.00306949
REFLECTANCE_SCALING_FACTOR = 0.000194721
MEX:REFLECTANCE_OFFSET = 0.057254
/* IMAGE OBJECT DEFINITIONS */
OBJECT = IMAGE
  INTERCHANGE_FORMAT = BINARY
  LINES = 12866
  LINE_SAMPLES = 1182
  SAMPLE_TYPE = UNSIGNED_INTEGER
  SAMPLE_BITS = 8
  BANDS = 1
  BAND_STORAGE_TYPE = BAND_SEQUENTIAL
  MAXIMUM = 255
  MEAN = 129.477
  MINIMUM = 1
  STANDARD_DEVIATION = 32.5165
END_OBJECT = IMAGE
/* MAP OBJECT DEFINITIONS */
OBJECT = IMAGE_MAP_PROJECTION
  ^DATA_SET_MAP_PROJECTION_CATALOG= "DSMAP.CAT"
  A_AXIS_RADIUS = 3396.0
  B_AXIS_RADIUS = 3396.0
  C_AXIS_RADIUS = 3396.0
  CENTER_LATITUDE = 0.0
  CENTER_LONGITUDE = 283.0
  COORDINATE_SYSTEM_NAME = PLANETOGRAPHIC
  COORDINATE_SYSTEM_TYPE = "BODY-FIXED ROTATING"
  EASTERNMOST_LONGITUDE = 283.829
  FIRST_STANDARD_PARALLEL = "N/A"
  LINE_FIRST_PIXEL = 1
  LINE_LAST_PIXEL = 12866
  LINE_PROJECTION_OFFSET = 15476.8125
  MAP_PROJECTION_ROTATION = 0.0
  MAP_PROJECTION_TYPE = SINUSOIDAL
  MAP_RESOLUTION = 592.713803866667
  MAP_SCALE = 0.1
  MAXIMUM_LATITUDE = 26.1117
  MINIMUM_LATITUDE = 4.39971
  POSITIVE_LONGITUDE_DIRECTION = EAST
  REFERENCE_LATITUDE = "N/A"
  REFERENCE_LONGITUDE = "N/A"
  SAMPLE_FIRST_PIXEL = 1
  SAMPLE_LAST_PIXEL = 1182
  SAMPLE_PROJECTION_OFFSET = 658.4375
  SECOND_STANDARD_PARALLEL = "N/A"
  WESTERNMOST_LONGITUDE = 281.937
END_OBJECT = IMAGE_MAP_PROJECTION
/* The JPEG2000 image data file associated with this label. */
OBJECT = COMPRESSED_FILE
  FILE_NAME = "H3272_0001_BL3.JP2"
  RECORD_TYPE = UNDEFINED
  FILE_RECORDS = UNK
  ENCODING_TYPE = "JP2"
  INTERCHANGE_FORMAT = BINARY
  UNCOMPRESSED_FILE_NAME = "H3272_0001_BL3.IMG"
  REQUIRED_STORAGE_BYTES = "15225342"
  ^DESCRIPTION = "JP2INFO.TXT"
END_OBJECT = COMPRESSED_FILE
END
