PDS_VERSION_ID = PDS3
/* FILE DATA ELEMENTS */
RECORD_TYPE = STREAM
/* POINTERS TO DATA OBJECTS */
^COMPRESSED_FILE = "H3275_0000_P23.JP2"
/* IDENTIFICATION DATA ELEMENTS */
DATA_SET_ID = "MEX-M-HRSC-5-REFDR-MAPPROJECTED-V3.0"
DATA_SET_NAME = "MARS EXPRESS HRSC MAP PROJECTED REFDR V3.0"
DETECTOR_ID = MEX_HRSC_P2
EVENT_TYPE = "MARS-REGIONAL-MAPPING-Fl-Lc-La"
INSTRUMENT_HOST_ID = MEX
INSTRUMENT_HOST_NAME = "MARS EXPRESS"
INSTRUMENT_ID = HRSC
INSTRUMENT_NAME = "HIGH RESOLUTION STEREO CAMERA"
MISSION_NAME = "MARS EXPRESS"
MISSION_PHASE_NAME = ME_Phase_3
PROCESSING_LEVEL_ID = 3
PRODUCT_CREATION_TIME = 2016-04-13T11:55:32.000Z
PRODUCT_ID = "H3275_0000_P23.JP2"
RELEASE_ID = 0040
REVISION_ID = 0000
/* QUALITY DATA ELEMENTS */
DATA_QUALITY_ID = 2
DATA_QUALITY_DESC = "Data calculated based on photogrammetrically improved orbit and attitude data"
/* TIME DATA ELEMENTS */
SPACECRAFT_CLOCK_START_COUNT = "1/0102185862.09050"
SPACECRAFT_CLOCK_STOP_COUNT = "1/0102186099.38675"
START_TIME = 2006-07-28T16:58:42.211Z
STOP_TIME = 2006-07-28T17:01:25.848Z
/* ORBITAL DATA ELEMENTS */
ASCENDING_NODE_LONGITUDE = 159.51
MAXIMUM_RESOLUTION = 31.4
FOOTPRINT_POINT_LATITUDE = (22.6179,22.6162,22.6145,22.6126, 22.6107,22.6086,22.6063,22.3382,22.1454 ,21.9529,21.7607,21.5684,21.3763, 21.1845,20.9928,20.802,20.6111,20.4203, 20.1344,19.9438,19.6584,19.3745,19.1847 ,18.9959,18.8067,18.6183,18.3358, 18.1435,17.9502,17.6608,17.4677,17.2727 ,17.0813,16.8916,16.6958,16.4998, 16.2061,16.0059,15.7083,15.5061,15.3076 ,15.1053,14.8997,14.6958,14.4923, 14.2861,14.0759,13.8687,13.6626,13.4567 ,13.2479,13.0374,12.8285,12.8279, 12.8281,12.8283,12.8285,12.8282,13.0384 ,13.2497,13.4604,13.6669,13.8737, 14.0808,14.3902,14.5935,14.7965,15.0003 ,15.3048,15.5038,15.7035,15.9033, 16.1041,16.3022,16.5958,16.8907,17.0876 ,17.2831,17.4752,17.6671,17.8599, 18.0528,18.3428,18.5363,18.7271,18.9167 ,19.1053,19.4774,19.7628,19.9566, 20.1472,20.4326,20.812,21.0029,21.2913, 21.5801,21.7727,21.9651,22.2543, 22.6179)
FOOTPRINT_POINT_LONGITUDE = (348.67,348.447,348.239,348.032,347.811 ,347.591,347.371,347.288,347.287, 347.286,347.284,347.283,347.282,347.28, 347.279,347.277,347.275,347.273,347.27, 347.268,347.265,347.262,347.259,347.257 ,347.255,347.252,347.248,347.245, 347.243,347.239,347.236,347.234,347.229 ,347.224,347.22,347.217,347.212,347.208 ,347.202,347.199,347.195,347.191, 347.187,347.183,347.179,347.176,347.172 ,347.168,347.163,347.158,347.153, 347.148,347.143,347.585,347.847,348.16, 348.424,348.844,348.841,348.839,348.837 ,348.835,348.832,348.83,348.827,348.824 ,348.822,348.82,348.816,348.814,348.812 ,348.809,348.807,348.805,348.802, 348.799,348.797,348.795,348.793,348.79, 348.788,348.786,348.784,348.785,348.784 ,348.782,348.78,348.772,348.769,348.769 ,348.767,348.764,348.758,348.756, 348.753,348.75,348.749,348.746,348.743, 348.67)
ORBIT_NUMBER = 3275
ORBITAL_ECCENTRICITY = 0.567
ORBITAL_INCLINATION = 86.68
ORBITAL_SEMIMAJOR_AXIS = 8587.49
PERIAPSIS_ALTITUDE = 326.04
PERIAPSIS_ARGUMENT_ANGLE = 142.25
PERIAPSIS_TIME = 2006-07-28T16:54:27.000Z
SPACECRAFT_ORIENTATION = (0.0,-1.0,0.0)
^MEX_ORIENTATION_DESC = "MEX_ORIENTATION_DESC.TXT"
SPACECRAFT_POINTING_MODE = ACROSSTRACK
^MEX_POINTING_DESC = "MEX_POINTING_DESC.TXT"
RIGHT_ASCENSION = -1e+32
DECLINATION = -1e+32
OFFSET_ANGLE = 0.2
SPACECRAFT_SOLAR_DISTANCE = 2.48443e+08
TARGET_NAME = MARS
/* CAMERA DATA ELEMENTS */
DETECTOR_TEMPERATURE = 18.5744
FOCAL_PLANE_TEMPERATURE = 8.1755
INST_CMPRS_NAME = "DISCRETE COSINE TRANSFORMATION (DCT)"
INST_CMPRS_RATIO = 6.25014
INST_CMPRS_QUALITY = 0
INST_CMPRS_QUANTZ_TBL_ID = 0
INSTRUMENT_TEMPERATURE = 11.0301
LENS_TEMPERATURE = 8.5833
MACROPIXEL_SIZE = 2
MISSING_FRAMES = 0
PIXEL_SUBSAMPLING_FLAG = N
SIGNAL_CHAIN_ID = 3
/* RADIOMETRIC DATA ELEMENTS */
BANDWIDTH = 177.0
CENTER_FILTER_WAVELENGTH = 676.5
RADIANCE_OFFSET = 3.28319
RADIANCE_SCALING_FACTOR = 0.0274299
REFLECTANCE_SCALING_FACTOR = 0.000897703
MEX:REFLECTANCE_OFFSET = 0.10745
/* IMAGE OBJECT DEFINITIONS */
OBJECT = IMAGE
  INTERCHANGE_FORMAT = BINARY
  LINES = 23292
  LINE_SAMPLES = 3911
  SAMPLE_TYPE = UNSIGNED_INTEGER
  SAMPLE_BITS = 8
  BANDS = 1
  BAND_STORAGE_TYPE = BAND_SEQUENTIAL
  MAXIMUM = 255
  MEAN = 151.474
  MINIMUM = 1
  STANDARD_DEVIATION = 28.1541
END_OBJECT = IMAGE
/* MAP OBJECT DEFINITIONS */
OBJECT = IMAGE_MAP_PROJECTION
  ^DATA_SET_MAP_PROJECTION_CATALOG= "DSMAP.CAT"
  A_AXIS_RADIUS = 3396.0
  B_AXIS_RADIUS = 3396.0
  C_AXIS_RADIUS = 3396.0
  CENTER_LATITUDE = 0.0
  CENTER_LONGITUDE = 348.0
  COORDINATE_SYSTEM_NAME = PLANETOGRAPHIC
  COORDINATE_SYSTEM_TYPE = "BODY-FIXED ROTATING"
  EASTERNMOST_LONGITUDE = 348.844
  FIRST_STANDARD_PARALLEL = "N/A"
  LINE_FIRST_PIXEL = 1
  LINE_LAST_PIXEL = 23292
  LINE_PROJECTION_OFFSET = 53619.75
  MAP_PROJECTION_ROTATION = 0.0
  MAP_PROJECTION_TYPE = SINUSOIDAL
  MAP_RESOLUTION = 2370.85521546667
  MAP_SCALE = 0.025
  MAXIMUM_LATITUDE = 22.6179
  MINIMUM_LATITUDE = 12.8279
  POSITIVE_LONGITUDE_DIRECTION = EAST
  REFERENCE_LATITUDE = "N/A"
  REFERENCE_LONGITUDE = "N/A"
  SAMPLE_FIRST_PIXEL = 1
  SAMPLE_LAST_PIXEL = 3911
  SAMPLE_PROJECTION_OFFSET = 1938.25
  SECOND_STANDARD_PARALLEL = "N/A"
  WESTERNMOST_LONGITUDE = 347.143
END_OBJECT = IMAGE_MAP_PROJECTION
/* The JPEG2000 image data file associated with this label. */
OBJECT = COMPRESSED_FILE
  FILE_NAME = "H3275_0000_P23.JP2"
  RECORD_TYPE = UNDEFINED
  FILE_RECORDS = UNK
  ENCODING_TYPE = "JP2"
  INTERCHANGE_FORMAT = BINARY
  UNCOMPRESSED_FILE_NAME = "H3275_0000_P23.IMG"
  REQUIRED_STORAGE_BYTES = "91118478"
  ^DESCRIPTION = "JP2INFO.TXT"
END_OBJECT = COMPRESSED_FILE
END
