PDS_VERSION_ID = PDS3
/* FILE DATA ELEMENTS */
RECORD_TYPE = STREAM
/* POINTERS TO DATA OBJECTS */
^COMPRESSED_FILE = "H3276_0000_S23.JP2"
/* IDENTIFICATION DATA ELEMENTS */
DATA_SET_ID = "MEX-M-HRSC-5-REFDR-MAPPROJECTED-V3.0"
DATA_SET_NAME = "MARS EXPRESS HRSC MAP PROJECTED REFDR V3.0"
DETECTOR_ID = MEX_HRSC_S2
EVENT_TYPE = "MARS-REGIONAL-MAPPING-Vo-Te-Gl"
INSTRUMENT_HOST_ID = MEX
INSTRUMENT_HOST_NAME = "MARS EXPRESS"
INSTRUMENT_ID = HRSC
INSTRUMENT_NAME = "HIGH RESOLUTION STEREO CAMERA"
MISSION_NAME = "MARS EXPRESS"
MISSION_PHASE_NAME = ME_Phase_3
PROCESSING_LEVEL_ID = 3
PRODUCT_CREATION_TIME = 2016-04-13T11:55:32.000Z
PRODUCT_ID = "H3276_0000_S23.JP2"
RELEASE_ID = 0040
REVISION_ID = 0000
/* QUALITY DATA ELEMENTS */
DATA_QUALITY_ID = 1
DATA_QUALITY_DESC = "Data calculated based on original SPICE kernels"
/* TIME DATA ELEMENTS */
SPACECRAFT_CLOCK_START_COUNT = "1/0102210197.07292"
SPACECRAFT_CLOCK_STOP_COUNT = "1/0102210590.43255"
START_TIME = 2006-07-28T23:44:46.534Z
STOP_TIME = 2006-07-28T23:49:53.892Z
/* ORBITAL DATA ELEMENTS */
ASCENDING_NODE_LONGITUDE = 159.49
MAXIMUM_RESOLUTION = 40.1
FOOTPRINT_POINT_LATITUDE = (13.608,13.6095,13.6111,13.6144,13.6166 ,13.4669,13.192,12.9182,12.6404,12.3616 ,12.0833,11.8002,11.3761,11.0892, 10.6594,10.3678,10.077,9.63566,9.34111, 9.04173,8.74319,8.43991,8.13783,7.8301, 7.52468,7.21416,6.74685,6.43275,6.1012, 5.62292,5.14011,4.81617,4.32369,3.82284 ,3.48518,3.14243,2.61514,2.08567, 1.73212,1.38292,1.03832,0.694931, 0.354967,0.0160258,-0.317851,-0.645713, -0.973026,-1.46501,-1.79021,-2.11851, -2.17932,-2.18631,-2.19608,-2.20105, -2.20385,-2.20642,-2.04433,-1.7137, -1.38099,-1.04686,-0.710328,-0.372486, -0.0328632,0.308386,0.65121,0.995762, 1.34245,1.69097,2.03808,2.38309,2.72549 ,3.06456,3.56966,4.06969,4.56439, 5.05402,5.53898,5.86041,6.33798,6.66676 ,6.98084,7.29166,7.75421,8.0625,8.36559 ,8.81984,9.11904,9.41836,9.71368, 10.0108,10.3033,10.7408,11.0289,11.4592 ,11.7426,12.166,12.445,12.8634,13.1378, 13.608)
FOOTPRINT_POINT_LONGITUDE = (250.264,249.966,249.701,249.237, 248.973,248.637,248.63,248.623,248.616, 248.609,248.602,248.594,248.583,248.574 ,248.562,248.553,248.545,248.531, 248.522,248.512,248.502,248.492,248.482 ,248.472,248.461,248.45,248.433,248.421 ,248.408,248.389,248.37,248.356,248.336 ,248.315,248.301,248.288,248.27,248.25, 248.235,248.219,248.201,248.183,248.165 ,248.146,248.127,248.106,248.085, 248.055,248.034,248.015,248.467,248.797 ,249.354,249.709,249.963,250.217, 250.628,250.62,250.611,250.603,250.594, 250.586,250.578,250.57,250.562,250.554, 250.547,250.539,250.532,250.525,250.517 ,250.511,250.5,250.491,250.481,250.472, 250.464,250.458,250.45,250.444,250.439, 250.434,250.426,250.422,250.417,250.41, 250.405,250.401,250.397,250.393,250.389 ,250.383,250.379,250.373,250.369, 250.363,250.359,250.353,250.349, 250.264)
ORBIT_NUMBER = 3276
ORBITAL_ECCENTRICITY = 0.568
ORBITAL_INCLINATION = 86.68
ORBITAL_SEMIMAJOR_AXIS = 8598.35
PERIAPSIS_ALTITUDE = 325.44
PERIAPSIS_ARGUMENT_ANGLE = 142.07
PERIAPSIS_TIME = 2006-07-28T23:37:42.000Z
SPACECRAFT_ORIENTATION = (0.0,-1.0,0.0)
^MEX_ORIENTATION_DESC = "MEX_ORIENTATION_DESC.TXT"
SPACECRAFT_POINTING_MODE = NADIR
^MEX_POINTING_DESC = "MEX_POINTING_DESC.TXT"
RIGHT_ASCENSION = -1e+32
DECLINATION = -1e+32
OFFSET_ANGLE = -1e+32
SPACECRAFT_SOLAR_DISTANCE = 2.48429e+08
TARGET_NAME = MARS
/* CAMERA DATA ELEMENTS */
DETECTOR_TEMPERATURE = 18.5744
FOCAL_PLANE_TEMPERATURE = 8.5833
INST_CMPRS_NAME = "DISCRETE COSINE TRANSFORMATION (DCT)"
INST_CMPRS_RATIO = 10.4966
INST_CMPRS_QUALITY = 0
INST_CMPRS_QUANTZ_TBL_ID = 0
INSTRUMENT_TEMPERATURE = 11.234
LENS_TEMPERATURE = 8.9911
MACROPIXEL_SIZE = 2
MISSING_FRAMES = 3
PIXEL_SUBSAMPLING_FLAG = N
SIGNAL_CHAIN_ID = 1
/* RADIOMETRIC DATA ELEMENTS */
BANDWIDTH = 178.0
CENTER_FILTER_WAVELENGTH = 679.0
RADIANCE_OFFSET = 4.07371
RADIANCE_SCALING_FACTOR = 0.0303793
REFLECTANCE_SCALING_FACTOR = 0.000992914
MEX:REFLECTANCE_OFFSET = 0.133145
/* IMAGE OBJECT DEFINITIONS */
OBJECT = IMAGE
  INTERCHANGE_FORMAT = BINARY
  LINES = 37433
  LINE_SAMPLES = 5695
  SAMPLE_TYPE = UNSIGNED_INTEGER
  SAMPLE_BITS = 8
  BANDS = 1
  BAND_STORAGE_TYPE = BAND_SEQUENTIAL
  MAXIMUM = 255
  MEAN = 182.23
  MINIMUM = 1
  STANDARD_DEVIATION = 34.7827
END_OBJECT = IMAGE
/* MAP OBJECT DEFINITIONS */
OBJECT = IMAGE_MAP_PROJECTION
  ^DATA_SET_MAP_PROJECTION_CATALOG= "DSMAP.CAT"
  A_AXIS_RADIUS = 3396.0
  B_AXIS_RADIUS = 3396.0
  C_AXIS_RADIUS = 3396.0
  CENTER_LATITUDE = 0.0
  CENTER_LONGITUDE = 249.0
  COORDINATE_SYSTEM_NAME = PLANETOGRAPHIC
  COORDINATE_SYSTEM_TYPE = "BODY-FIXED ROTATING"
  EASTERNMOST_LONGITUDE = 250.628
  FIRST_STANDARD_PARALLEL = "N/A"
  LINE_FIRST_PIXEL = 1
  LINE_LAST_PIXEL = 37433
  LINE_PROJECTION_OFFSET = 32233.25
  MAP_PROJECTION_ROTATION = 0.0
  MAP_PROJECTION_TYPE = SINUSOIDAL
  MAP_RESOLUTION = 2370.85521546667
  MAP_SCALE = 0.025
  MAXIMUM_LATITUDE = 13.6166
  MINIMUM_LATITUDE = -2.20642
  POSITIVE_LONGITUDE_DIRECTION = EAST
  REFERENCE_LATITUDE = "N/A"
  REFERENCE_LONGITUDE = "N/A"
  SAMPLE_FIRST_PIXEL = 1
  SAMPLE_LAST_PIXEL = 5695
  SAMPLE_PROJECTION_OFFSET = 2085.25
  SECOND_STANDARD_PARALLEL = "N/A"
  WESTERNMOST_LONGITUDE = 248.015
END_OBJECT = IMAGE_MAP_PROJECTION
/* The JPEG2000 image data file associated with this label. */
OBJECT = COMPRESSED_FILE
  FILE_NAME = "H3276_0000_S23.JP2"
  RECORD_TYPE = UNDEFINED
  FILE_RECORDS = UNK
  ENCODING_TYPE = "JP2"
  INTERCHANGE_FORMAT = BINARY
  UNCOMPRESSED_FILE_NAME = "H3276_0000_S23.IMG"
  REQUIRED_STORAGE_BYTES = "213209410"
  ^DESCRIPTION = "JP2INFO.TXT"
END_OBJECT = COMPRESSED_FILE
END
