PDS_VERSION_ID = PDS3
/* FILE DATA ELEMENTS */
RECORD_TYPE = STREAM
/* POINTERS TO DATA OBJECTS */
^COMPRESSED_FILE = "H3283_0000_GR3.JP2"
/* IDENTIFICATION DATA ELEMENTS */
DATA_SET_ID = "MEX-M-HRSC-5-REFDR-MAPPROJECTED-V3.0"
DATA_SET_NAME = "MARS EXPRESS HRSC MAP PROJECTED REFDR V3.0"
DETECTOR_ID = MEX_HRSC_GREEN
EVENT_TYPE = "MARS-REGIONAL-MAPPING-Vo-Te"
INSTRUMENT_HOST_ID = MEX
INSTRUMENT_HOST_NAME = "MARS EXPRESS"
INSTRUMENT_ID = HRSC
INSTRUMENT_NAME = "HIGH RESOLUTION STEREO CAMERA"
MISSION_NAME = "MARS EXPRESS"
MISSION_PHASE_NAME = ME_Phase_3
PROCESSING_LEVEL_ID = 3
PRODUCT_CREATION_TIME = 2016-04-13T11:55:32.000Z
PRODUCT_ID = "H3283_0000_GR3.JP2"
RELEASE_ID = 0040
REVISION_ID = 0000
/* QUALITY DATA ELEMENTS */
DATA_QUALITY_ID = 2
DATA_QUALITY_DESC = "Data calculated based on photogrammetrically improved orbit and attitude data"
/* TIME DATA ELEMENTS */
SPACECRAFT_CLOCK_START_COUNT = "1/0102379026.09055"
SPACECRAFT_CLOCK_STOP_COUNT = "1/0102379213.56998"
START_TIME = 2006-07-30T22:37:39.335Z
STOP_TIME = 2006-07-30T22:39:42.804Z
/* ORBITAL DATA ELEMENTS */
ASCENDING_NODE_LONGITUDE = 159.34
MAXIMUM_RESOLUTION = 104.9
FOOTPRINT_POINT_LATITUDE = (49.9553,49.95,49.944,49.9352,49.9277, 49.9195,49.8154,49.6561,49.4973,49.3375 ,49.0978,48.859,48.6998,48.4608,48.221, 48.0613,47.8215,47.6616,47.5013,47.341, 47.1806,47.0201,46.8597,46.619,46.4584, 46.2175,46.0568,45.896,45.6546,45.4937, 45.2524,45.0916,44.8542,44.6978,44.5415 ,44.3857,44.1518,43.9954,43.839,43.6824 ,43.5259,43.3693,43.2125,43.0557, 42.8991,42.7424,42.5859,42.3508,42.194, 41.9154,41.924,41.9285,41.9346,41.9376, 41.9422,42.1779,42.4135,42.5706,42.7276 ,42.8846,43.1201,43.2771,43.4341, 43.5911,43.7483,43.9053,44.0622,44.2971 ,44.4539,44.6104,44.7669,45.0012, 45.1615,45.4038,45.5654,45.7269,45.8883 ,46.0496,46.2104,46.4521,46.6131, 46.7738,46.9351,47.0962,47.257,47.4176, 47.6584,47.819,47.9795,48.2202,48.3803, 48.5408,48.6999,48.94,49.1002,49.2603, 49.4203,49.5803,49.7402,49.9553)
FOOTPRINT_POINT_LONGITUDE = (281.935,281.654,281.373,281.007,280.73 ,280.454,280.163,280.179,280.195, 280.209,280.231,280.254,280.269,280.291 ,280.312,280.326,280.347,280.361, 280.374,280.387,280.4,280.412,280.425, 280.444,280.456,280.474,280.486,280.498 ,280.515,280.526,280.543,280.554, 280.569,280.579,280.589,280.6,280.615, 280.624,280.634,280.643,280.652,280.661 ,280.67,280.678,280.687,280.695,280.704 ,280.717,280.725,280.739,281.135, 281.378,281.766,281.998,282.269,282.265 ,282.26,282.257,282.254,282.251,282.246 ,282.242,282.238,282.234,282.229, 282.224,282.22,282.215,282.211,282.208, 282.204,282.201,282.199,282.193,282.189 ,282.185,282.181,282.177,282.176,282.17 ,282.167,282.165,282.159,282.155, 282.151,282.148,282.144,282.14,282.136, 282.13,282.128,282.123,282.124,282.119, 282.114,282.109,282.105,282.1,282.095, 281.935)
ORBIT_NUMBER = 3283
ORBITAL_ECCENTRICITY = 0.568
ORBITAL_INCLINATION = 86.67
ORBITAL_SEMIMAJOR_AXIS = 8592.41
PERIAPSIS_ALTITUDE = 326.42
PERIAPSIS_ARGUMENT_ANGLE = 140.86
PERIAPSIS_TIME = 2006-07-30T22:40:31.000Z
SPACECRAFT_ORIENTATION = (0.0,-1.0,0.0)
^MEX_ORIENTATION_DESC = "MEX_ORIENTATION_DESC.TXT"
SPACECRAFT_POINTING_MODE = ACROSSTRACK
^MEX_POINTING_DESC = "MEX_POINTING_DESC.TXT"
RIGHT_ASCENSION = -1e+32
DECLINATION = -1e+32
OFFSET_ANGLE = 0.34
SPACECRAFT_SOLAR_DISTANCE = 2.48331e+08
TARGET_NAME = MARS
/* CAMERA DATA ELEMENTS */
DETECTOR_TEMPERATURE = 17.9627
FOCAL_PLANE_TEMPERATURE = 8.1755
INST_CMPRS_NAME = "DISCRETE COSINE TRANSFORMATION (DCT)"
INST_CMPRS_RATIO = 14.8323
INST_CMPRS_QUALITY = 0
INST_CMPRS_QUANTZ_TBL_ID = 0
INSTRUMENT_TEMPERATURE = 11.0301
LENS_TEMPERATURE = 8.5833
MACROPIXEL_SIZE = 8
MISSING_FRAMES = 0
PIXEL_SUBSAMPLING_FLAG = N
SIGNAL_CHAIN_ID = 2
/* RADIOMETRIC DATA ELEMENTS */
BANDWIDTH = 88.0
CENTER_FILTER_WAVELENGTH = 538.0
RADIANCE_OFFSET = 1.58889
RADIANCE_SCALING_FACTOR = 0.00680486
REFLECTANCE_SCALING_FACTOR = 0.000361301
MEX:REFLECTANCE_OFFSET = 0.0843615
/* IMAGE OBJECT DEFINITIONS */
OBJECT = IMAGE
  INTERCHANGE_FORMAT = BINARY
  LINES = 4765
  LINE_SAMPLES = 910
  SAMPLE_TYPE = UNSIGNED_INTEGER
  SAMPLE_BITS = 8
  BANDS = 1
  BAND_STORAGE_TYPE = BAND_SEQUENTIAL
  MAXIMUM = 255
  MEAN = 134.939
  MINIMUM = 1
  STANDARD_DEVIATION = 33.0878
END_OBJECT = IMAGE
/* MAP OBJECT DEFINITIONS */
OBJECT = IMAGE_MAP_PROJECTION
  ^DATA_SET_MAP_PROJECTION_CATALOG= "DSMAP.CAT"
  A_AXIS_RADIUS = 3396.0
  B_AXIS_RADIUS = 3396.0
  C_AXIS_RADIUS = 3396.0
  CENTER_LATITUDE = 0.0
  CENTER_LONGITUDE = 281.0
  COORDINATE_SYSTEM_NAME = PLANETOGRAPHIC
  COORDINATE_SYSTEM_TYPE = "BODY-FIXED ROTATING"
  EASTERNMOST_LONGITUDE = 282.269
  FIRST_STANDARD_PARALLEL = "N/A"
  LINE_FIRST_PIXEL = 1
  LINE_LAST_PIXEL = 4765
  LINE_PROJECTION_OFFSET = 29609.9375
  MAP_PROJECTION_ROTATION = 0.0
  MAP_PROJECTION_TYPE = SINUSOIDAL
  MAP_RESOLUTION = 592.713803866667
  MAP_SCALE = 0.1
  MAXIMUM_LATITUDE = 49.9553
  MINIMUM_LATITUDE = 41.9154
  POSITIVE_LONGITUDE_DIRECTION = EAST
  REFERENCE_LATITUDE = "N/A"
  REFERENCE_LONGITUDE = "N/A"
  SAMPLE_FIRST_PIXEL = 1
  SAMPLE_LAST_PIXEL = 910
  SAMPLE_PROJECTION_OFFSET = 322.0625
  SECOND_STANDARD_PARALLEL = "N/A"
  WESTERNMOST_LONGITUDE = 280.163
END_OBJECT = IMAGE_MAP_PROJECTION
/* The JPEG2000 image data file associated with this label. */
OBJECT = COMPRESSED_FILE
  FILE_NAME = "H3283_0000_GR3.JP2"
  RECORD_TYPE = UNDEFINED
  FILE_RECORDS = UNK
  ENCODING_TYPE = "JP2"
  INTERCHANGE_FORMAT = BINARY
  UNCOMPRESSED_FILE_NAME = "H3283_0000_GR3.IMG"
  REQUIRED_STORAGE_BYTES = "4354350"
  ^DESCRIPTION = "JP2INFO.TXT"
END_OBJECT = COMPRESSED_FILE
END
