PDS_VERSION_ID = PDS3
/* FILE DATA ELEMENTS */
RECORD_TYPE = STREAM
/* POINTERS TO DATA OBJECTS */
^COMPRESSED_FILE = "H3289_0000_GR3.JP2"
/* IDENTIFICATION DATA ELEMENTS */
DATA_SET_ID = "MEX-M-HRSC-5-REFDR-MAPPROJECTED-V3.0"
DATA_SET_NAME = "MARS EXPRESS HRSC MAP PROJECTED REFDR V3.0"
DETECTOR_ID = MEX_HRSC_GREEN
EVENT_TYPE = "MARS-REGIONAL-MAPPING-Te-Pf-Mw"
INSTRUMENT_HOST_ID = MEX
INSTRUMENT_HOST_NAME = "MARS EXPRESS"
INSTRUMENT_ID = HRSC
INSTRUMENT_NAME = "HIGH RESOLUTION STEREO CAMERA"
MISSION_NAME = "MARS EXPRESS"
MISSION_PHASE_NAME = ME_Phase_3
PROCESSING_LEVEL_ID = 3
PRODUCT_CREATION_TIME = 2016-04-13T11:55:32.000Z
PRODUCT_ID = "H3289_0000_GR3.JP2"
RELEASE_ID = 0040
REVISION_ID = 0000
/* QUALITY DATA ELEMENTS */
DATA_QUALITY_ID = 1
DATA_QUALITY_DESC = "Data calculated based on original SPICE kernels"
/* TIME DATA ELEMENTS */
SPACECRAFT_CLOCK_START_COUNT = "1/0102524216.08250"
SPACECRAFT_CLOCK_STOP_COUNT = "1/0102524436.42005"
START_TIME = 2006-08-01T14:57:28.288Z
STOP_TIME = 2006-08-01T15:00:05.580Z
/* ORBITAL DATA ELEMENTS */
ASCENDING_NODE_LONGITUDE = 159.21
MAXIMUM_RESOLUTION = 104.4
FOOTPRINT_POINT_LATITUDE = (49.4635,49.4559,49.4399,49.4304, 49.2994,49.0919,48.8845,48.6768,48.469, 48.2611,48.0531,47.8453,47.6371,47.3255 ,47.1162,46.8037,46.5962,46.3862, 46.1784,45.8753,45.6725,45.4697,45.267, 44.9631,44.7604,44.4562,44.1517,43.9486 ,43.7457,43.4414,43.1359,42.9324, 42.7293,42.4255,42.2226,42.0179,41.8142 ,41.6102,41.4068,41.204,41.0022,40.8048 ,40.5097,40.3126,40.1153,39.9182, 39.6227,39.4255,39.2284,39.2075,39.2151 ,39.2242,39.2303,39.4278,39.7238,39.92, 40.1169,40.3149,40.6124,40.8084,41.0055 ,41.3104,41.5144,41.7198,41.9227, 42.1272,42.3306,42.5349,42.7387,42.9429 ,43.1472,43.3509,43.5542,43.7576, 43.9613,44.2667,44.5716,44.7751,44.9788 ,45.1813,45.3845,45.5877,45.7907, 45.9936,46.1965,46.4041,46.6137,46.9277 ,47.1371,47.3462,47.5551,47.8684,48.078 ,48.286,48.4947,48.7034,48.9117,49.2241 ,49.4323,49.4635)
FOOTPRINT_POINT_LONGITUDE = (51.3074,51.0378,50.5331,50.2641, 49.9427,49.964,49.9854,50.006,50.0264, 50.0465,50.0665,50.0867,50.106,50.1364, 50.1528,50.181,50.2017,50.2164,50.2335, 50.2586,50.2735,50.2885,50.3036,50.3264 ,50.3413,50.3633,50.3843,50.398,50.4121 ,50.4332,50.4514,50.4638,50.477,50.4986 ,50.5121,50.5212,50.5325,50.5431, 50.5549,50.5682,50.5821,50.5914,50.6075 ,50.6172,50.6266,50.6359,50.6504, 50.6595,50.6685,50.9956,51.3369,51.8288 ,52.1249,52.1203,52.114,52.1128,52.1095 ,52.1033,52.0922,52.0912,52.0867, 52.0784,52.0733,52.0642,52.062,52.0549, 52.0508,52.0442,52.0387,52.0317,52.0243 ,52.0185,52.0137,52.0081,52.0017, 51.9921,51.9832,51.9763,51.9685,51.964, 51.9572,51.9501,51.9433,51.9363,51.9293 ,51.9219,51.9139,51.9028,51.8946, 51.8868,51.8794,51.8678,51.8573,51.8514 ,51.8428,51.8339,51.8257,51.8127, 51.8037,51.3074)
ORBIT_NUMBER = 3289
ORBITAL_ECCENTRICITY = 0.568
ORBITAL_INCLINATION = 86.68
ORBITAL_SEMIMAJOR_AXIS = 8590.35
PERIAPSIS_ALTITUDE = 327.07
PERIAPSIS_ARGUMENT_ANGLE = 139.81
PERIAPSIS_TIME = 2006-08-01T14:59:56.000Z
SPACECRAFT_ORIENTATION = (0.0,-1.0,0.0)
^MEX_ORIENTATION_DESC = "MEX_ORIENTATION_DESC.TXT"
SPACECRAFT_POINTING_MODE = NADIR
^MEX_POINTING_DESC = "MEX_POINTING_DESC.TXT"
RIGHT_ASCENSION = -1e+32
DECLINATION = -1e+32
OFFSET_ANGLE = -1e+32
SPACECRAFT_SOLAR_DISTANCE = 2.48242e+08
TARGET_NAME = MARS
/* CAMERA DATA ELEMENTS */
DETECTOR_TEMPERATURE = 18.1666
FOCAL_PLANE_TEMPERATURE = 8.1755
INST_CMPRS_NAME = "DISCRETE COSINE TRANSFORMATION (DCT)"
INST_CMPRS_RATIO = 20.0735
INST_CMPRS_QUALITY = 0
INST_CMPRS_QUANTZ_TBL_ID = 0
INSTRUMENT_TEMPERATURE = 11.234
LENS_TEMPERATURE = 8.5833
MACROPIXEL_SIZE = 8
MISSING_FRAMES = 0
PIXEL_SUBSAMPLING_FLAG = N
SIGNAL_CHAIN_ID = 2
/* RADIOMETRIC DATA ELEMENTS */
BANDWIDTH = 88.0
CENTER_FILTER_WAVELENGTH = 538.0
RADIANCE_OFFSET = 1.42057
RADIANCE_SCALING_FACTOR = 0.0066154
REFLECTANCE_SCALING_FACTOR = 0.00035099
MEX:REFLECTANCE_OFFSET = 0.0753706
/* IMAGE OBJECT DEFINITIONS */
OBJECT = IMAGE
  INTERCHANGE_FORMAT = BINARY
  LINES = 6091
  LINE_SAMPLES = 942
  SAMPLE_TYPE = UNSIGNED_INTEGER
  SAMPLE_BITS = 8
  BANDS = 1
  BAND_STORAGE_TYPE = BAND_SEQUENTIAL
  MAXIMUM = 255
  MEAN = 146.587
  MINIMUM = 1
  STANDARD_DEVIATION = 21.8056
END_OBJECT = IMAGE
/* MAP OBJECT DEFINITIONS */
OBJECT = IMAGE_MAP_PROJECTION
  ^DATA_SET_MAP_PROJECTION_CATALOG= "DSMAP.CAT"
  A_AXIS_RADIUS = 3396.0
  B_AXIS_RADIUS = 3396.0
  C_AXIS_RADIUS = 3396.0
  CENTER_LATITUDE = 0.0
  CENTER_LONGITUDE = 51.0
  COORDINATE_SYSTEM_NAME = PLANETOGRAPHIC
  COORDINATE_SYSTEM_TYPE = "BODY-FIXED ROTATING"
  EASTERNMOST_LONGITUDE = 52.1249
  FIRST_STANDARD_PARALLEL = "N/A"
  LINE_FIRST_PIXEL = 1
  LINE_LAST_PIXEL = 6091
  LINE_PROJECTION_OFFSET = 29322.8125
  MAP_PROJECTION_ROTATION = 0.0
  MAP_PROJECTION_TYPE = SINUSOIDAL
  MAP_RESOLUTION = 592.713803866667
  MAP_SCALE = 0.1
  MAXIMUM_LATITUDE = 49.4635
  MINIMUM_LATITUDE = 39.2075
  POSITIVE_LONGITUDE_DIRECTION = EAST
  REFERENCE_LATITUDE = "N/A"
  REFERENCE_LONGITUDE = "N/A"
  SAMPLE_FIRST_PIXEL = 1
  SAMPLE_LAST_PIXEL = 942
  SAMPLE_PROJECTION_OFFSET = 414.0625
  SECOND_STANDARD_PARALLEL = "N/A"
  WESTERNMOST_LONGITUDE = 49.9427
END_OBJECT = IMAGE_MAP_PROJECTION
/* The JPEG2000 image data file associated with this label. */
OBJECT = COMPRESSED_FILE
  FILE_NAME = "H3289_0000_GR3.JP2"
  RECORD_TYPE = UNDEFINED
  FILE_RECORDS = UNK
  ENCODING_TYPE = "JP2"
  INTERCHANGE_FORMAT = BINARY
  UNCOMPRESSED_FILE_NAME = "H3289_0000_GR3.IMG"
  REQUIRED_STORAGE_BYTES = "5755620"
  ^DESCRIPTION = "JP2INFO.TXT"
END_OBJECT = COMPRESSED_FILE
END
