PDS_VERSION_ID = PDS3
/* FILE DATA ELEMENTS */
RECORD_TYPE = STREAM
/* POINTERS TO DATA OBJECTS */
^COMPRESSED_FILE = "H3289_0000_IR3.JP2"
/* IDENTIFICATION DATA ELEMENTS */
DATA_SET_ID = "MEX-M-HRSC-5-REFDR-MAPPROJECTED-V3.0"
DATA_SET_NAME = "MARS EXPRESS HRSC MAP PROJECTED REFDR V3.0"
DETECTOR_ID = MEX_HRSC_IR
EVENT_TYPE = "MARS-REGIONAL-MAPPING-Te-Pf-Mw"
INSTRUMENT_HOST_ID = MEX
INSTRUMENT_HOST_NAME = "MARS EXPRESS"
INSTRUMENT_ID = HRSC
INSTRUMENT_NAME = "HIGH RESOLUTION STEREO CAMERA"
MISSION_NAME = "MARS EXPRESS"
MISSION_PHASE_NAME = ME_Phase_3
PROCESSING_LEVEL_ID = 3
PRODUCT_CREATION_TIME = 2016-04-13T11:55:32.000Z
PRODUCT_ID = "H3289_0000_IR3.JP2"
RELEASE_ID = 0040
REVISION_ID = 0000
/* QUALITY DATA ELEMENTS */
DATA_QUALITY_ID = 1
DATA_QUALITY_DESC = "Data calculated based on original SPICE kernels"
/* TIME DATA ELEMENTS */
SPACECRAFT_CLOCK_START_COUNT = "1/0102524216.08250"
SPACECRAFT_CLOCK_STOP_COUNT = "1/0102524436.42005"
START_TIME = 2006-08-01T14:57:06.913Z
STOP_TIME = 2006-08-01T14:59:46.376Z
/* ORBITAL DATA ELEMENTS */
ASCENDING_NODE_LONGITUDE = 159.21
MAXIMUM_RESOLUTION = 109
FOOTPRINT_POINT_LATITUDE = (49.5203,49.5063,49.4847,49.4714, 49.0932,48.8908,48.6876,48.4841,48.2807 ,48.0771,47.8744,47.671,47.4665,47.2667 ,47.0574,46.8538,46.6551,46.4466,46.138 ,45.9353,45.726,45.5184,45.3115,45.1055 ,44.8992,44.6991,44.4994,44.2983,44.098 ,43.7977,43.4987,43.2946,43.0932,42.792 ,42.4924,42.3,42.0931,41.7861,41.583, 41.3832,41.1871,40.9888,40.7837,40.5794 ,40.3802,40.1768,39.9734,39.7707, 39.5743,39.3782,39.204,39.2104,39.2191, 39.2253,39.2331,39.4297,39.627,39.921, 40.1188,40.3242,40.6341,40.829,41.0318, 41.2353,41.5391,41.7483,41.9442,42.1497 ,42.3485,42.5517,42.8553,43.0593, 43.3631,43.5625,43.7626,43.964,44.2656, 44.4691,44.6658,44.8677,45.073,45.3796, 45.5867,45.793,46.1026,46.3086,46.5149, 46.8251,47.1326,47.3382,47.5419,47.747, 47.9506,48.2581,48.4622,48.7683,48.972, 49.1756,49.3791,49.5203)
FOOTPRINT_POINT_LONGITUDE = (51.35,50.8846,50.2823,49.9551,49.9462, 49.9675,49.9882,50.0085,50.0287,50.0485 ,50.0686,50.0881,50.107,50.1277,50.144, 50.1626,50.1832,50.1994,50.225,50.2432, 50.2582,50.2739,50.2897,50.3057,50.3212 ,50.336,50.3509,50.3649,50.3792,50.4003 ,50.4217,50.4337,50.4467,50.4663, 50.4862,50.5024,50.5123,50.5283,50.5395 ,50.552,50.5658,50.5785,50.5883,50.5983 ,50.6102,50.6203,50.6302,50.6403, 50.6498,50.6592,50.83,51.077,51.4336, 51.7356,52.129,52.1247,52.12,52.1159, 52.114,52.1082,52.0982,52.0975,52.0926, 52.0873,52.0797,52.071,52.0693,52.0623, 52.0588,52.0528,52.0442,52.0374,52.0282 ,52.0236,52.0185,52.0126,52.0037, 51.9962,51.9924,51.9855,51.9785,51.971, 51.9642,51.9576,51.9475,51.9408,51.9336 ,51.9221,51.9119,51.9044,51.8979, 51.8904,51.8836,51.8718,51.8642,51.8524 ,51.8445,51.8365,51.8283,51.35)
ORBIT_NUMBER = 3289
ORBITAL_ECCENTRICITY = 0.568
ORBITAL_INCLINATION = 86.68
ORBITAL_SEMIMAJOR_AXIS = 8590.35
PERIAPSIS_ALTITUDE = 327.07
PERIAPSIS_ARGUMENT_ANGLE = 139.81
PERIAPSIS_TIME = 2006-08-01T14:59:56.000Z
SPACECRAFT_ORIENTATION = (0.0,-1.0,0.0)
^MEX_ORIENTATION_DESC = "MEX_ORIENTATION_DESC.TXT"
SPACECRAFT_POINTING_MODE = NADIR
^MEX_POINTING_DESC = "MEX_POINTING_DESC.TXT"
RIGHT_ASCENSION = -1e+32
DECLINATION = -1e+32
OFFSET_ANGLE = -1e+32
SPACECRAFT_SOLAR_DISTANCE = 2.48242e+08
TARGET_NAME = MARS
/* CAMERA DATA ELEMENTS */
DETECTOR_TEMPERATURE = 17.351
FOCAL_PLANE_TEMPERATURE = 8.1755
INST_CMPRS_NAME = "DISCRETE COSINE TRANSFORMATION (DCT)"
INST_CMPRS_RATIO = 17.6042
INST_CMPRS_QUALITY = 0
INST_CMPRS_QUANTZ_TBL_ID = 0
INSTRUMENT_TEMPERATURE = 11.234
LENS_TEMPERATURE = 8.5833
MACROPIXEL_SIZE = 8
MISSING_FRAMES = 0
PIXEL_SUBSAMPLING_FLAG = N
SIGNAL_CHAIN_ID = 2
/* RADIOMETRIC DATA ELEMENTS */
BANDWIDTH = 81.0
CENTER_FILTER_WAVELENGTH = 955.5
RADIANCE_OFFSET = 0.74336
RADIANCE_SCALING_FACTOR = 0.00884593
REFLECTANCE_SCALING_FACTOR = 0.00117604
MEX:REFLECTANCE_OFFSET = 0.0988274
/* IMAGE OBJECT DEFINITIONS */
OBJECT = IMAGE
  INTERCHANGE_FORMAT = BINARY
  LINES = 6091
  LINE_SAMPLES = 942
  SAMPLE_TYPE = UNSIGNED_INTEGER
  SAMPLE_BITS = 8
  BANDS = 1
  BAND_STORAGE_TYPE = BAND_SEQUENTIAL
  MAXIMUM = 254
  MEAN = 168.755
  MINIMUM = 1
  STANDARD_DEVIATION = 25.0466
END_OBJECT = IMAGE
/* MAP OBJECT DEFINITIONS */
OBJECT = IMAGE_MAP_PROJECTION
  ^DATA_SET_MAP_PROJECTION_CATALOG= "DSMAP.CAT"
  A_AXIS_RADIUS = 3396.0
  B_AXIS_RADIUS = 3396.0
  C_AXIS_RADIUS = 3396.0
  CENTER_LATITUDE = 0.0
  CENTER_LONGITUDE = 51.0
  COORDINATE_SYSTEM_NAME = PLANETOGRAPHIC
  COORDINATE_SYSTEM_TYPE = "BODY-FIXED ROTATING"
  EASTERNMOST_LONGITUDE = 52.129
  FIRST_STANDARD_PARALLEL = "N/A"
  LINE_FIRST_PIXEL = 1
  LINE_LAST_PIXEL = 6091
  LINE_PROJECTION_OFFSET = 29322.8125
  MAP_PROJECTION_ROTATION = 0.0
  MAP_PROJECTION_TYPE = SINUSOIDAL
  MAP_RESOLUTION = 592.713803866667
  MAP_SCALE = 0.1
  MAXIMUM_LATITUDE = 49.5203
  MINIMUM_LATITUDE = 39.204
  POSITIVE_LONGITUDE_DIRECTION = EAST
  REFERENCE_LATITUDE = "N/A"
  REFERENCE_LONGITUDE = "N/A"
  SAMPLE_FIRST_PIXEL = 1
  SAMPLE_LAST_PIXEL = 942
  SAMPLE_PROJECTION_OFFSET = 414.0625
  SECOND_STANDARD_PARALLEL = "N/A"
  WESTERNMOST_LONGITUDE = 49.9462
END_OBJECT = IMAGE_MAP_PROJECTION
/* The JPEG2000 image data file associated with this label. */
OBJECT = COMPRESSED_FILE
  FILE_NAME = "H3289_0000_IR3.JP2"
  RECORD_TYPE = UNDEFINED
  FILE_RECORDS = UNK
  ENCODING_TYPE = "JP2"
  INTERCHANGE_FORMAT = BINARY
  UNCOMPRESSED_FILE_NAME = "H3289_0000_IR3.IMG"
  REQUIRED_STORAGE_BYTES = "5755620"
  ^DESCRIPTION = "JP2INFO.TXT"
END_OBJECT = COMPRESSED_FILE
END
