PDS_VERSION_ID = PDS3
/* FILE DATA ELEMENTS */
RECORD_TYPE = STREAM
/* POINTERS TO DATA OBJECTS */
^COMPRESSED_FILE = "H3293_0000_IR3.JP2"
/* IDENTIFICATION DATA ELEMENTS */
DATA_SET_ID = "MEX-M-HRSC-5-REFDR-MAPPROJECTED-V3.0"
DATA_SET_NAME = "MARS EXPRESS HRSC MAP PROJECTED REFDR V3.0"
DETECTOR_ID = MEX_HRSC_IR
EVENT_TYPE = "MARS-REGIONAL-MAPPING-Te-Pf-Mw"
INSTRUMENT_HOST_ID = MEX
INSTRUMENT_HOST_NAME = "MARS EXPRESS"
INSTRUMENT_ID = HRSC
INSTRUMENT_NAME = "HIGH RESOLUTION STEREO CAMERA"
MISSION_NAME = "MARS EXPRESS"
MISSION_PHASE_NAME = ME_Phase_3
PROCESSING_LEVEL_ID = 3
PRODUCT_CREATION_TIME = 2016-04-13T11:55:32.000Z
PRODUCT_ID = "H3293_0000_IR3.JP2"
RELEASE_ID = 0040
REVISION_ID = 0000
/* QUALITY DATA ELEMENTS */
DATA_QUALITY_ID = 2
DATA_QUALITY_DESC = "Data calculated based on photogrammetrically improved orbit and attitude data"
/* TIME DATA ELEMENTS */
SPACECRAFT_CLOCK_START_COUNT = "1/0102621040.08241"
SPACECRAFT_CLOCK_STOP_COUNT = "1/0102621279.22543"
START_TIME = 2006-08-02T17:50:50.710Z
STOP_TIME = 2006-08-02T17:53:48.053Z
/* ORBITAL DATA ELEMENTS */
ASCENDING_NODE_LONGITUDE = 159.14
MAXIMUM_RESOLUTION = 109.7
FOOTPRINT_POINT_LATITUDE = (47.5764,47.5613,47.545,47.535,47.4501, 47.2184,46.9864,46.6373,46.4044,46.1724 ,45.8225,45.5887,45.3597,45.0228, 44.7929,44.4531,44.2257,43.9991,43.7712 ,43.5445,43.3184,43.0888,42.8602, 42.6333,42.2903,42.0617,41.7191,41.4907 ,41.2651,41.0375,40.8088,40.5751, 40.3474,40.1164,39.8891,39.5447,39.3152 ,39.0933,38.7596,38.5371,38.3156, 38.0906,37.8676,37.6404,37.3,37.072, 36.728,36.4968,36.2653,36.0323,35.996, 36.0084,36.0141,36.0199,36.3713,36.6033 ,36.8338,37.0602,37.4078,37.6398, 37.8633,38.0868,38.4217,38.6448,38.8681 ,39.0889,39.308,39.5346,39.7655,39.9959 ,40.2258,40.4563,40.6873,40.919,41.1495 ,41.3836,41.6138,41.9526,42.178,42.4072 ,42.6366,42.9815,43.2089,43.5509, 43.7792,44.0073,44.2342,44.5754,44.8028 ,45.0301,45.3744,45.6029,45.8361, 46.0698,46.419,46.6523,46.886,47.2351, 47.4679,47.5764)
FOOTPRINT_POINT_LONGITUDE = (18.3594,17.8454,17.3794,17.1222, 16.8373,16.8588,16.8799,16.9106,16.9306 ,16.9509,16.9799,16.9987,17.0175, 17.0452,17.0609,17.0864,17.1028,17.1193 ,17.135,17.1511,17.1672,17.1816,17.1962 ,17.2113,17.2326,17.2465,17.2671, 17.2807,17.2954,17.3089,17.3218,17.3321 ,17.3451,17.3564,17.3692,17.3864, 17.3972,17.408,17.4235,17.4336,17.444, 17.4526,17.4621,17.4694,17.4827,17.4931 ,17.5075,17.516,17.5242,17.5316,17.7448 ,18.2236,18.5026,18.821,18.942,18.937, 18.9326,18.93,18.9222,18.9145,18.9095, 18.9045,18.8968,18.8916,18.8863,18.882, 18.8785,18.8735,18.8676,18.8618,18.8561 ,18.85,18.8435,18.8365,18.83,18.8216, 18.8149,18.8078,18.8031,18.7965,18.7895 ,18.7784,18.7721,18.7618,18.7546, 18.7473,18.7405,18.7295,18.722,18.7143, 18.7007,18.6931,18.6854,18.6772,18.6652 ,18.6567,18.6477,18.6346,18.6256, 18.3594)
ORBIT_NUMBER = 3293
ORBITAL_ECCENTRICITY = 0.567
ORBITAL_INCLINATION = 86.67
ORBITAL_SEMIMAJOR_AXIS = 8586.49
PERIAPSIS_ALTITUDE = 327.81
PERIAPSIS_ARGUMENT_ANGLE = 139.08
PERIAPSIS_TIME = 2006-08-02T17:52:58.000Z
SPACECRAFT_ORIENTATION = (0.0,-1.0,0.0)
^MEX_ORIENTATION_DESC = "MEX_ORIENTATION_DESC.TXT"
SPACECRAFT_POINTING_MODE = ACROSSTRACK
^MEX_POINTING_DESC = "MEX_POINTING_DESC.TXT"
RIGHT_ASCENSION = -1e+32
DECLINATION = -1e+32
OFFSET_ANGLE = -0.05
SPACECRAFT_SOLAR_DISTANCE = 2.48181e+08
TARGET_NAME = MARS
/* CAMERA DATA ELEMENTS */
DETECTOR_TEMPERATURE = 16.9432
FOCAL_PLANE_TEMPERATURE = 7.3599
INST_CMPRS_NAME = "DISCRETE COSINE TRANSFORMATION (DCT)"
INST_CMPRS_RATIO = 13.4118
INST_CMPRS_QUALITY = 0
INST_CMPRS_QUANTZ_TBL_ID = 0
INSTRUMENT_TEMPERATURE = 10.8262
LENS_TEMPERATURE = 7.7677
MACROPIXEL_SIZE = 8
MISSING_FRAMES = 0
PIXEL_SUBSAMPLING_FLAG = N
SIGNAL_CHAIN_ID = 2
/* RADIOMETRIC DATA ELEMENTS */
BANDWIDTH = 81.0
CENTER_FILTER_WAVELENGTH = 955.5
RADIANCE_OFFSET = 0.988922
RADIANCE_SCALING_FACTOR = 0.00705114
REFLECTANCE_SCALING_FACTOR = 0.000936965
MEX:REFLECTANCE_OFFSET = 0.131409
/* IMAGE OBJECT DEFINITIONS */
OBJECT = IMAGE
  INTERCHANGE_FORMAT = BINARY
  LINES = 6831
  LINE_SAMPLES = 927
  SAMPLE_TYPE = UNSIGNED_INTEGER
  SAMPLE_BITS = 8
  BANDS = 1
  BAND_STORAGE_TYPE = BAND_SEQUENTIAL
  MAXIMUM = 255
  MEAN = 155.65
  MINIMUM = 1
  STANDARD_DEVIATION = 26.0686
END_OBJECT = IMAGE
/* MAP OBJECT DEFINITIONS */
OBJECT = IMAGE_MAP_PROJECTION
  ^DATA_SET_MAP_PROJECTION_CATALOG= "DSMAP.CAT"
  A_AXIS_RADIUS = 3396.0
  B_AXIS_RADIUS = 3396.0
  C_AXIS_RADIUS = 3396.0
  CENTER_LATITUDE = 0.0
  CENTER_LONGITUDE = 18.0
  COORDINATE_SYSTEM_NAME = PLANETOGRAPHIC
  COORDINATE_SYSTEM_TYPE = "BODY-FIXED ROTATING"
  EASTERNMOST_LONGITUDE = 18.942
  FIRST_STANDARD_PARALLEL = "N/A"
  LINE_FIRST_PIXEL = 1
  LINE_LAST_PIXEL = 6831
  LINE_PROJECTION_OFFSET = 28167.3125
  MAP_PROJECTION_ROTATION = 0.0
  MAP_PROJECTION_TYPE = SINUSOIDAL
  MAP_RESOLUTION = 592.713803866667
  MAP_SCALE = 0.1
  MAXIMUM_LATITUDE = 47.5764
  MINIMUM_LATITUDE = 35.996
  POSITIVE_LONGITUDE_DIRECTION = EAST
  REFERENCE_LATITUDE = "N/A"
  REFERENCE_LONGITUDE = "N/A"
  SAMPLE_FIRST_PIXEL = 1
  SAMPLE_LAST_PIXEL = 927
  SAMPLE_PROJECTION_OFFSET = 464.6875
  SECOND_STANDARD_PARALLEL = "N/A"
  WESTERNMOST_LONGITUDE = 16.8373
END_OBJECT = IMAGE_MAP_PROJECTION
/* The JPEG2000 image data file associated with this label. */
OBJECT = COMPRESSED_FILE
  FILE_NAME = "H3293_0000_IR3.JP2"
  RECORD_TYPE = UNDEFINED
  FILE_RECORDS = UNK
  ENCODING_TYPE = "JP2"
  INTERCHANGE_FORMAT = BINARY
  UNCOMPRESSED_FILE_NAME = "H3293_0000_IR3.IMG"
  REQUIRED_STORAGE_BYTES = "6350877"
  ^DESCRIPTION = "JP2INFO.TXT"
END_OBJECT = COMPRESSED_FILE
END
