PDS_VERSION_ID = PDS3
/* FILE DATA ELEMENTS */
RECORD_TYPE = STREAM
/* POINTERS TO DATA OBJECTS */
^COMPRESSED_FILE = "H3297_0000_S13.JP2"
/* IDENTIFICATION DATA ELEMENTS */
DATA_SET_ID = "MEX-M-HRSC-5-REFDR-MAPPROJECTED-V3.0"
DATA_SET_NAME = "MARS EXPRESS HRSC MAP PROJECTED REFDR V3.0"
DETECTOR_ID = MEX_HRSC_S1
EVENT_TYPE = "MARS-REGIONAL-MAPPING-Im-La-Ts"
INSTRUMENT_HOST_ID = MEX
INSTRUMENT_HOST_NAME = "MARS EXPRESS"
INSTRUMENT_ID = HRSC
INSTRUMENT_NAME = "HIGH RESOLUTION STEREO CAMERA"
MISSION_NAME = "MARS EXPRESS"
MISSION_PHASE_NAME = ME_Phase_3
PROCESSING_LEVEL_ID = 3
PRODUCT_CREATION_TIME = 2016-04-13T11:55:32.000Z
PRODUCT_ID = "H3297_0000_S13.JP2"
RELEASE_ID = 0040
REVISION_ID = 0000
/* QUALITY DATA ELEMENTS */
DATA_QUALITY_ID = 1
DATA_QUALITY_DESC = "Data calculated based on original SPICE kernels"
/* TIME DATA ELEMENTS */
SPACECRAFT_CLOCK_START_COUNT = "1/0102718156.08246"
SPACECRAFT_CLOCK_STOP_COUNT = "1/0102718484.61033"
START_TIME = 2006-08-03T20:49:21.257Z
STOP_TIME = 2006-08-03T20:53:06.517Z
/* ORBITAL DATA ELEMENTS */
ASCENDING_NODE_LONGITUDE = 159.06
MAXIMUM_RESOLUTION = 30.7
FOOTPRINT_POINT_LATITUDE = (26.4839,26.485,26.4856,26.4856,26.4851 ,26.4403,26.0737,25.7034,25.3422, 25.0984,24.8542,24.6106,24.3287,24.0372 ,23.6003,23.1643,22.7266,22.2831, 21.9944,21.7028,21.4138,20.9801,20.6905 ,20.4024,20.1084,19.8186,19.3837,18.945 ,18.6528,18.3616,18.0671,17.7687, 17.4721,17.0077,16.7031,16.3999,16.0905 ,15.6267,15.3231,15.0064,14.5297, 14.0487,13.7237,13.3993,13.071,12.7388, 12.4071,12.0712,11.9022,11.7144,11.7128 ,11.7101,11.7036,11.6966,11.8632, 12.0318,12.2006,12.368,12.7001,13.0339, 13.5244,13.8521,14.1754,14.487,14.8038, 15.1276,15.5891,15.9006,16.2099,16.6735 ,16.9909,17.2918,17.7388,18.1831, 18.4781,18.9183,19.2056,19.4956,19.9315 ,20.2241,20.6646,20.9553,21.2467, 21.6837,22.1216,22.4127,22.8464,23.1372 ,23.4335,23.7266,24.0178,24.3088, 24.5942,24.8386,25.2045,25.5716,25.8093 ,26.0585,26.4283,26.4839)
FOOTPRINT_POINT_LONGITUDE = (345.909,345.694,345.478,345.263, 345.062,344.752,344.753,344.753,344.755 ,344.755,344.755,344.755,344.755, 344.755,344.753,344.752,344.75,344.746, 344.745,344.743,344.741,344.738,344.736 ,344.734,344.731,344.728,344.723, 344.717,344.713,344.71,344.707,344.702, 344.698,344.689,344.684,344.679,344.673 ,344.665,344.661,344.655,344.646, 344.636,344.629,344.622,344.614,344.606 ,344.598,344.59,344.586,344.697,344.978 ,345.293,345.757,346.173,346.295, 346.294,346.293,346.291,346.289,346.286 ,346.282,346.278,346.277,346.277, 346.275,346.27,346.269,346.267,346.265, 346.26,346.252,346.251,346.248,346.245, 346.244,346.24,346.239,346.236,346.232, 346.229,346.225,346.223,346.22,346.216, 346.212,346.209,346.206,346.204,346.199 ,346.196,346.194,346.191,346.188, 346.186,346.183,346.179,346.18,346.175, 346.171,345.909)
ORBIT_NUMBER = 3297
ORBITAL_ECCENTRICITY = 0.567
ORBITAL_INCLINATION = 86.68
ORBITAL_SEMIMAJOR_AXIS = 8581.34
PERIAPSIS_ALTITUDE = 328.12
PERIAPSIS_ARGUMENT_ANGLE = 138.35
PERIAPSIS_TIME = 2006-08-03T20:46:00.000Z
SPACECRAFT_ORIENTATION = (0.0,-1.0,0.0)
^MEX_ORIENTATION_DESC = "MEX_ORIENTATION_DESC.TXT"
SPACECRAFT_POINTING_MODE = ACROSSTRACK
^MEX_POINTING_DESC = "MEX_POINTING_DESC.TXT"
RIGHT_ASCENSION = -1e+32
DECLINATION = -1e+32
OFFSET_ANGLE = 0.15
SPACECRAFT_SOLAR_DISTANCE = 2.48117e+08
TARGET_NAME = MARS
/* CAMERA DATA ELEMENTS */
DETECTOR_TEMPERATURE = 17.1471
FOCAL_PLANE_TEMPERATURE = 8.1755
INST_CMPRS_NAME = "DISCRETE COSINE TRANSFORMATION (DCT)"
INST_CMPRS_RATIO = 10.9702
INST_CMPRS_QUALITY = 0
INST_CMPRS_QUANTZ_TBL_ID = 0
INSTRUMENT_TEMPERATURE = 11.0301
LENS_TEMPERATURE = 8.3794
MACROPIXEL_SIZE = 2
MISSING_FRAMES = 1
PIXEL_SUBSAMPLING_FLAG = N
SIGNAL_CHAIN_ID = 1
/* RADIOMETRIC DATA ELEMENTS */
BANDWIDTH = 180.0
CENTER_FILTER_WAVELENGTH = 677.0
RADIANCE_OFFSET = 3.96042
RADIANCE_SCALING_FACTOR = 0.029509
REFLECTANCE_SCALING_FACTOR = 0.000947787
MEX:REFLECTANCE_OFFSET = 0.127203
/* IMAGE OBJECT DEFINITIONS */
OBJECT = IMAGE
  INTERCHANGE_FORMAT = BINARY
  LINES = 34979
  LINE_SAMPLES = 4393
  SAMPLE_TYPE = UNSIGNED_INTEGER
  SAMPLE_BITS = 8
  BANDS = 1
  BAND_STORAGE_TYPE = BAND_SEQUENTIAL
  MAXIMUM = 255
  MEAN = 154.572
  MINIMUM = 1
  STANDARD_DEVIATION = 38.8252
END_OBJECT = IMAGE
/* MAP OBJECT DEFINITIONS */
OBJECT = IMAGE_MAP_PROJECTION
  ^DATA_SET_MAP_PROJECTION_CATALOG= "DSMAP.CAT"
  A_AXIS_RADIUS = 3396.0
  B_AXIS_RADIUS = 3396.0
  C_AXIS_RADIUS = 3396.0
  CENTER_LATITUDE = 0.0
  CENTER_LONGITUDE = 345.0
  COORDINATE_SYSTEM_NAME = PLANETOGRAPHIC
  COORDINATE_SYSTEM_TYPE = "BODY-FIXED ROTATING"
  EASTERNMOST_LONGITUDE = 346.295
  FIRST_STANDARD_PARALLEL = "N/A"
  LINE_FIRST_PIXEL = 1
  LINE_LAST_PIXEL = 34979
  LINE_PROJECTION_OFFSET = 62765.75
  MAP_PROJECTION_ROTATION = 0.0
  MAP_PROJECTION_TYPE = SINUSOIDAL
  MAP_RESOLUTION = 2370.85521546667
  MAP_SCALE = 0.025
  MAXIMUM_LATITUDE = 26.4856
  MINIMUM_LATITUDE = 11.6966
  POSITIVE_LONGITUDE_DIRECTION = EAST
  REFERENCE_LATITUDE = "N/A"
  REFERENCE_LONGITUDE = "N/A"
  SAMPLE_FIRST_PIXEL = 1
  SAMPLE_LAST_PIXEL = 4393
  SAMPLE_PROJECTION_OFFSET = 1170.25
  SECOND_STANDARD_PARALLEL = "N/A"
  WESTERNMOST_LONGITUDE = 344.586
END_OBJECT = IMAGE_MAP_PROJECTION
/* The JPEG2000 image data file associated with this label. */
OBJECT = COMPRESSED_FILE
  FILE_NAME = "H3297_0000_S13.JP2"
  RECORD_TYPE = UNDEFINED
  FILE_RECORDS = UNK
  ENCODING_TYPE = "JP2"
  INTERCHANGE_FORMAT = BINARY
  UNCOMPRESSED_FILE_NAME = "H3297_0000_S13.IMG"
  REQUIRED_STORAGE_BYTES = "153689105"
  ^DESCRIPTION = "JP2INFO.TXT"
END_OBJECT = COMPRESSED_FILE
END
