PDS_VERSION_ID = PDS3
/* FILE DATA ELEMENTS */
RECORD_TYPE = STREAM
/* POINTERS TO DATA OBJECTS */
^COMPRESSED_FILE = "H3308_0000_S23.JP2"
/* IDENTIFICATION DATA ELEMENTS */
DATA_SET_ID = "MEX-M-HRSC-5-REFDR-MAPPROJECTED-V3.0"
DATA_SET_NAME = "MARS EXPRESS HRSC MAP PROJECTED REFDR V3.0"
DETECTOR_ID = MEX_HRSC_S2
EVENT_TYPE = "MARS-REGIONAL-MAPPING-Fl-La-Ts"
INSTRUMENT_HOST_ID = MEX
INSTRUMENT_HOST_NAME = "MARS EXPRESS"
INSTRUMENT_ID = HRSC
INSTRUMENT_NAME = "HIGH RESOLUTION STEREO CAMERA"
MISSION_NAME = "MARS EXPRESS"
MISSION_PHASE_NAME = ME_Phase_3
PROCESSING_LEVEL_ID = 3
PRODUCT_CREATION_TIME = 2016-04-18T15:52:52.000Z
PRODUCT_ID = "H3308_0000_S23.JP2"
RELEASE_ID = 0041
REVISION_ID = 0000
/* QUALITY DATA ELEMENTS */
DATA_QUALITY_ID = 1
DATA_QUALITY_DESC = "Data calculated based on original SPICE kernels"
/* TIME DATA ELEMENTS */
SPACECRAFT_CLOCK_START_COUNT = "1/0102984325.07302"
SPACECRAFT_CLOCK_STOP_COUNT = "1/0102984623.32138"
START_TIME = 2006-08-06T22:46:40.239Z
STOP_TIME = 2006-08-06T22:50:26.670Z
/* ORBITAL DATA ELEMENTS */
ASCENDING_NODE_LONGITUDE = 158.83
MAXIMUM_RESOLUTION = 34
FOOTPRINT_POINT_LATITUDE = (27.366,27.3629,27.3598,27.3566,27.3973 ,27.0422,26.8046,26.4508,26.2132, 25.9774,25.7432,25.3855,25.1454,24.9063 ,24.5463,24.3027,23.9376,23.6973, 23.3282,23.0771,22.8294,22.5833,22.3377 ,22.0823,21.8278,21.5809,21.3207, 20.9331,20.6869,20.4173,20.1582,19.9011 ,19.6377,19.2427,18.8428,18.5749, 18.1773,17.9078,17.4932,17.2122,16.799, 16.522,16.2516,15.9652,15.5342,15.2489, 14.9622,14.6729,14.5135,14.5125,14.5096 ,14.5083,14.5082,14.6517,14.9418, 15.2278,15.5202,15.9526,16.2372,16.5165 ,16.7959,17.0657,17.3412,17.6166, 17.8868,18.1648,18.576,18.8411,19.1025, 19.3691,19.6335,19.8997,20.16,20.4215, 20.6827,20.9406,21.1968,21.4514,21.8312 ,22.2082,22.5845,22.8324,23.0789, 23.4529,23.8185,24.0626,24.307,24.5513, 24.7923,25.0314,25.2721,25.6323,25.8679 ,26.1045,26.3404,26.6948,26.931,27.174, 27.4058,27.366)
FOOTPRINT_POINT_LONGITUDE = (344.689,344.448,344.207,343.968, 343.427,343.426,343.426,343.425,343.425 ,343.424,343.423,343.421,343.419, 343.418,343.415,343.414,343.41,343.407, 343.403,343.401,343.398,343.395,343.391 ,343.388,343.385,343.38,343.377,343.372 ,343.366,343.363,343.358,343.353, 343.348,343.34,343.332,343.326,343.316, 343.309,343.301,343.295,343.285,343.277 ,343.267,343.26,343.25,343.241,343.233, 343.224,343.545,343.833,344.352,344.699 ,344.95,345.205,345.2,345.195,345.192, 345.188,345.184,345.179,345.174,345.167 ,345.163,345.158,345.153,345.151, 345.148,345.142,345.135,345.132,345.128 ,345.125,345.121,345.118,345.114, 345.111,345.107,345.102,345.096,345.09, 345.083,345.08,345.075,345.07,345.065, 345.061,345.057,345.054,345.051,345.047 ,345.043,345.038,345.034,345.031, 345.028,345.022,345.018,345.017,345.011 ,344.689)
ORBIT_NUMBER = 3308
ORBITAL_ECCENTRICITY = 0.567
ORBITAL_INCLINATION = 86.68
ORBITAL_SEMIMAJOR_AXIS = 8578.18
PERIAPSIS_ALTITUDE = 329.11
PERIAPSIS_ARGUMENT_ANGLE = 136.4
PERIAPSIS_TIME = 2006-08-06T22:41:54.000Z
SPACECRAFT_ORIENTATION = (0.0,-1.0,0.0)
^MEX_ORIENTATION_DESC = "MEX_ORIENTATION_DESC.TXT"
SPACECRAFT_POINTING_MODE = ACROSSTRACK
^MEX_POINTING_DESC = "MEX_POINTING_DESC.TXT"
RIGHT_ASCENSION = -1e+32
DECLINATION = -1e+32
OFFSET_ANGLE = 0.18
SPACECRAFT_SOLAR_DISTANCE = 2.47934e+08
TARGET_NAME = MARS
/* CAMERA DATA ELEMENTS */
DETECTOR_TEMPERATURE = 18.3705
FOCAL_PLANE_TEMPERATURE = 7.9716
INST_CMPRS_NAME = "DISCRETE COSINE TRANSFORMATION (DCT)"
INST_CMPRS_RATIO = 11.9912
INST_CMPRS_QUALITY = 0
INST_CMPRS_QUANTZ_TBL_ID = 0
INSTRUMENT_TEMPERATURE = 11.234
LENS_TEMPERATURE = 7.9716
MACROPIXEL_SIZE = 2
MISSING_FRAMES = 0
PIXEL_SUBSAMPLING_FLAG = N
SIGNAL_CHAIN_ID = 1
/* RADIOMETRIC DATA ELEMENTS */
BANDWIDTH = 178.0
CENTER_FILTER_WAVELENGTH = 679.0
RADIANCE_OFFSET = 3.42775
RADIANCE_SCALING_FACTOR = 0.0284845
REFLECTANCE_SCALING_FACTOR = 0.000927282
MEX:REFLECTANCE_OFFSET = 0.111586
/* IMAGE OBJECT DEFINITIONS */
OBJECT = IMAGE
  INTERCHANGE_FORMAT = BINARY
  LINES = 30579
  LINE_SAMPLES = 4323
  SAMPLE_TYPE = UNSIGNED_INTEGER
  SAMPLE_BITS = 8
  BANDS = 1
  BAND_STORAGE_TYPE = BAND_SEQUENTIAL
  MAXIMUM = 255
  MEAN = 172.122
  MINIMUM = 1
  STANDARD_DEVIATION = 28.5992
END_OBJECT = IMAGE
/* MAP OBJECT DEFINITIONS */
OBJECT = IMAGE_MAP_PROJECTION
  ^DATA_SET_MAP_PROJECTION_CATALOG= "DSMAP.CAT"
  A_AXIS_RADIUS = 3396.0
  B_AXIS_RADIUS = 3396.0
  C_AXIS_RADIUS = 3396.0
  CENTER_LATITUDE = 0.0
  CENTER_LONGITUDE = 344.0
  COORDINATE_SYSTEM_NAME = PLANETOGRAPHIC
  COORDINATE_SYSTEM_TYPE = "BODY-FIXED ROTATING"
  EASTERNMOST_LONGITUDE = 345.205
  FIRST_STANDARD_PARALLEL = "N/A"
  LINE_FIRST_PIXEL = 1
  LINE_LAST_PIXEL = 30579
  LINE_PROJECTION_OFFSET = 64947.25
  MAP_PROJECTION_ROTATION = 0.0
  MAP_PROJECTION_TYPE = SINUSOIDAL
  MAP_RESOLUTION = 2370.85521546667
  MAP_SCALE = 0.025
  MAXIMUM_LATITUDE = 27.4058
  MINIMUM_LATITUDE = 14.5082
  POSITIVE_LONGITUDE_DIRECTION = EAST
  REFERENCE_LATITUDE = "N/A"
  REFERENCE_LONGITUDE = "N/A"
  SAMPLE_FIRST_PIXEL = 1
  SAMPLE_LAST_PIXEL = 4323
  SAMPLE_PROJECTION_OFFSET = 1654.75
  SECOND_STANDARD_PARALLEL = "N/A"
  WESTERNMOST_LONGITUDE = 343.224
END_OBJECT = IMAGE_MAP_PROJECTION
/* The JPEG2000 image data file associated with this label. */
OBJECT = COMPRESSED_FILE
  FILE_NAME = "H3308_0000_S23.JP2"
  RECORD_TYPE = UNDEFINED
  FILE_RECORDS = UNK
  ENCODING_TYPE = "JP2"
  INTERCHANGE_FORMAT = BINARY
  UNCOMPRESSED_FILE_NAME = "H3308_0000_S23.IMG"
  REQUIRED_STORAGE_BYTES = "132218955"
  ^DESCRIPTION = "JP2INFO.TXT"
END_OBJECT = COMPRESSED_FILE
END
