PDS_VERSION_ID = PDS3
/* FILE DATA ELEMENTS */
RECORD_TYPE = STREAM
/* POINTERS TO DATA OBJECTS */
^COMPRESSED_FILE = "H3311_0000_S13.JP2"
/* IDENTIFICATION DATA ELEMENTS */
DATA_SET_ID = "MEX-M-HRSC-5-REFDR-MAPPROJECTED-V3.0"
DATA_SET_NAME = "MARS EXPRESS HRSC MAP PROJECTED REFDR V3.0"
DETECTOR_ID = MEX_HRSC_S1
EVENT_TYPE = "MARS-REGIONAL-MAPPING-Te-Pf-Mw"
INSTRUMENT_HOST_ID = MEX
INSTRUMENT_HOST_NAME = "MARS EXPRESS"
INSTRUMENT_ID = HRSC
INSTRUMENT_NAME = "HIGH RESOLUTION STEREO CAMERA"
MISSION_NAME = "MARS EXPRESS"
MISSION_PHASE_NAME = ME_Phase_3
PROCESSING_LEVEL_ID = 3
PRODUCT_CREATION_TIME = 2016-04-18T15:52:52.000Z
PRODUCT_ID = "H3311_0000_S13.JP2"
RELEASE_ID = 0041
REVISION_ID = 0000
/* QUALITY DATA ELEMENTS */
DATA_QUALITY_ID = 1
DATA_QUALITY_DESC = "Data calculated based on original SPICE kernels"
/* TIME DATA ELEMENTS */
SPACECRAFT_CLOCK_START_COUNT = "1/0103056572.08278"
SPACECRAFT_CLOCK_STOP_COUNT = "1/0103056834.08034"
START_TIME = 2006-08-07T18:49:37.273Z
STOP_TIME = 2006-08-07T18:52:56.520Z
/* ORBITAL DATA ELEMENTS */
ASCENDING_NODE_LONGITUDE = 158.76
MAXIMUM_RESOLUTION = 27.8
FOOTPRINT_POINT_LATITUDE = (50.2408,50.2279,50.2143,50.1996, 50.1841,50.1675,50.1421,49.9253,49.5497 ,49.2992,49.0493,48.7971,48.4195, 48.1669,47.7878,47.5353,47.2823,46.9034 ,46.6496,46.2688,46.0157,45.7622, 45.3858,44.9976,44.6155,44.2385,43.9834 ,43.6742,43.4153,43.1666,42.9094,42.646 ,42.3951,42.1352,41.8741,41.6188, 41.3535,41.0956,40.8355,40.5801,40.1974 ,39.8086,39.4252,39.1658,38.9075, 38.6486,38.3877,38.0003,37.6103,37.3506 ,37.2106,37.2221,37.2316,37.2409, 37.2568,37.5185,37.7784,38.0386,38.2988 ,38.6884,38.9494,39.2087,39.464,39.7278 ,39.9862,40.3715,40.6319,40.8933, 41.1466,41.4073,41.7855,42.0438,42.431, 42.6908,42.9466,43.3367,43.594,43.8474, 44.1563,44.4141,44.6707,45.0538,45.3106 ,45.5652,45.823,46.0786,46.332,46.7129, 46.9675,47.2217,47.6029,47.9833,48.2368 ,48.4901,48.7436,48.9958,49.2499, 49.5007,49.8767,50.2408)
FOOTPRINT_POINT_LONGITUDE = (48.6247,48.3449,48.064,47.7818,47.4988 ,47.2146,46.8037,46.7561,46.8007, 46.8301,46.8594,46.8869,46.9282,46.9547 ,46.9937,47.0195,47.0447,47.0822, 47.1062,47.1414,47.1651,47.1882,47.2247 ,47.2533,47.2851,47.3193,47.3396, 47.3619,47.3793,47.4025,47.4204,47.4343 ,47.4554,47.471,47.4856,47.5033,47.515, 47.5308,47.545,47.5617,47.5866,47.6075, 47.6309,47.6441,47.6576,47.6706,47.6822 ,47.7014,47.7187,47.7301,48.0658, 48.3217,48.5481,48.7738,49.1992,49.1912 ,49.1834,49.1755,49.1674,49.1552, 49.1467,49.1383,49.1306,49.1211,49.1125 ,49.0998,49.0905,49.0808,49.0725, 49.0626,49.05,49.0402,49.0253,49.0148, 49.0049,48.9885,48.9779,48.9678,48.9547 ,48.9434,48.9321,48.9152,48.9034, 48.8919,48.8794,48.8672,48.8553,48.8369 ,48.8241,48.8113,48.7915,48.7715, 48.7578,48.7439,48.7298,48.7156,48.7008 ,48.6865,48.6646,48.6247)
ORBIT_NUMBER = 3311
ORBITAL_ECCENTRICITY = 0.567
ORBITAL_INCLINATION = 86.68
ORBITAL_SEMIMAJOR_AXIS = 8583.67
PERIAPSIS_ALTITUDE = 329.11
PERIAPSIS_ARGUMENT_ANGLE = 135.9
PERIAPSIS_TIME = 2006-08-07T18:51:42.000Z
SPACECRAFT_ORIENTATION = (0.0,-1.0,0.0)
^MEX_ORIENTATION_DESC = "MEX_ORIENTATION_DESC.TXT"
SPACECRAFT_POINTING_MODE = ACROSSTRACK
^MEX_POINTING_DESC = "MEX_POINTING_DESC.TXT"
RIGHT_ASCENSION = -1e+32
DECLINATION = -1e+32
OFFSET_ANGLE = -0.35
SPACECRAFT_SOLAR_DISTANCE = 2.47882e+08
TARGET_NAME = MARS
/* CAMERA DATA ELEMENTS */
DETECTOR_TEMPERATURE = 17.5549
FOCAL_PLANE_TEMPERATURE = 7.7677
INST_CMPRS_NAME = "DISCRETE COSINE TRANSFORMATION (DCT)"
INST_CMPRS_RATIO = 8.46788
INST_CMPRS_QUALITY = 0
INST_CMPRS_QUANTZ_TBL_ID = 0
INSTRUMENT_TEMPERATURE = 12.4574
LENS_TEMPERATURE = 7.9716
MACROPIXEL_SIZE = 2
MISSING_FRAMES = 18
PIXEL_SUBSAMPLING_FLAG = N
SIGNAL_CHAIN_ID = 1
/* RADIOMETRIC DATA ELEMENTS */
BANDWIDTH = 180.0
CENTER_FILTER_WAVELENGTH = 677.0
RADIANCE_OFFSET = 4.69281
RADIANCE_SCALING_FACTOR = 0.0271369
REFLECTANCE_SCALING_FACTOR = 0.000869949
MEX:REFLECTANCE_OFFSET = 0.150441
/* IMAGE OBJECT DEFINITIONS */
OBJECT = IMAGE
  INTERCHANGE_FORMAT = BINARY
  LINES = 30711
  LINE_SAMPLES = 4215
  SAMPLE_TYPE = UNSIGNED_INTEGER
  SAMPLE_BITS = 8
  BANDS = 1
  BAND_STORAGE_TYPE = BAND_SEQUENTIAL
  MAXIMUM = 255
  MEAN = 158.456
  MINIMUM = 1
  STANDARD_DEVIATION = 32.51
END_OBJECT = IMAGE
/* MAP OBJECT DEFINITIONS */
OBJECT = IMAGE_MAP_PROJECTION
  ^DATA_SET_MAP_PROJECTION_CATALOG= "DSMAP.CAT"
  A_AXIS_RADIUS = 3396.0
  B_AXIS_RADIUS = 3396.0
  C_AXIS_RADIUS = 3396.0
  CENTER_LATITUDE = 0.0
  CENTER_LONGITUDE = 48.0
  COORDINATE_SYSTEM_NAME = PLANETOGRAPHIC
  COORDINATE_SYSTEM_TYPE = "BODY-FIXED ROTATING"
  EASTERNMOST_LONGITUDE = 49.1992
  FIRST_STANDARD_PARALLEL = "N/A"
  LINE_FIRST_PIXEL = 1
  LINE_LAST_PIXEL = 30711
  LINE_PROJECTION_OFFSET = 118909.75
  MAP_PROJECTION_ROTATION = 0.0
  MAP_PROJECTION_TYPE = SINUSOIDAL
  MAP_RESOLUTION = 2370.85521546667
  MAP_SCALE = 0.025
  MAXIMUM_LATITUDE = 50.2408
  MINIMUM_LATITUDE = 37.2106
  POSITIVE_LONGITUDE_DIRECTION = EAST
  REFERENCE_LATITUDE = "N/A"
  REFERENCE_LONGITUDE = "N/A"
  SAMPLE_FIRST_PIXEL = 1
  SAMPLE_LAST_PIXEL = 4215
  SAMPLE_PROJECTION_OFFSET = 1930.75
  SECOND_STANDARD_PARALLEL = "N/A"
  WESTERNMOST_LONGITUDE = 46.7561
END_OBJECT = IMAGE_MAP_PROJECTION
/* The JPEG2000 image data file associated with this label. */
OBJECT = COMPRESSED_FILE
  FILE_NAME = "H3311_0000_S13.JP2"
  RECORD_TYPE = UNDEFINED
  FILE_RECORDS = UNK
  ENCODING_TYPE = "JP2"
  INTERCHANGE_FORMAT = BINARY
  UNCOMPRESSED_FILE_NAME = "H3311_0000_S13.IMG"
  REQUIRED_STORAGE_BYTES = "129472155"
  ^DESCRIPTION = "JP2INFO.TXT"
END_OBJECT = COMPRESSED_FILE
END
