PDS_VERSION_ID = PDS3
/* FILE DATA ELEMENTS */
RECORD_TYPE = STREAM
/* POINTERS TO DATA OBJECTS */
^COMPRESSED_FILE = "H3312_0000_S13.JP2"
/* IDENTIFICATION DATA ELEMENTS */
DATA_SET_ID = "MEX-M-HRSC-5-REFDR-MAPPROJECTED-V3.0"
DATA_SET_NAME = "MARS EXPRESS HRSC MAP PROJECTED REFDR V3.0"
DETECTOR_ID = MEX_HRSC_S1
EVENT_TYPE = "MARS-REGIONAL-MAPPING-Gl-Eo-La"
INSTRUMENT_HOST_ID = MEX
INSTRUMENT_HOST_NAME = "MARS EXPRESS"
INSTRUMENT_ID = HRSC
INSTRUMENT_NAME = "HIGH RESOLUTION STEREO CAMERA"
MISSION_NAME = "MARS EXPRESS"
MISSION_PHASE_NAME = ME_Phase_3
PROCESSING_LEVEL_ID = 3
PRODUCT_CREATION_TIME = 2016-04-18T15:52:52.000Z
PRODUCT_ID = "H3312_0000_S13.JP2"
RELEASE_ID = 0041
REVISION_ID = 0000
/* QUALITY DATA ELEMENTS */
DATA_QUALITY_ID = 1
DATA_QUALITY_DESC = "Data calculated based on original SPICE kernels"
/* TIME DATA ELEMENTS */
SPACECRAFT_CLOCK_START_COUNT = "1/0103080085.07278"
SPACECRAFT_CLOCK_STOP_COUNT = "1/0103080402.39094"
START_TIME = 2006-08-08T01:21:30.306Z
STOP_TIME = 2006-08-08T01:24:42.139Z
/* ORBITAL DATA ELEMENTS */
ASCENDING_NODE_LONGITUDE = 158.74
MAXIMUM_RESOLUTION = 56.2
FOOTPRINT_POINT_LATITUDE = (87.4753,87.3355,87.1967,87.0464, 86.8862,86.7176,86.5419,86.3604,86.174, 85.9832,85.7884,85.5655,85.3643,85.1322 ,84.9781,84.7592,84.5154,84.3578, 84.1365,83.9017,83.5891,83.3966,83.1293 ,82.9221,82.6398,82.4943,82.343,82.0514 ,81.9002,81.7465,81.5914,81.356,81.1192 ,80.8794,80.6368,80.4735,80.2249, 80.0581,79.8904,79.7217,79.552,79.3814, 79.2097,79.0365,78.863,78.6909,78.5179, 78.346,78.174,78.1215,78.1793,78.2281, 78.3018,78.3436,78.3872,78.4232,78.4752 ,78.5132,78.6479,78.8322,79.0164, 79.2038,79.4837,79.6718,79.859,80.046, 80.2326,80.4186,80.6039,80.7887,80.9731 ,81.1568,81.34,81.5228,81.705,81.8866, 82.0675,82.2479,82.4293,82.61,82.7893, 82.9675,83.1459,83.4129,83.5889,83.854, 84.0274,84.2017,84.3755,84.548,84.8055, 84.9774,85.3172,85.7361,85.9861,86.3965 ,86.7195,86.9577,87.1916,87.4753)
FOOTPRINT_POINT_LONGITUDE = (285.87,280.983,277.087,273.585,270.444 ,267.626,265.099,262.83,260.788,258.944 ,257.275,255.579,254.214,254.838, 258.254,262.255,265.933,267.993,270.566 ,272.964,275.736,277.263,279.181, 280.531,282.214,283.014,283.796,285.232 ,285.92,286.586,287.228,288.151,289.022 ,289.851,290.638,291.141,291.868, 292.333,292.783,293.219,293.641,294.049 ,294.446,294.831,295.204,295.56,295.907 ,296.24,296.562,297.811,298.753,299.599 ,300.99,301.857,302.843,303.727,305.18, 306.424,308.02,307.93,307.835,307.733, 307.576,307.467,307.355,307.239,307.117 ,306.992,306.862,306.728,306.588, 306.443,306.292,306.135,305.971,305.8, 305.623,305.438,305.236,305.025,304.809 ,304.586,304.347,303.962,303.696, 303.255,302.959,302.634,302.289,301.927 ,301.342,300.909,299.97,298.608,297.642 ,295.763,293.934,292.322,290.458, 285.87)
ORBIT_NUMBER = 3312
ORBITAL_ECCENTRICITY = 0.567
ORBITAL_INCLINATION = 86.68
ORBITAL_SEMIMAJOR_AXIS = 8577.3
PERIAPSIS_ALTITUDE = 329.49
PERIAPSIS_ARGUMENT_ANGLE = 135.73
PERIAPSIS_TIME = 2006-08-08T01:34:59.000Z
SPACECRAFT_ORIENTATION = (0.0,-1.0,0.0)
^MEX_ORIENTATION_DESC = "MEX_ORIENTATION_DESC.TXT"
SPACECRAFT_POINTING_MODE = ACROSSTRACK
^MEX_POINTING_DESC = "MEX_POINTING_DESC.TXT"
RIGHT_ASCENSION = -1e+32
DECLINATION = -1e+32
OFFSET_ANGLE = 0.5
SPACECRAFT_SOLAR_DISTANCE = 2.47865e+08
TARGET_NAME = MARS
/* CAMERA DATA ELEMENTS */
DETECTOR_TEMPERATURE = 17.351
FOCAL_PLANE_TEMPERATURE = 7.9716
INST_CMPRS_NAME = "DISCRETE COSINE TRANSFORMATION (DCT)"
INST_CMPRS_RATIO = 11.8406
INST_CMPRS_QUALITY = 0
INST_CMPRS_QUANTZ_TBL_ID = 0
INSTRUMENT_TEMPERATURE = 11.234
LENS_TEMPERATURE = 6.9521
MACROPIXEL_SIZE = 2
MISSING_FRAMES = 0
PIXEL_SUBSAMPLING_FLAG = N
SIGNAL_CHAIN_ID = 1
/* RADIOMETRIC DATA ELEMENTS */
BANDWIDTH = 180.0
CENTER_FILTER_WAVELENGTH = 677.0
RADIANCE_OFFSET = 3.95958
RADIANCE_SCALING_FACTOR = 0.0268655
REFLECTANCE_SCALING_FACTOR = 0.00086113
MEX:REFLECTANCE_OFFSET = 0.126918
/* IMAGE OBJECT DEFINITIONS */
OBJECT = IMAGE
  INTERCHANGE_FORMAT = BINARY
  LINES = 10817
  LINE_SAMPLES = 6748
  SAMPLE_TYPE = UNSIGNED_INTEGER
  SAMPLE_BITS = 8
  BANDS = 1
  BAND_STORAGE_TYPE = BAND_SEQUENTIAL
  MAXIMUM = 255
  MEAN = 134.018
  MINIMUM = 2
  STANDARD_DEVIATION = 50.8209
END_OBJECT = IMAGE
/* MAP OBJECT DEFINITIONS */
OBJECT = IMAGE_MAP_PROJECTION
  ^DATA_SET_MAP_PROJECTION_CATALOG= "DSMAP.CAT"
  A_AXIS_RADIUS = 3396.0
  B_AXIS_RADIUS = 3396.0
  C_AXIS_RADIUS = 3396.0
  CENTER_LATITUDE = 0.0
  CENTER_LONGITUDE = 294.0
  COORDINATE_SYSTEM_NAME = PLANETOGRAPHIC
  COORDINATE_SYSTEM_TYPE = "BODY-FIXED ROTATING"
  EASTERNMOST_LONGITUDE = 308.02
  FIRST_STANDARD_PARALLEL = "N/A"
  LINE_FIRST_PIXEL = 1
  LINE_LAST_PIXEL = 10817
  LINE_PROJECTION_OFFSET = 103399.25
  MAP_PROJECTION_ROTATION = 0.0
  MAP_PROJECTION_TYPE = SINUSOIDAL
  MAP_RESOLUTION = 1185.42760773333
  MAP_SCALE = 0.05
  MAXIMUM_LATITUDE = 87.4753
  MINIMUM_LATITUDE = 78.1215
  POSITIVE_LONGITUDE_DIRECTION = EAST
  REFERENCE_LATITUDE = "N/A"
  REFERENCE_LONGITUDE = "N/A"
  SAMPLE_FIRST_PIXEL = 1
  SAMPLE_LAST_PIXEL = 6748
  SAMPLE_PROJECTION_OFFSET = 3696.25
  SECOND_STANDARD_PARALLEL = "N/A"
  WESTERNMOST_LONGITUDE = 254.214
END_OBJECT = IMAGE_MAP_PROJECTION
/* The JPEG2000 image data file associated with this label. */
OBJECT = COMPRESSED_FILE
  FILE_NAME = "H3312_0000_S13.JP2"
  RECORD_TYPE = UNDEFINED
  FILE_RECORDS = UNK
  ENCODING_TYPE = "JP2"
  INTERCHANGE_FORMAT = BINARY
  UNCOMPRESSED_FILE_NAME = "H3312_0000_S13.IMG"
  REQUIRED_STORAGE_BYTES = "73026856"
  ^DESCRIPTION = "JP2INFO.TXT"
END_OBJECT = COMPRESSED_FILE
END
