PDS_VERSION_ID = PDS3
/* FILE DATA ELEMENTS */
RECORD_TYPE = STREAM
/* POINTERS TO DATA OBJECTS */
^COMPRESSED_FILE = "H3312_0000_S23.JP2"
/* IDENTIFICATION DATA ELEMENTS */
DATA_SET_ID = "MEX-M-HRSC-5-REFDR-MAPPROJECTED-V3.0"
DATA_SET_NAME = "MARS EXPRESS HRSC MAP PROJECTED REFDR V3.0"
DETECTOR_ID = MEX_HRSC_S2
EVENT_TYPE = "MARS-REGIONAL-MAPPING-Gl-Eo-La"
INSTRUMENT_HOST_ID = MEX
INSTRUMENT_HOST_NAME = "MARS EXPRESS"
INSTRUMENT_ID = HRSC
INSTRUMENT_NAME = "HIGH RESOLUTION STEREO CAMERA"
MISSION_NAME = "MARS EXPRESS"
MISSION_PHASE_NAME = ME_Phase_3
PROCESSING_LEVEL_ID = 3
PRODUCT_CREATION_TIME = 2016-04-18T15:52:52.000Z
PRODUCT_ID = "H3312_0000_S23.JP2"
RELEASE_ID = 0041
REVISION_ID = 0000
/* QUALITY DATA ELEMENTS */
DATA_QUALITY_ID = 1
DATA_QUALITY_DESC = "Data calculated based on original SPICE kernels"
/* TIME DATA ELEMENTS */
SPACECRAFT_CLOCK_START_COUNT = "1/0103080085.07278"
SPACECRAFT_CLOCK_STOP_COUNT = "1/0103080402.39094"
START_TIME = 2006-08-08T01:24:21.856Z
STOP_TIME = 2006-08-08T01:26:45.781Z
/* ORBITAL DATA ELEMENTS */
ASCENDING_NODE_LONGITUDE = 158.74
MAXIMUM_RESOLUTION = 46.9
FOOTPRINT_POINT_LATITUDE = (86.9958,86.8835,86.7652,86.6419, 86.5139,86.3819,86.2464,86.108,85.9667, 85.8228,85.6766,85.5096,85.3619,85.2618 ,85.1562,84.9872,84.8696,84.7471, 84.6217,84.493,84.2931,84.1578,84.0196, 83.8076,83.6652,83.4476,83.3008,83.0786 ,82.9282,82.7785,82.628,82.4782,82.3254 ,82.1724,82.0181,81.7853,81.6301, 81.4729,81.2372,80.9312,80.7743,80.5405 ,80.3849,80.2291,80.0723,79.7624, 79.4501,79.142,78.7549,78.3721,78.1664, 78.2548,78.3316,78.4079,78.4525,78.4986 ,78.5637,78.6035,78.9283,79.2506, 79.5793,79.9906,80.241,80.5751,80.7431, 80.9124,81.0818,81.3356,81.5073,81.6785 ,81.8496,82.0205,82.1937,82.3686, 82.5391,82.7119,82.8859,83.1464,83.4114 ,83.5872,83.7638,84.0308,84.2095, 84.3875,84.5671,84.836,85.0125,85.1923, 85.3729,85.6405,85.8196,85.999,86.1746, 86.3535,86.5291,86.7049,86.8799,87.049, 87.2178,86.9958)
FOOTPRINT_POINT_LONGITUDE = (280.531,277.853,275.37,273.069,270.934 ,268.954,267.117,265.411,263.822, 262.342,260.959,259.51,257.602,259.664, 261.627,264.421,266.157,267.816,269.382 ,270.868,272.969,274.269,275.508, 277.258,278.341,279.876,280.839,282.195 ,283.052,283.86,284.631,285.358,286.068 ,286.746,287.397,288.328,288.913, 289.483,290.292,291.262,291.734,292.403 ,292.828,293.238,293.636,294.383, 295.085,295.734,296.494,297.189,298.214 ,299.618,300.956,302.407,303.327,304.35 ,305.953,307.038,306.825,306.597, 306.353,306.024,305.809,305.506,305.344 ,305.174,304.999,304.722,304.526, 304.319,304.105,303.881,303.643,303.397 ,303.133,302.858,302.564,302.097, 301.591,301.226,300.842,300.22,299.769, 299.289,298.773,297.926,297.309,296.637 ,295.914,294.714,293.817,292.841,291.77 ,290.581,289.272,287.815,286.179, 284.359,282.296,280.531)
ORBIT_NUMBER = 3312
ORBITAL_ECCENTRICITY = 0.567
ORBITAL_INCLINATION = 86.68
ORBITAL_SEMIMAJOR_AXIS = 8577.3
PERIAPSIS_ALTITUDE = 329.49
PERIAPSIS_ARGUMENT_ANGLE = 135.73
PERIAPSIS_TIME = 2006-08-08T01:34:59.000Z
SPACECRAFT_ORIENTATION = (0.0,-1.0,0.0)
^MEX_ORIENTATION_DESC = "MEX_ORIENTATION_DESC.TXT"
SPACECRAFT_POINTING_MODE = ACROSSTRACK
^MEX_POINTING_DESC = "MEX_POINTING_DESC.TXT"
RIGHT_ASCENSION = -1e+32
DECLINATION = -1e+32
OFFSET_ANGLE = 0.5
SPACECRAFT_SOLAR_DISTANCE = 2.47865e+08
TARGET_NAME = MARS
/* CAMERA DATA ELEMENTS */
DETECTOR_TEMPERATURE = 18.7783
FOCAL_PLANE_TEMPERATURE = 7.9716
INST_CMPRS_NAME = "DISCRETE COSINE TRANSFORMATION (DCT)"
INST_CMPRS_RATIO = 13.6394
INST_CMPRS_QUALITY = 0
INST_CMPRS_QUANTZ_TBL_ID = 0
INSTRUMENT_TEMPERATURE = 11.234
LENS_TEMPERATURE = 6.9521
MACROPIXEL_SIZE = 2
MISSING_FRAMES = 0
PIXEL_SUBSAMPLING_FLAG = N
SIGNAL_CHAIN_ID = 1
/* RADIOMETRIC DATA ELEMENTS */
BANDWIDTH = 178.0
CENTER_FILTER_WAVELENGTH = 679.0
RADIANCE_OFFSET = 3.73355
RADIANCE_SCALING_FACTOR = 0.0254071
REFLECTANCE_SCALING_FACTOR = 0.000826639
MEX:REFLECTANCE_OFFSET = 0.121474
/* IMAGE OBJECT DEFINITIONS */
OBJECT = IMAGE
  INTERCHANGE_FORMAT = BINARY
  LINES = 10817
  LINE_SAMPLES = 6748
  SAMPLE_TYPE = UNSIGNED_INTEGER
  SAMPLE_BITS = 8
  BANDS = 1
  BAND_STORAGE_TYPE = BAND_SEQUENTIAL
  MAXIMUM = 255
  MEAN = 128.844
  MINIMUM = 1
  STANDARD_DEVIATION = 55.1197
END_OBJECT = IMAGE
/* MAP OBJECT DEFINITIONS */
OBJECT = IMAGE_MAP_PROJECTION
  ^DATA_SET_MAP_PROJECTION_CATALOG= "DSMAP.CAT"
  A_AXIS_RADIUS = 3396.0
  B_AXIS_RADIUS = 3396.0
  C_AXIS_RADIUS = 3396.0
  CENTER_LATITUDE = 0.0
  CENTER_LONGITUDE = 294.0
  COORDINATE_SYSTEM_NAME = PLANETOGRAPHIC
  COORDINATE_SYSTEM_TYPE = "BODY-FIXED ROTATING"
  EASTERNMOST_LONGITUDE = 307.038
  FIRST_STANDARD_PARALLEL = "N/A"
  LINE_FIRST_PIXEL = 1
  LINE_LAST_PIXEL = 10817
  LINE_PROJECTION_OFFSET = 103399.25
  MAP_PROJECTION_ROTATION = 0.0
  MAP_PROJECTION_TYPE = SINUSOIDAL
  MAP_RESOLUTION = 1185.42760773333
  MAP_SCALE = 0.05
  MAXIMUM_LATITUDE = 87.2178
  MINIMUM_LATITUDE = 78.1664
  POSITIVE_LONGITUDE_DIRECTION = EAST
  REFERENCE_LATITUDE = "N/A"
  REFERENCE_LONGITUDE = "N/A"
  SAMPLE_FIRST_PIXEL = 1
  SAMPLE_LAST_PIXEL = 6748
  SAMPLE_PROJECTION_OFFSET = 3696.25
  SECOND_STANDARD_PARALLEL = "N/A"
  WESTERNMOST_LONGITUDE = 257.602
END_OBJECT = IMAGE_MAP_PROJECTION
/* The JPEG2000 image data file associated with this label. */
OBJECT = COMPRESSED_FILE
  FILE_NAME = "H3312_0000_S23.JP2"
  RECORD_TYPE = UNDEFINED
  FILE_RECORDS = UNK
  ENCODING_TYPE = "JP2"
  INTERCHANGE_FORMAT = BINARY
  UNCOMPRESSED_FILE_NAME = "H3312_0000_S23.IMG"
  REQUIRED_STORAGE_BYTES = "73026856"
  ^DESCRIPTION = "JP2INFO.TXT"
END_OBJECT = COMPRESSED_FILE
END
