PDS_VERSION_ID = PDS3
/* FILE DATA ELEMENTS */
RECORD_TYPE = STREAM
/* POINTERS TO DATA OBJECTS */
^COMPRESSED_FILE = "H3316_0000_BL3.JP2"
/* IDENTIFICATION DATA ELEMENTS */
DATA_SET_ID = "MEX-M-HRSC-5-REFDR-MAPPROJECTED-V3.0"
DATA_SET_NAME = "MARS EXPRESS HRSC MAP PROJECTED REFDR V3.0"
DETECTOR_ID = MEX_HRSC_BLUE
EVENT_TYPE = "MARS-REGIONAL-MAPPING-Vo-Pf-At"
INSTRUMENT_HOST_ID = MEX
INSTRUMENT_HOST_NAME = "MARS EXPRESS"
INSTRUMENT_ID = HRSC
INSTRUMENT_NAME = "HIGH RESOLUTION STEREO CAMERA"
MISSION_NAME = "MARS EXPRESS"
MISSION_PHASE_NAME = ME_Phase_3
PROCESSING_LEVEL_ID = 3
PRODUCT_CREATION_TIME = 2016-04-18T15:52:52.000Z
PRODUCT_ID = "H3316_0000_BL3.JP2"
RELEASE_ID = 0041
REVISION_ID = 0000
/* QUALITY DATA ELEMENTS */
DATA_QUALITY_ID = 1
DATA_QUALITY_DESC = "Data calculated based on original SPICE kernels"
/* TIME DATA ELEMENTS */
SPACECRAFT_CLOCK_START_COUNT = "1/0103177058.09054"
SPACECRAFT_CLOCK_STOP_COUNT = "1/0103177376.09670"
START_TIME = 2006-08-09T04:19:03.332Z
STOP_TIME = 2006-08-09T04:22:26.741Z
/* ORBITAL DATA ELEMENTS */
ASCENDING_NODE_LONGITUDE = 158.66
MAXIMUM_RESOLUTION = 141.4
FOOTPRINT_POINT_LATITUDE = (79.5677,79.4871,79.4306,79.3218, 79.1761,79.0738,78.7345,78.4798,78.2267 ,77.9725,77.7212,77.3426,77.0928, 76.7168,76.4689,76.0958,75.8502,75.6037 ,75.3584,75.115,74.749,74.5085,74.2673, 74.0261,73.7885,73.5502,73.3114,73.0768 ,72.8416,72.4894,72.2578,72.0257, 71.6786,71.4503,71.2215,70.879,70.6542, 70.3161,70.0905,69.8693,69.6478,69.4259 ,69.0947,68.8771,68.659,68.4407,68.2232 ,67.7953,67.2592,67.2158,67.25,67.3012, 67.3385,67.3717,67.8057,68.0235,68.2411 ,68.4586,68.6805,68.9027,69.1246, 69.3462,69.5712,69.7976,70.0237,70.2495 ,70.4782,70.7087,70.9389,71.1688,71.52, 71.7544,71.9884,72.3451,72.5835,72.8214 ,73.0631,73.3055,73.5475,73.9155, 74.1616,74.4073,74.6576,74.9075,75.2843 ,75.5382,75.7917,76.0482,76.3058, 76.6936,76.9548,77.2154,77.4801,77.8766 ,78.1448,78.5466,78.8183,79.0894, 79.3636,79.5677)
FOOTPRINT_POINT_LONGITUDE = (269.925,268.049,266.879,264.864, 262.523,261.056,260.152,260.704,261.225 ,261.724,262.194,262.863,263.28,263.875 ,264.248,264.78,265.113,265.434,265.743 ,266.037,266.46,266.726,266.984,267.233 ,267.471,267.701,267.925,268.137, 268.344,268.642,268.831,269.015,269.28, 269.448,269.612,269.849,270.0,270.219, 270.36,270.496,270.628,270.757,270.944, 271.063,271.18,271.294,271.405,271.616, 271.868,272.52,273.144,274.175,275.025, 275.829,275.74,275.693,275.646,275.599, 275.549,275.497,275.444,275.391,275.335 ,275.277,275.218,275.158,275.096, 275.031,274.964,274.896,274.789,274.715 ,274.639,274.519,274.436,274.35,274.26, 274.168,274.073,273.922,273.817,273.709 ,273.595,273.476,273.291,273.16,273.024 ,272.882,272.733,272.498,272.331, 272.158,271.973,271.682,271.473,271.142 ,270.903,270.653,270.386,269.925)
ORBIT_NUMBER = 3316
ORBITAL_ECCENTRICITY = 0.567
ORBITAL_INCLINATION = 86.66
ORBITAL_SEMIMAJOR_AXIS = 8582.95
PERIAPSIS_ALTITUDE = 329.57
PERIAPSIS_ARGUMENT_ANGLE = 134.99
PERIAPSIS_TIME = 2006-08-09T04:28:09.000Z
SPACECRAFT_ORIENTATION = (0.0,-1.0,0.0)
^MEX_ORIENTATION_DESC = "MEX_ORIENTATION_DESC.TXT"
SPACECRAFT_POINTING_MODE = NADIR
^MEX_POINTING_DESC = "MEX_POINTING_DESC.TXT"
RIGHT_ASCENSION = -1e+32
DECLINATION = -1e+32
OFFSET_ANGLE = -1e+32
SPACECRAFT_SOLAR_DISTANCE = 2.47793e+08
TARGET_NAME = MARS
/* CAMERA DATA ELEMENTS */
DETECTOR_TEMPERATURE = 18.1666
FOCAL_PLANE_TEMPERATURE = 9.195
INST_CMPRS_NAME = "DISCRETE COSINE TRANSFORMATION (DCT)"
INST_CMPRS_RATIO = 35.7022
INST_CMPRS_QUALITY = 0
INST_CMPRS_QUANTZ_TBL_ID = 0
INSTRUMENT_TEMPERATURE = 11.234
LENS_TEMPERATURE = 8.1755
MACROPIXEL_SIZE = 8
MISSING_FRAMES = 0
PIXEL_SUBSAMPLING_FLAG = N
SIGNAL_CHAIN_ID = 2
/* RADIOMETRIC DATA ELEMENTS */
BANDWIDTH = 76.0
CENTER_FILTER_WAVELENGTH = 444.0
RADIANCE_OFFSET = 0.561162
RADIANCE_SCALING_FACTOR = 0.00113088
REFLECTANCE_SCALING_FACTOR = 7.13431e-05
MEX:REFLECTANCE_OFFSET = 0.0354016
/* IMAGE OBJECT DEFINITIONS */
OBJECT = IMAGE
  INTERCHANGE_FORMAT = BINARY
  LINES = 7375
  LINE_SAMPLES = 2414
  SAMPLE_TYPE = UNSIGNED_INTEGER
  SAMPLE_BITS = 8
  BANDS = 1
  BAND_STORAGE_TYPE = BAND_SEQUENTIAL
  MAXIMUM = 255
  MEAN = 147.93
  MINIMUM = 1
  STANDARD_DEVIATION = 36.415
END_OBJECT = IMAGE
/* MAP OBJECT DEFINITIONS */
OBJECT = IMAGE_MAP_PROJECTION
  ^DATA_SET_MAP_PROJECTION_CATALOG= "DSMAP.CAT"
  A_AXIS_RADIUS = 3396.0
  B_AXIS_RADIUS = 3396.0
  C_AXIS_RADIUS = 3396.0
  CENTER_LATITUDE = 0.0
  CENTER_LONGITUDE = 271.0
  COORDINATE_SYSTEM_NAME = PLANETOGRAPHIC
  COORDINATE_SYSTEM_TYPE = "BODY-FIXED ROTATING"
  EASTERNMOST_LONGITUDE = 275.829
  FIRST_STANDARD_PARALLEL = "N/A"
  LINE_FIRST_PIXEL = 1
  LINE_LAST_PIXEL = 7375
  LINE_PROJECTION_OFFSET = 47192.3125
  MAP_PROJECTION_ROTATION = 0.0
  MAP_PROJECTION_TYPE = SINUSOIDAL
  MAP_RESOLUTION = 592.713803866667
  MAP_SCALE = 0.1
  MAXIMUM_LATITUDE = 79.5677
  MINIMUM_LATITUDE = 67.2158
  POSITIVE_LONGITUDE_DIRECTION = EAST
  REFERENCE_LATITUDE = "N/A"
  REFERENCE_LONGITUDE = "N/A"
  SAMPLE_FIRST_PIXEL = 1
  SAMPLE_LAST_PIXEL = 2414
  SAMPLE_PROJECTION_OFFSET = 1319.3125
  SECOND_STANDARD_PARALLEL = "N/A"
  WESTERNMOST_LONGITUDE = 260.152
END_OBJECT = IMAGE_MAP_PROJECTION
/* The JPEG2000 image data file associated with this label. */
OBJECT = COMPRESSED_FILE
  FILE_NAME = "H3316_0000_BL3.JP2"
  RECORD_TYPE = UNDEFINED
  FILE_RECORDS = UNK
  ENCODING_TYPE = "JP2"
  INTERCHANGE_FORMAT = BINARY
  UNCOMPRESSED_FILE_NAME = "H3316_0000_BL3.IMG"
  REQUIRED_STORAGE_BYTES = "17822562"
  ^DESCRIPTION = "JP2INFO.TXT"
END_OBJECT = COMPRESSED_FILE
END
