PDS_VERSION_ID = PDS3
/* FILE DATA ELEMENTS */
RECORD_TYPE = STREAM
/* POINTERS TO DATA OBJECTS */
^COMPRESSED_FILE = "H3333_0000_S13.JP2"
/* IDENTIFICATION DATA ELEMENTS */
DATA_SET_ID = "MEX-M-HRSC-5-REFDR-MAPPROJECTED-V3.0"
DATA_SET_NAME = "MARS EXPRESS HRSC MAP PROJECTED REFDR V3.0"
DETECTOR_ID = MEX_HRSC_S1
EVENT_TYPE = "MARS-REGIONAL-MAPPING-Te-Pf-Mw"
INSTRUMENT_HOST_ID = MEX
INSTRUMENT_HOST_NAME = "MARS EXPRESS"
INSTRUMENT_ID = HRSC
INSTRUMENT_NAME = "HIGH RESOLUTION STEREO CAMERA"
MISSION_NAME = "MARS EXPRESS"
MISSION_PHASE_NAME = ME_Phase_3
PROCESSING_LEVEL_ID = 3
PRODUCT_CREATION_TIME = 2016-04-18T15:52:52.000Z
PRODUCT_ID = "H3333_0000_S13.JP2"
RELEASE_ID = 0041
REVISION_ID = 0000
/* QUALITY DATA ELEMENTS */
DATA_QUALITY_ID = 2
DATA_QUALITY_DESC = "Data calculated based on photogrammetrically improved orbit and attitude data"
/* TIME DATA ELEMENTS */
SPACECRAFT_CLOCK_START_COUNT = "1/0103588989.07282"
SPACECRAFT_CLOCK_STOP_COUNT = "1/0103589217.39369"
START_TIME = 2006-08-13T22:43:14.237Z
STOP_TIME = 2006-08-13T22:45:57.351Z
/* ORBITAL DATA ELEMENTS */
ASCENDING_NODE_LONGITUDE = 158.3
MAXIMUM_RESOLUTION = 28.1
FOOTPRINT_POINT_LATITUDE = (48.6278,48.6159,48.6032,48.5896, 48.5752,48.5599,48.5365,48.3482,48.1373 ,47.8271,47.6126,47.4034,47.1967, 46.9848,46.671,46.4617,46.2511,45.9365, 45.7252,45.4106,45.0968,44.7813,44.4612 ,44.2604,44.0391,43.7273,43.5216, 43.3083,43.0974,42.8818,42.6652,42.4444 ,42.2301,42.018,41.8062,41.4869,41.2741 ,41.0624,40.853,40.545,40.3324,40.1182, 39.7988,39.5861,39.2566,39.0369,38.7069 ,38.3878,38.0604,37.8395,37.8318, 37.8417,37.8545,37.8629,37.8764,37.8856 ,38.1065,38.3277,38.6581,38.8785, 39.0997,39.3189,39.53,39.8472,40.0642, 40.2849,40.4937,40.7035,40.9156,41.2339 ,41.4463,41.6632,41.8772,42.0898, 42.3037,42.6241,42.8403,43.1605,43.3739 ,43.5789,43.7916,44.0041,44.3213, 44.6336,44.8426,45.0546,45.2645,45.4756 ,45.7918,46.1104,46.3244,46.5293, 46.7401,47.0548,47.2646,47.4749,47.7898 ,47.9998,48.3145,48.6278)
FOOTPRINT_POINT_LONGITUDE = (46.069,45.8071,45.5442,45.28,45.015, 44.7488,44.3637,44.3175,44.3374,44.3707 ,44.3878,44.408,44.4296,44.4476,44.4767 ,44.4959,44.5139,44.5414,44.5585, 44.5852,44.6119,44.637,44.659,44.6809, 44.6904,44.7162,44.7344,44.748,44.7627, 44.7745,44.7855,44.7939,44.806,44.819, 44.8322,44.8505,44.8626,44.8751,44.8887 ,44.9123,44.9236,44.9339,44.95,44.9606, 44.9762,44.9868,45.002,45.0229,45.0388, 45.0476,45.3164,45.5094,45.7896,46.0099 ,46.3461,46.5693,46.5619,46.5543,46.543 ,46.5353,46.5274,46.5198,46.5135, 46.5028,46.4941,46.4846,46.4773,46.4697 ,46.4616,46.4492,46.4407,46.4313, 46.4223,46.4134,46.4042,46.3903,46.3803 ,46.3659,46.3562,46.3481,46.3382, 46.3283,46.3135,46.2994,46.2897,46.2792 ,46.269,46.2585,46.2424,46.2255,46.2137 ,46.2038,46.1923,46.1752,46.1636, 46.1518,46.1338,46.1216,46.103,46.069)
ORBIT_NUMBER = 3333
ORBITAL_ECCENTRICITY = 0.567
ORBITAL_INCLINATION = 86.67
ORBITAL_SEMIMAJOR_AXIS = 8577.24
PERIAPSIS_ALTITUDE = 331.61
PERIAPSIS_ARGUMENT_ANGLE = 131.99
PERIAPSIS_TIME = 2006-08-13T22:43:53.000Z
SPACECRAFT_ORIENTATION = (0.0,-1.0,0.0)
^MEX_ORIENTATION_DESC = "MEX_ORIENTATION_DESC.TXT"
SPACECRAFT_POINTING_MODE = ACROSSTRACK
^MEX_POINTING_DESC = "MEX_POINTING_DESC.TXT"
RIGHT_ASCENSION = -1e+32
DECLINATION = -1e+32
OFFSET_ANGLE = -0.35
SPACECRAFT_SOLAR_DISTANCE = 2.47468e+08
TARGET_NAME = MARS
/* CAMERA DATA ELEMENTS */
DETECTOR_TEMPERATURE = 17.1471
FOCAL_PLANE_TEMPERATURE = 7.5638
INST_CMPRS_NAME = "DISCRETE COSINE TRANSFORMATION (DCT)"
INST_CMPRS_RATIO = 10.6171
INST_CMPRS_QUALITY = 0
INST_CMPRS_QUANTZ_TBL_ID = 0
INSTRUMENT_TEMPERATURE = 11.234
LENS_TEMPERATURE = 7.9716
MACROPIXEL_SIZE = 2
MISSING_FRAMES = 0
PIXEL_SUBSAMPLING_FLAG = N
SIGNAL_CHAIN_ID = 1
/* RADIOMETRIC DATA ELEMENTS */
BANDWIDTH = 180.0
CENTER_FILTER_WAVELENGTH = 677.0
RADIANCE_OFFSET = 3.40334
RADIANCE_SCALING_FACTOR = 0.0355904
REFLECTANCE_SCALING_FACTOR = 0.00113714
MEX:REFLECTANCE_OFFSET = 0.108739
/* IMAGE OBJECT DEFINITIONS */
OBJECT = IMAGE
  INTERCHANGE_FORMAT = BINARY
  LINES = 25386
  LINE_SAMPLES = 3771
  SAMPLE_TYPE = UNSIGNED_INTEGER
  SAMPLE_BITS = 8
  BANDS = 1
  BAND_STORAGE_TYPE = BAND_SEQUENTIAL
  MAXIMUM = 255
  MEAN = 161.106
  MINIMUM = 1
  STANDARD_DEVIATION = 25.8694
END_OBJECT = IMAGE
/* MAP OBJECT DEFINITIONS */
OBJECT = IMAGE_MAP_PROJECTION
  ^DATA_SET_MAP_PROJECTION_CATALOG= "DSMAP.CAT"
  A_AXIS_RADIUS = 3396.0
  B_AXIS_RADIUS = 3396.0
  C_AXIS_RADIUS = 3396.0
  CENTER_LATITUDE = 0.0
  CENTER_LONGITUDE = 46.0
  COORDINATE_SYSTEM_NAME = PLANETOGRAPHIC
  COORDINATE_SYSTEM_TYPE = "BODY-FIXED ROTATING"
  EASTERNMOST_LONGITUDE = 46.5693
  FIRST_STANDARD_PARALLEL = "N/A"
  LINE_FIRST_PIXEL = 1
  LINE_LAST_PIXEL = 25386
  LINE_PROJECTION_OFFSET = 115069.25
  MAP_PROJECTION_ROTATION = 0.0
  MAP_PROJECTION_TYPE = SINUSOIDAL
  MAP_RESOLUTION = 2370.85521546667
  MAP_SCALE = 0.025
  MAXIMUM_LATITUDE = 48.6278
  MINIMUM_LATITUDE = 37.8318
  POSITIVE_LONGITUDE_DIRECTION = EAST
  REFERENCE_LATITUDE = "N/A"
  REFERENCE_LONGITUDE = "N/A"
  SAMPLE_FIRST_PIXEL = 1
  SAMPLE_LAST_PIXEL = 3771
  SAMPLE_PROJECTION_OFFSET = 2660.25
  SECOND_STANDARD_PARALLEL = "N/A"
  WESTERNMOST_LONGITUDE = 44.3175
END_OBJECT = IMAGE_MAP_PROJECTION
/* The JPEG2000 image data file associated with this label. */
OBJECT = COMPRESSED_FILE
  FILE_NAME = "H3333_0000_S13.JP2"
  RECORD_TYPE = UNDEFINED
  FILE_RECORDS = UNK
  ENCODING_TYPE = "JP2"
  INTERCHANGE_FORMAT = BINARY
  UNCOMPRESSED_FILE_NAME = "H3333_0000_S13.IMG"
  REQUIRED_STORAGE_BYTES = "95753232"
  ^DESCRIPTION = "JP2INFO.TXT"
END_OBJECT = COMPRESSED_FILE
END
