PDS_VERSION_ID = PDS3
/* FILE DATA ELEMENTS */
RECORD_TYPE = STREAM
/* POINTERS TO DATA OBJECTS */
^COMPRESSED_FILE = "H3344_0000_ND3.JP2"
/* IDENTIFICATION DATA ELEMENTS */
DATA_SET_ID = "MEX-M-HRSC-5-REFDR-MAPPROJECTED-V3.0"
DATA_SET_NAME = "MARS EXPRESS HRSC MAP PROJECTED REFDR V3.0"
DETECTOR_ID = MEX_HRSC_NADIR
EVENT_TYPE = "MARS-REGIONAL-MAPPING-Te-Pf-Mw"
INSTRUMENT_HOST_ID = MEX
INSTRUMENT_HOST_NAME = "MARS EXPRESS"
INSTRUMENT_ID = HRSC
INSTRUMENT_NAME = "HIGH RESOLUTION STEREO CAMERA"
MISSION_NAME = "MARS EXPRESS"
MISSION_PHASE_NAME = ME_Phase_3
PROCESSING_LEVEL_ID = 3
PRODUCT_CREATION_TIME = 2016-04-18T15:52:52.000Z
PRODUCT_ID = "H3344_0000_ND3.JP2"
RELEASE_ID = 0041
REVISION_ID = 0000
/* QUALITY DATA ELEMENTS */
DATA_QUALITY_ID = 1
DATA_QUALITY_DESC = "Data calculated based on original SPICE kernels"
/* TIME DATA ELEMENTS */
SPACECRAFT_CLOCK_START_COUNT = "1/0103855201.07304"
SPACECRAFT_CLOCK_STOP_COUNT = "1/0103855431.55237"
START_TIME = 2006-08-17T00:40:36.081Z
STOP_TIME = 2006-08-17T00:42:56.643Z
/* ORBITAL DATA ELEMENTS */
ASCENDING_NODE_LONGITUDE = 158.07
MAXIMUM_RESOLUTION = 13.3
FOOTPRINT_POINT_LATITUDE = (48.4642,48.4473,48.4257,48.4107, 48.2313,48.0518,47.7827,47.6033,47.4239 ,47.2445,47.0651,46.8858,46.6167, 46.4373,46.258,46.0787,45.8994,45.7202, 45.5409,45.3617,45.0929,44.9138,44.7346 ,44.3764,44.0184,43.7418,43.5569, 43.3721,43.1873,43.0026,42.8179,42.6332 ,42.4486,42.264,42.0794,41.895,41.7106, 41.5263,41.342,41.1578,40.8816,40.6975, 40.5135,40.3296,40.1458,39.8701,39.6864 ,39.5028,39.3192,39.3094,39.3227, 39.3314,39.3362,39.6144,39.8905,40.0747 ,40.2589,40.4431,40.6275,40.812,40.9967 ,41.1813,41.3659,41.5506,41.7353, 41.9202,42.105,42.29,42.5673,42.8449, 43.0298,43.2151,43.4929,43.6783,43.8637 ,44.1388,44.3183,44.4977,44.6772, 44.8569,45.0365,45.2162,45.3959,45.5756 ,45.7554,45.9351,46.1149,46.2947, 46.4746,46.6544,46.9243,47.1042,47.2841 ,47.4641,47.644,47.824,48.004,48.184, 48.364,48.4642)
FOOTPRINT_POINT_LONGITUDE = (44.5197,43.9866,43.3993,43.0111, 43.0289,43.0463,43.0726,43.0901,43.1052 ,43.1209,43.1357,43.1559,43.1744, 43.1895,43.2036,43.2183,43.2331,43.2476 ,43.2611,43.2747,43.2969,43.3126, 43.3229,43.3461,43.3708,43.3892,43.4019 ,43.4141,43.4259,43.438,43.4496,43.4604 ,43.4709,43.4788,43.4858,43.4964, 43.5061,43.5164,43.5268,43.5371,43.5568 ,43.5654,43.5746,43.5856,43.5968, 43.6126,43.6215,43.6299,43.6371,43.9546 ,44.4759,44.8679,45.1186,45.225,45.2147 ,45.2076,45.1998,45.1917,45.1847, 45.1774,45.1717,45.1644,45.1568,45.1487 ,45.1406,45.1327,45.1244,45.1162, 45.1021,45.0882,45.0779,45.0697,45.0563 ,45.0483,45.0401,45.0278,45.0185, 45.0092,44.9985,44.9908,44.982,44.9729, 44.9632,44.9543,44.9444,44.9346,44.9245 ,44.9146,44.9045,44.8947,44.879,44.8688 ,44.858,44.8475,44.8369,44.8259,44.8148 ,44.8037,44.7924,44.5197)
ORBIT_NUMBER = 3344
ORBITAL_ECCENTRICITY = 0.566
ORBITAL_INCLINATION = 86.67
ORBITAL_SEMIMAJOR_AXIS = 8574.06
PERIAPSIS_ALTITUDE = 332.87
PERIAPSIS_ARGUMENT_ANGLE = 130.03
PERIAPSIS_TIME = 2006-08-17T00:40:14.000Z
SPACECRAFT_ORIENTATION = (0.0,-1.0,0.0)
^MEX_ORIENTATION_DESC = "MEX_ORIENTATION_DESC.TXT"
SPACECRAFT_POINTING_MODE = ACROSSTRACK
^MEX_POINTING_DESC = "MEX_POINTING_DESC.TXT"
RIGHT_ASCENSION = -1e+32
DECLINATION = -1e+32
OFFSET_ANGLE = -0.3
SPACECRAFT_SOLAR_DISTANCE = 2.47241e+08
TARGET_NAME = MARS
/* CAMERA DATA ELEMENTS */
DETECTOR_TEMPERATURE = 18.3705
FOCAL_PLANE_TEMPERATURE = 8.1755
INST_CMPRS_NAME = "DISCRETE COSINE TRANSFORMATION (DCT)"
INST_CMPRS_RATIO = 7.08275
INST_CMPRS_QUALITY = 0
INST_CMPRS_QUANTZ_TBL_ID = 0
INSTRUMENT_TEMPERATURE = 11.234
LENS_TEMPERATURE = 8.3794
MACROPIXEL_SIZE = 1
MISSING_FRAMES = 0
PIXEL_SUBSAMPLING_FLAG = N
SIGNAL_CHAIN_ID = 0
/* RADIOMETRIC DATA ELEMENTS */
BANDWIDTH = 177.0
CENTER_FILTER_WAVELENGTH = 677.5
RADIANCE_OFFSET = 2.62946
RADIANCE_SCALING_FACTOR = 0.0329178
REFLECTANCE_SCALING_FACTOR = 0.00106895
MEX:REFLECTANCE_OFFSET = 0.0853871
/* IMAGE OBJECT DEFINITIONS */
OBJECT = IMAGE
  INTERCHANGE_FORMAT = BINARY
  LINES = 43498
  LINE_SAMPLES = 7667
  SAMPLE_TYPE = UNSIGNED_INTEGER
  SAMPLE_BITS = 8
  BANDS = 1
  BAND_STORAGE_TYPE = BAND_SEQUENTIAL
  MAXIMUM = 255
  MEAN = 164.453
  MINIMUM = 1
  STANDARD_DEVIATION = 44.4335
END_OBJECT = IMAGE
/* MAP OBJECT DEFINITIONS */
OBJECT = IMAGE_MAP_PROJECTION
  ^DATA_SET_MAP_PROJECTION_CATALOG= "DSMAP.CAT"
  A_AXIS_RADIUS = 3396.0
  B_AXIS_RADIUS = 3396.0
  C_AXIS_RADIUS = 3396.0
  CENTER_LATITUDE = 0.0
  CENTER_LONGITUDE = 44.0
  COORDINATE_SYSTEM_NAME = PLANETOGRAPHIC
  COORDINATE_SYSTEM_TYPE = "BODY-FIXED ROTATING"
  EASTERNMOST_LONGITUDE = 45.225
  FIRST_STANDARD_PARALLEL = "N/A"
  LINE_FIRST_PIXEL = 1
  LINE_LAST_PIXEL = 43498
  LINE_PROJECTION_OFFSET = 229848.0
  MAP_PROJECTION_ROTATION = 0.0
  MAP_PROJECTION_TYPE = SINUSOIDAL
  MAP_RESOLUTION = 4741.71043093333
  MAP_SCALE = 0.0125
  MAXIMUM_LATITUDE = 48.4642
  MINIMUM_LATITUDE = 39.3094
  POSITIVE_LONGITUDE_DIRECTION = EAST
  REFERENCE_LATITUDE = "N/A"
  REFERENCE_LONGITUDE = "N/A"
  SAMPLE_FIRST_PIXEL = 1
  SAMPLE_LAST_PIXEL = 7667
  SAMPLE_PROJECTION_OFFSET = 3106.0
  SECOND_STANDARD_PARALLEL = "N/A"
  WESTERNMOST_LONGITUDE = 43.0111
END_OBJECT = IMAGE_MAP_PROJECTION
/* The JPEG2000 image data file associated with this label. */
OBJECT = COMPRESSED_FILE
  FILE_NAME = "H3344_0000_ND3.JP2"
  RECORD_TYPE = UNDEFINED
  FILE_RECORDS = UNK
  ENCODING_TYPE = "JP2"
  INTERCHANGE_FORMAT = BINARY
  UNCOMPRESSED_FILE_NAME = "H3344_0000_ND3.IMG"
  REQUIRED_STORAGE_BYTES = "333529834"
  ^DESCRIPTION = "JP2INFO.TXT"
END_OBJECT = COMPRESSED_FILE
END
