PDS_VERSION_ID = PDS3
/* FILE DATA ELEMENTS */
RECORD_TYPE = STREAM
/* POINTERS TO DATA OBJECTS */
^COMPRESSED_FILE = "H3349_0000_GR3.JP2"
/* IDENTIFICATION DATA ELEMENTS */
DATA_SET_ID = "MEX-M-HRSC-5-REFDR-MAPPROJECTED-V3.0"
DATA_SET_NAME = "MARS EXPRESS HRSC MAP PROJECTED REFDR V3.0"
DETECTOR_ID = MEX_HRSC_GREEN
EVENT_TYPE = "MARS-REGIONAL-MAPPING-Vo-Te-At"
INSTRUMENT_HOST_ID = MEX
INSTRUMENT_HOST_NAME = "MARS EXPRESS"
INSTRUMENT_ID = HRSC
INSTRUMENT_NAME = "HIGH RESOLUTION STEREO CAMERA"
MISSION_NAME = "MARS EXPRESS"
MISSION_PHASE_NAME = ME_Phase_3
PROCESSING_LEVEL_ID = 3
PRODUCT_CREATION_TIME = 2016-04-18T15:52:52.000Z
PRODUCT_ID = "H3349_0000_GR3.JP2"
RELEASE_ID = 0041
REVISION_ID = 0000
/* QUALITY DATA ELEMENTS */
DATA_QUALITY_ID = 1
DATA_QUALITY_DESC = "Data calculated based on original SPICE kernels"
/* TIME DATA ELEMENTS */
SPACECRAFT_CLOCK_START_COUNT = "1/0103975735.08411"
SPACECRAFT_CLOCK_STOP_COUNT = "1/0103975986.15010"
START_TIME = 2006-08-18T10:11:59.756Z
STOP_TIME = 2006-08-18T10:12:27.585Z
/* ORBITAL DATA ELEMENTS */
ASCENDING_NODE_LONGITUDE = 157.98
MAXIMUM_RESOLUTION = 129.1
FOOTPRINT_POINT_LATITUDE = (69.4211,69.4154,69.4095,69.4035, 69.3974,69.3911,69.3799,69.3733,69.3666 ,69.3598,69.3528,69.3458,69.3386, 69.3313,69.3238,69.3163,69.3086,69.2969 ,69.2889,69.2808,69.2726,69.2642, 69.2536,69.2471,69.2384,69.2273,69.1976 ,69.1502,69.0869,69.0395,68.9762,68.897 ,68.8336,68.786,68.7225,68.6432,68.5638 ,68.4685,68.4212,68.3593,68.2973, 68.2508,68.1888,68.1113,68.0493,67.9717 ,67.8784,67.8007,67.723,67.6297,67.5518 ,67.5013,67.5095,67.5195,67.5293,67.539 ,67.5465,67.5539,67.5595,67.5667, 67.5773,67.5843,67.5928,67.5995,67.6061 ,67.6125,67.6173,67.6251,67.6312, 67.6387,67.6431,67.6474,67.6516,67.6558 ,67.66,67.6654,67.7064,67.8011,67.88, 67.9589,68.0535,68.1323,68.1953,68.2583 ,68.3055,68.3842,68.4786,68.5572, 68.6201,68.7167,68.8134,68.894,68.9746, 69.0552,69.1196,69.184,69.2323,69.3127, 69.3931,69.4211)
FOOTPRINT_POINT_LONGITUDE = (270.946,270.8,270.655,270.509,270.364, 270.219,269.966,269.821,269.676,269.531 ,269.386,269.242,269.097,268.953, 268.809,268.665,268.521,268.306,268.162 ,268.018,267.875,267.731,267.552, 267.444,267.301,267.122,267.009,267.035 ,267.069,267.094,267.128,267.17,267.203 ,267.228,267.26,267.301,267.341,267.389 ,267.413,267.444,267.474,267.497, 267.527,267.565,267.595,267.632,267.676 ,267.712,267.748,267.791,267.827, 267.984,268.119,268.289,268.459,268.629 ,268.765,268.901,269.004,269.14,269.344 ,269.481,269.651,269.788,269.925, 270.062,270.164,270.336,270.473,270.645 ,270.747,270.85,270.953,271.056,271.16, 271.297,271.485,271.463,271.445,271.427 ,271.404,271.386,271.371,271.356, 271.344,271.325,271.302,271.283,271.267 ,271.243,271.219,271.199,271.178, 271.157,271.14,271.123,271.11,271.089, 271.067,270.946)
ORBIT_NUMBER = 3349
ORBITAL_ECCENTRICITY = 0.566
ORBITAL_INCLINATION = 86.66
ORBITAL_SEMIMAJOR_AXIS = 8573.15
PERIAPSIS_ALTITUDE = 333.24
PERIAPSIS_ARGUMENT_ANGLE = 129.12
PERIAPSIS_TIME = 2006-08-18T10:16:55.000Z
SPACECRAFT_ORIENTATION = (0.0,-1.0,0.0)
^MEX_ORIENTATION_DESC = "MEX_ORIENTATION_DESC.TXT"
SPACECRAFT_POINTING_MODE = NADIR
^MEX_POINTING_DESC = "MEX_POINTING_DESC.TXT"
RIGHT_ASCENSION = -1e+32
DECLINATION = -1e+32
OFFSET_ANGLE = -1e+32
SPACECRAFT_SOLAR_DISTANCE = 2.47133e+08
TARGET_NAME = MARS
/* CAMERA DATA ELEMENTS */
DETECTOR_TEMPERATURE = 18.5744
FOCAL_PLANE_TEMPERATURE = 7.9716
INST_CMPRS_NAME = "DISCRETE COSINE TRANSFORMATION (DCT)"
INST_CMPRS_RATIO = 40.8945
INST_CMPRS_QUALITY = 0
INST_CMPRS_QUANTZ_TBL_ID = 0
INSTRUMENT_TEMPERATURE = 11.234
LENS_TEMPERATURE = 8.3794
MACROPIXEL_SIZE = 8
MISSING_FRAMES = 0
PIXEL_SUBSAMPLING_FLAG = N
SIGNAL_CHAIN_ID = 2
/* RADIOMETRIC DATA ELEMENTS */
BANDWIDTH = 88.0
CENTER_FILTER_WAVELENGTH = 538.0
RADIANCE_OFFSET = 1.61765
RADIANCE_SCALING_FACTOR = 0.00104151
REFLECTANCE_SCALING_FACTOR = 5.47666e-05
MEX:REFLECTANCE_OFFSET = 0.0850625
/* IMAGE OBJECT DEFINITIONS */
OBJECT = IMAGE
  INTERCHANGE_FORMAT = BINARY
  LINES = 1125
  LINE_SAMPLES = 944
  SAMPLE_TYPE = UNSIGNED_INTEGER
  SAMPLE_BITS = 8
  BANDS = 1
  BAND_STORAGE_TYPE = BAND_SEQUENTIAL
  MAXIMUM = 255
  MEAN = 146.409
  MINIMUM = 23
  STANDARD_DEVIATION = 26.9266
END_OBJECT = IMAGE
/* MAP OBJECT DEFINITIONS */
OBJECT = IMAGE_MAP_PROJECTION
  ^DATA_SET_MAP_PROJECTION_CATALOG= "DSMAP.CAT"
  A_AXIS_RADIUS = 3396.0
  B_AXIS_RADIUS = 3396.0
  C_AXIS_RADIUS = 3396.0
  CENTER_LATITUDE = 0.0
  CENTER_LONGITUDE = 269.0
  COORDINATE_SYSTEM_NAME = PLANETOGRAPHIC
  COORDINATE_SYSTEM_TYPE = "BODY-FIXED ROTATING"
  EASTERNMOST_LONGITUDE = 271.485
  FIRST_STANDARD_PARALLEL = "N/A"
  LINE_FIRST_PIXEL = 1
  LINE_LAST_PIXEL = 1125
  LINE_PROJECTION_OFFSET = 41134.0625
  MAP_PROJECTION_ROTATION = 0.0
  MAP_PROJECTION_TYPE = SINUSOIDAL
  MAP_RESOLUTION = 592.713803866667
  MAP_SCALE = 0.1
  MAXIMUM_LATITUDE = 69.4211
  MINIMUM_LATITUDE = 67.5013
  POSITIVE_LONGITUDE_DIRECTION = EAST
  REFERENCE_LATITUDE = "N/A"
  REFERENCE_LONGITUDE = "N/A"
  SAMPLE_FIRST_PIXEL = 1
  SAMPLE_LAST_PIXEL = 944
  SAMPLE_PROJECTION_OFFSET = 407.5625
  SECOND_STANDARD_PARALLEL = "N/A"
  WESTERNMOST_LONGITUDE = 267.009
END_OBJECT = IMAGE_MAP_PROJECTION
/* The JPEG2000 image data file associated with this label. */
OBJECT = COMPRESSED_FILE
  FILE_NAME = "H3349_0000_GR3.JP2"
  RECORD_TYPE = UNDEFINED
  FILE_RECORDS = UNK
  ENCODING_TYPE = "JP2"
  INTERCHANGE_FORMAT = BINARY
  UNCOMPRESSED_FILE_NAME = "H3349_0000_GR3.IMG"
  REQUIRED_STORAGE_BYTES = "1079936"
  ^DESCRIPTION = "JP2INFO.TXT"
END_OBJECT = COMPRESSED_FILE
END
