PDS_VERSION_ID = PDS3
/* FILE DATA ELEMENTS */
RECORD_TYPE = STREAM
/* POINTERS TO DATA OBJECTS */
^COMPRESSED_FILE = "H3354_0000_ND3.JP2"
/* IDENTIFICATION DATA ELEMENTS */
DATA_SET_ID = "MEX-M-HRSC-5-REFDR-MAPPROJECTED-V3.0"
DATA_SET_NAME = "MARS EXPRESS HRSC MAP PROJECTED REFDR V3.0"
DETECTOR_ID = MEX_HRSC_NADIR
EVENT_TYPE = "MARS-LOCAL-STEREO-Tc-Ts"
INSTRUMENT_HOST_ID = MEX
INSTRUMENT_HOST_NAME = "MARS EXPRESS"
INSTRUMENT_ID = HRSC
INSTRUMENT_NAME = "HIGH RESOLUTION STEREO CAMERA"
MISSION_NAME = "MARS EXPRESS"
MISSION_PHASE_NAME = ME_Phase_3
PROCESSING_LEVEL_ID = 3
PRODUCT_CREATION_TIME = 2016-04-18T15:52:52.000Z
PRODUCT_ID = "H3354_0000_ND3.JP2"
RELEASE_ID = 0041
REVISION_ID = 0000
/* QUALITY DATA ELEMENTS */
DATA_QUALITY_ID = 1
DATA_QUALITY_DESC = "Data calculated based on original SPICE kernels"
/* TIME DATA ELEMENTS */
SPACECRAFT_CLOCK_START_COUNT = "1/0104096841.07285"
SPACECRAFT_CLOCK_STOP_COUNT = "1/0104097055.46731"
START_TIME = 2006-08-19T19:48:09.708Z
STOP_TIME = 2006-08-19T19:49:11.372Z
/* ORBITAL DATA ELEMENTS */
ASCENDING_NODE_LONGITUDE = 157.87
MAXIMUM_RESOLUTION = 16
FOOTPRINT_POINT_LATITUDE = (71.8719,71.851,71.8292,71.8068,71.7835 ,71.7594,71.7346,71.709,71.6825,71.6553 ,71.6271,71.5981,71.5554,71.4785, 71.4015,71.3244,71.2473,71.1321,71.0567 ,70.9813,70.9059,70.8303,70.7547, 70.6791,70.6035,70.5278,70.452,70.3762, 70.3003,70.2244,70.1485,70.0725,69.9973 ,69.8489,69.7004,69.5517,69.4028, 69.2537,69.1045,68.9551,68.7689,68.6231 ,68.4771,68.3309,68.1846,68.0382, 67.8916,67.8257,67.8546,67.8769,67.8985 ,67.9195,67.9398,67.9594,67.9784, 67.9968,68.0146,68.0317,68.0483,68.1382 ,68.2876,68.4368,68.586,68.735,68.884, 69.0328,69.1846,69.2609,69.3372,69.4135 ,69.4897,69.5659,69.6421,69.7183, 69.7944,69.8705,69.9465,70.0225,70.1745 ,70.3263,70.4042,70.5209,70.5987, 70.6764,70.7541,70.8318,70.9094,70.987, 71.0646,71.1421,71.2196,71.2971,71.3745 ,71.4519,71.5702,71.6495,71.7288,71.808 ,71.8871,71.8719)
FOOTPRINT_POINT_LONGITUDE = (135.228,134.874,134.518,134.162, 133.804,133.446,133.087,132.727,132.366 ,132.004,131.641,131.276,130.739, 130.807,130.875,130.943,131.01,131.108, 131.171,131.234,131.296,131.358,131.419 ,131.48,131.54,131.6,131.659,131.718, 131.777,131.835,131.893,131.95,132.006, 132.115,132.222,132.328,132.433,132.535 ,132.636,132.736,132.858,132.951, 133.043,133.134,133.224,133.312,133.4, 133.597,133.976,134.278,134.578,134.878 ,135.176,135.473,135.769,136.064, 136.358,136.65,136.941,137.186,137.132, 137.078,137.022,136.966,136.909,136.852 ,136.792,136.761,136.731,136.7,136.669, 136.637,136.606,136.574,136.542,136.509 ,136.477,136.444,136.378,136.31,136.275 ,136.222,136.186,136.15,136.114,136.077 ,136.04,136.003,135.966,135.928,135.89, 135.851,135.813,135.773,135.713,135.672 ,135.631,135.589,135.547,135.228)
ORBIT_NUMBER = 3354
ORBITAL_ECCENTRICITY = 0.566
ORBITAL_INCLINATION = 86.66
ORBITAL_SEMIMAJOR_AXIS = 8569.41
PERIAPSIS_ALTITUDE = 334.52
PERIAPSIS_ARGUMENT_ANGLE = 128.24
PERIAPSIS_TIME = 2006-08-19T19:53:27.000Z
SPACECRAFT_ORIENTATION = (0.0,-1.0,0.0)
^MEX_ORIENTATION_DESC = "MEX_ORIENTATION_DESC.TXT"
SPACECRAFT_POINTING_MODE = ACROSSTRACK
^MEX_POINTING_DESC = "MEX_POINTING_DESC.TXT"
RIGHT_ASCENSION = -1e+32
DECLINATION = -1e+32
OFFSET_ANGLE = -0.916
SPACECRAFT_SOLAR_DISTANCE = 2.47023e+08
TARGET_NAME = MARS
/* CAMERA DATA ELEMENTS */
DETECTOR_TEMPERATURE = 17.351
FOCAL_PLANE_TEMPERATURE = 7.7677
INST_CMPRS_NAME = "DISCRETE COSINE TRANSFORMATION (DCT)"
INST_CMPRS_RATIO = 7.20078
INST_CMPRS_QUALITY = 0
INST_CMPRS_QUANTZ_TBL_ID = 0
INSTRUMENT_TEMPERATURE = 11.0301
LENS_TEMPERATURE = 7.9716
MACROPIXEL_SIZE = 1
MISSING_FRAMES = 0
PIXEL_SUBSAMPLING_FLAG = N
SIGNAL_CHAIN_ID = 0
/* RADIOMETRIC DATA ELEMENTS */
BANDWIDTH = 177.0
CENTER_FILTER_WAVELENGTH = 677.5
RADIANCE_OFFSET = 5.64339
RADIANCE_SCALING_FACTOR = 0.00676223
REFLECTANCE_SCALING_FACTOR = 0.000219205
MEX:REFLECTANCE_OFFSET = 0.182936
/* IMAGE OBJECT DEFINITIONS */
OBJECT = IMAGE
  INTERCHANGE_FORMAT = BINARY
  LINES = 19256
  LINE_SAMPLES = 10602
  SAMPLE_TYPE = UNSIGNED_INTEGER
  SAMPLE_BITS = 8
  BANDS = 1
  BAND_STORAGE_TYPE = BAND_SEQUENTIAL
  MAXIMUM = 254
  MEAN = 119.727
  MINIMUM = 1
  STANDARD_DEVIATION = 22.2253
END_OBJECT = IMAGE
/* MAP OBJECT DEFINITIONS */
OBJECT = IMAGE_MAP_PROJECTION
  ^DATA_SET_MAP_PROJECTION_CATALOG= "DSMAP.CAT"
  A_AXIS_RADIUS = 3396.0
  B_AXIS_RADIUS = 3396.0
  C_AXIS_RADIUS = 3396.0
  CENTER_LATITUDE = 0.0
  CENTER_LONGITUDE = 134.0
  COORDINATE_SYSTEM_NAME = PLANETOGRAPHIC
  COORDINATE_SYSTEM_TYPE = "BODY-FIXED ROTATING"
  EASTERNMOST_LONGITUDE = 137.186
  FIRST_STANDARD_PARALLEL = "N/A"
  LINE_FIRST_PIXEL = 1
  LINE_LAST_PIXEL = 19256
  LINE_PROJECTION_OFFSET = 340891.0
  MAP_PROJECTION_ROTATION = 0.0
  MAP_PROJECTION_TYPE = SINUSOIDAL
  MAP_RESOLUTION = 4741.71043093333
  MAP_SCALE = 0.0125
  MAXIMUM_LATITUDE = 71.8871
  MINIMUM_LATITUDE = 67.8257
  POSITIVE_LONGITUDE_DIRECTION = EAST
  REFERENCE_LATITUDE = "N/A"
  REFERENCE_LONGITUDE = "N/A"
  SAMPLE_FIRST_PIXEL = 1
  SAMPLE_LAST_PIXEL = 10602
  SAMPLE_PROJECTION_OFFSET = 4838.0
  SECOND_STANDARD_PARALLEL = "N/A"
  WESTERNMOST_LONGITUDE = 130.739
END_OBJECT = IMAGE_MAP_PROJECTION
/* The JPEG2000 image data file associated with this label. */
OBJECT = COMPRESSED_FILE
  FILE_NAME = "H3354_0000_ND3.JP2"
  RECORD_TYPE = UNDEFINED
  FILE_RECORDS = UNK
  ENCODING_TYPE = "JP2"
  INTERCHANGE_FORMAT = BINARY
  UNCOMPRESSED_FILE_NAME = "H3354_0000_ND3.IMG"
  REQUIRED_STORAGE_BYTES = "204183918"
  ^DESCRIPTION = "JP2INFO.TXT"
END_OBJECT = COMPRESSED_FILE
END
