PDS_VERSION_ID = PDS3
/* FILE DATA ELEMENTS */
RECORD_TYPE = STREAM
/* POINTERS TO DATA OBJECTS */
^COMPRESSED_FILE = "H3504_0000_GR3.JP2"
/* IDENTIFICATION DATA ELEMENTS */
DATA_SET_ID = "MEX-M-HRSC-5-REFDR-MAPPROJECTED-V3.0"
DATA_SET_NAME = "MARS EXPRESS HRSC MAP PROJECTED REFDR V3.0"
DETECTOR_ID = MEX_HRSC_GREEN
EVENT_TYPE = "MARS-LOCAL-MAPPING-Ot"
INSTRUMENT_HOST_ID = MEX
INSTRUMENT_HOST_NAME = "MARS EXPRESS"
INSTRUMENT_ID = HRSC
INSTRUMENT_NAME = "HIGH RESOLUTION STEREO CAMERA"
MISSION_NAME = "MARS EXPRESS"
MISSION_PHASE_NAME = ME_Phase_4
PROCESSING_LEVEL_ID = 3
PRODUCT_CREATION_TIME = 2016-04-18T17:36:23.000Z
PRODUCT_ID = "H3504_0000_GR3.JP2"
RELEASE_ID = 0042
REVISION_ID = 0000
/* QUALITY DATA ELEMENTS */
DATA_QUALITY_ID = 1
DATA_QUALITY_DESC = "Data calculated based on original SPICE kernels"
/* TIME DATA ELEMENTS */
SPACECRAFT_CLOCK_START_COUNT = "1/0107728230.09058"
SPACECRAFT_CLOCK_STOP_COUNT = "1/0107728553.29443"
START_TIME = 2006-09-30T20:31:10.670Z
STOP_TIME = 2006-09-30T20:34:54.001Z
/* ORBITAL DATA ELEMENTS */
ASCENDING_NODE_LONGITUDE = 154.76
MAXIMUM_RESOLUTION = 74
FOOTPRINT_POINT_LATITUDE = (72.5693,72.4247,72.265,72.0875,71.8901 ,71.6688,71.419,71.2279,70.9361,70.4138 ,69.8831,69.3449,68.9373,68.3876, 67.8327,67.2708,66.9881,66.7043,66.4196 ,66.1332,65.8421,65.4006,65.1043, 64.8055,64.3573,64.0577,63.7565,63.4535 ,63.1492,62.8424,62.3748,62.0619,61.59, 61.2747,60.9582,60.6351,60.3109,59.9855 ,59.6589,59.3305,58.9964,58.6605, 58.3239,57.9859,57.6434,57.2974,56.95, 56.6013,56.2461,55.7868,55.9396,56.0655 ,56.2895,56.5516,56.7152,56.8517, 57.1536,57.5033,57.8518,58.1938,58.7058 ,59.0468,59.3818,59.7143,60.2132, 60.5449,60.8701,61.1946,61.5185,61.8418 ,62.1644,62.4807,62.7964,63.1116, 63.4262,63.7402,64.0538,64.3634,64.6694 ,64.9748,65.2798,65.5843,65.888,66.1912 ,66.4937,66.7956,67.0968,67.3949, 67.6886,68.1281,68.42,69.0015,69.5798, 70.011,70.4402,70.8674,71.2919,71.9935, 72.4107,72.5693)
FOOTPRINT_POINT_LONGITUDE = (128.764,127.842,126.869,125.838, 124.747,123.587,122.349,121.447,120.058 ,121.03,121.937,122.784,123.385,124.139 ,124.848,125.505,125.819,126.123, 126.418,126.703,126.979,127.383,127.639 ,127.881,128.237,128.466,128.685, 128.894,129.094,129.291,129.576,129.758 ,130.016,130.182,130.34,130.493,130.643 ,130.786,130.923,131.05,131.178,131.299 ,131.415,131.525,131.63,131.732,131.827 ,131.917,132.004,132.577,133.221, 133.767,134.784,136.052,136.893,137.628 ,138.292,138.211,138.125,138.036, 137.897,137.801,137.702,137.595,137.431 ,137.315,137.198,137.075,136.948, 136.816,136.681,136.542,136.398,136.249 ,136.094,135.935,135.769,135.599, 135.423,135.242,135.054,134.861,134.66, 134.453,134.239,134.017,133.788,133.55, 133.308,132.931,132.667,132.113,131.52, 131.046,130.547,130.023,129.468,128.473 ,127.831,128.764)
ORBIT_NUMBER = 3504
ORBITAL_ECCENTRICITY = 0.564
ORBITAL_INCLINATION = 86.67
ORBITAL_SEMIMAJOR_AXIS = 8539.08
PERIAPSIS_ALTITUDE = 347.2
PERIAPSIS_ARGUMENT_ANGLE = 101.66
PERIAPSIS_TIME = 2006-09-30T20:30:08.000Z
SPACECRAFT_ORIENTATION = (0.0,-1.0,0.0)
^MEX_ORIENTATION_DESC = "MEX_ORIENTATION_DESC.TXT"
SPACECRAFT_POINTING_MODE = INERT
^MEX_POINTING_DESC = "MEX_POINTING_DESC.TXT"
RIGHT_ASCENSION = 150.445
DECLINATION = -44.153
OFFSET_ANGLE = -1e+32
SPACECRAFT_SOLAR_DISTANCE = 2.42505e+08
TARGET_NAME = MARS
/* CAMERA DATA ELEMENTS */
DETECTOR_TEMPERATURE = 18.1666
FOCAL_PLANE_TEMPERATURE = 7.3599
INST_CMPRS_NAME = "DISCRETE COSINE TRANSFORMATION (DCT)"
INST_CMPRS_RATIO = 21.6224
INST_CMPRS_QUALITY = 0
INST_CMPRS_QUANTZ_TBL_ID = 0
INSTRUMENT_TEMPERATURE = 10.8262
LENS_TEMPERATURE = 7.7677
MACROPIXEL_SIZE = 4
MISSING_FRAMES = 0
PIXEL_SUBSAMPLING_FLAG = N
SIGNAL_CHAIN_ID = 2
/* RADIOMETRIC DATA ELEMENTS */
BANDWIDTH = 88.0
CENTER_FILTER_WAVELENGTH = 538.0
RADIANCE_OFFSET = 1.66014
RADIANCE_SCALING_FACTOR = 0.00374569
REFLECTANCE_SCALING_FACTOR = 0.000189656
MEX:REFLECTANCE_OFFSET = 0.084058
/* IMAGE OBJECT DEFINITIONS */
OBJECT = IMAGE
  INTERCHANGE_FORMAT = BINARY
  LINES = 19506
  LINE_SAMPLES = 8739
  SAMPLE_TYPE = UNSIGNED_INTEGER
  SAMPLE_BITS = 8
  BANDS = 1
  BAND_STORAGE_TYPE = BAND_SEQUENTIAL
  MAXIMUM = 255
  MEAN = 132.388
  MINIMUM = 1
  STANDARD_DEVIATION = 36.8685
END_OBJECT = IMAGE
/* MAP OBJECT DEFINITIONS */
OBJECT = IMAGE_MAP_PROJECTION
  ^DATA_SET_MAP_PROJECTION_CATALOG= "DSMAP.CAT"
  A_AXIS_RADIUS = 3396.0
  B_AXIS_RADIUS = 3396.0
  C_AXIS_RADIUS = 3396.0
  CENTER_LATITUDE = 0.0
  CENTER_LONGITUDE = 132.0
  COORDINATE_SYSTEM_NAME = PLANETOGRAPHIC
  COORDINATE_SYSTEM_TYPE = "BODY-FIXED ROTATING"
  EASTERNMOST_LONGITUDE = 138.292
  FIRST_STANDARD_PARALLEL = "N/A"
  LINE_FIRST_PIXEL = 1
  LINE_LAST_PIXEL = 19506
  LINE_PROJECTION_OFFSET = 85837.875
  MAP_PROJECTION_ROTATION = 0.0
  MAP_PROJECTION_TYPE = SINUSOIDAL
  MAP_RESOLUTION = 1185.42760773333
  MAP_SCALE = 0.05
  MAXIMUM_LATITUDE = 72.5693
  MINIMUM_LATITUDE = 55.7868
  POSITIVE_LONGITUDE_DIRECTION = EAST
  REFERENCE_LATITUDE = "N/A"
  REFERENCE_LONGITUDE = "N/A"
  SAMPLE_FIRST_PIXEL = 1
  SAMPLE_LAST_PIXEL = 8739
  SAMPLE_PROJECTION_OFFSET = 4327.125
  SECOND_STANDARD_PARALLEL = "N/A"
  WESTERNMOST_LONGITUDE = 120.058
END_OBJECT = IMAGE_MAP_PROJECTION
/* The JPEG2000 image data file associated with this label. */
OBJECT = COMPRESSED_FILE
  FILE_NAME = "H3504_0000_GR3.JP2"
  RECORD_TYPE = UNDEFINED
  FILE_RECORDS = UNK
  ENCODING_TYPE = "JP2"
  INTERCHANGE_FORMAT = BINARY
  UNCOMPRESSED_FILE_NAME = "H3504_0000_GR3.IMG"
  REQUIRED_STORAGE_BYTES = "170497890"
  ^DESCRIPTION = "JP2INFO.TXT"
END_OBJECT = COMPRESSED_FILE
END
