PDS_VERSION_ID = PDS3
/* FILE DATA ELEMENTS */
RECORD_TYPE = STREAM
/* POINTERS TO DATA OBJECTS */
^COMPRESSED_FILE = "H3504_0001_SR3.JP2"
/* IDENTIFICATION DATA ELEMENTS */
DATA_SET_ID = "MEX-M-HRSC-5-REFDR-MAPPROJECTED-V3.0"
DATA_SET_NAME = "MARS EXPRESS HRSC MAP PROJECTED REFDR V3.0"
DETECTOR_ID = MEX_HRSC_SRC
EVENT_TYPE = "MARS-LOCAL-MAPPING-Ot"
INSTRUMENT_HOST_ID = MEX
INSTRUMENT_HOST_NAME = "MARS EXPRESS"
INSTRUMENT_ID = HRSC
INSTRUMENT_NAME = "HIGH RESOLUTION STEREO CAMERA"
MISSION_NAME = "MARS EXPRESS"
MISSION_PHASE_NAME = ME_Phase_4
PROCESSING_LEVEL_ID = 3
PRODUCT_CREATION_TIME = 2016-04-18T17:36:23.000Z
PRODUCT_ID = "H3504_0001_SR3.JP2"
RELEASE_ID = 0042
REVISION_ID = 0000
/* QUALITY DATA ELEMENTS */
DATA_QUALITY_ID = 1
DATA_QUALITY_DESC = "Data calculated based on original SPICE kernels"
/* TIME DATA ELEMENTS */
SPACECRAFT_CLOCK_START_COUNT = "1/0107728230.09058"
SPACECRAFT_CLOCK_STOP_COUNT = "1/0107728553.29443"
IMAGE_TIME = 2006-09-30T20:32:15.449Z
START_TIME = 2006-09-30T20:32:15.191Z
STOP_TIME = 2006-09-30T20:32:15.707Z
/* ORBITAL DATA ELEMENTS */
ASCENDING_NODE_LONGITUDE = 154.76
MAXIMUM_RESOLUTION = 4.826
FOOTPRINT_POINT_LATITUDE = (68.0021,68.0054,68.008,68.0118,68.0165 ,68.0208,68.0257,68.0285,68.0322, 68.0365,68.0419,68.0473,68.0498,68.0522 ,68.056,68.0587,68.0627,68.0671,68.0707 ,68.0733,68.0744,68.0754,68.0765, 68.0776,68.0786,68.0797,68.0818,68.0839 ,68.086,68.0881,68.0902,68.0923,68.0944 ,68.0965,68.098,68.1001,68.1021,68.1042 ,68.1063,68.1084,68.1104,68.1125, 68.1145,68.1166,68.1187,68.1207,68.1228 ,68.1248,68.1243,68.1197,68.1162, 68.1137,68.1109,68.1085,68.1034,68.0996 ,68.0967,68.0935,68.0909,68.0874, 68.0851,68.0817,68.077,68.0742,68.0694, 68.067,68.0655,68.0614,68.0586,68.055, 68.0518,68.0497,68.0476,68.0456,68.0435 ,68.0414,68.0393,68.0372,68.0351, 68.0331,68.031,68.0289,68.0268,68.0247, 68.0226,68.0204,68.0183,68.0162,68.0141 ,68.012,68.0098,68.0077,68.0051,68.0041 ,68.003,68.0019,68.0009,67.9998,67.9987 ,68.0021)
FOOTPRINT_POINT_LONGITUDE = (129.189,129.185,129.182,129.177, 129.171,129.166,129.16,129.156,129.151, 129.146,129.139,129.133,129.129,129.126 ,129.122,129.118,129.113,129.103, 129.098,129.095,129.102,129.108,129.114 ,129.121,129.127,129.133,129.146, 129.159,129.171,129.184,129.197,129.21, 129.222,129.235,129.244,129.257,129.269 ,129.282,129.294,129.307,129.32,129.332 ,129.345,129.357,129.37,129.382,129.395 ,129.407,129.418,129.424,129.428, 129.431,129.434,129.437,129.444,129.448 ,129.452,129.456,129.459,129.463, 129.466,129.47,129.476,129.48,129.486, 129.488,129.495,129.5,129.504,129.508, 129.512,129.499,129.487,129.474,129.462 ,129.449,129.437,129.424,129.412, 129.399,129.387,129.374,129.362,129.349 ,129.337,129.324,129.312,129.299, 129.286,129.274,129.261,129.249,129.233 ,129.227,129.221,129.214,129.208, 129.202,129.195,129.189)
ORBIT_NUMBER = 3504
ORBITAL_ECCENTRICITY = 0.564
ORBITAL_INCLINATION = 86.67
ORBITAL_SEMIMAJOR_AXIS = 8539.08
PERIAPSIS_ALTITUDE = 347.2
PERIAPSIS_ARGUMENT_ANGLE = 101.66
PERIAPSIS_TIME = 2006-09-30T20:30:08.000Z
SPACECRAFT_ORIENTATION = (0.0,-1.0,0.0)
^MEX_ORIENTATION_DESC = "MEX_ORIENTATION_DESC.TXT"
SPACECRAFT_POINTING_MODE = INERT
^MEX_POINTING_DESC = "MEX_POINTING_DESC.TXT"
RIGHT_ASCENSION = 150.445
DECLINATION = -44.153
OFFSET_ANGLE = -1e+32
SPACECRAFT_SOLAR_DISTANCE = 2.42505e+08
TARGET_NAME = MARS
/* CAMERA DATA ELEMENTS */
BUFFER_MODE_ID = BUFFER_8
EXPOSURE_DURATION = 516.096
INST_CMPRS_NAME = NONE
INST_CMPRS_RATIO = 1.0
INST_CMPRS_QUALITY = -2147483648
INST_CMPRS_QUANTZ_TBL_ID = -2147483648
INSTRUMENT_TEMPERATURE = 5.46697
MISSING_FRAMES = 0
START_BIT = 0
/* RADIOMETRIC DATA ELEMENTS */
BANDWIDTH = 250.0
CENTER_FILTER_WAVELENGTH = 600.0
RADIANCE_OFFSET = -9.99e+31
RADIANCE_SCALING_FACTOR = -9.99e+31
REFLECTANCE_SCALING_FACTOR = -9.99e+31
MEX:REFLECTANCE_OFFSET = -9.99e+31
/* IMAGE OBJECT DEFINITIONS */
OBJECT = IMAGE
  INTERCHANGE_FORMAT = BINARY
  LINES = 1657
  LINE_SAMPLES = 1978
  SAMPLE_TYPE = UNSIGNED_INTEGER
  SAMPLE_BITS = 8
  BANDS = 1
  BAND_STORAGE_TYPE = BAND_SEQUENTIAL
  MAXIMUM = 255
  MEAN = 255.0
  MINIMUM = 106
  STANDARD_DEVIATION = 0.133697
END_OBJECT = IMAGE
/* MAP OBJECT DEFINITIONS */
OBJECT = IMAGE_MAP_PROJECTION
  ^DATA_SET_MAP_PROJECTION_CATALOG= "DSMAP.CAT"
  A_AXIS_RADIUS = 3396.19
  B_AXIS_RADIUS = 3396.19
  C_AXIS_RADIUS = 3396.19
  CENTER_LATITUDE = 0.0
  CENTER_LONGITUDE = 129.0
  COORDINATE_SYSTEM_NAME = PLANETOGRAPHIC
  COORDINATE_SYSTEM_TYPE = "BODY-FIXED ROTATING"
  EASTERNMOST_LONGITUDE = 129.512
  FIRST_STANDARD_PARALLEL = "N/A"
  LINE_FIRST_PIXEL = 1
  LINE_LAST_PIXEL = 1657
  LINE_PROJECTION_OFFSET = 804352.0
  MAP_PROJECTION_ROTATION = 0.0
  MAP_PROJECTION_TYPE = SINUSOIDAL
  MAP_RESOLUTION = 11854.9393024378
  MAP_SCALE = 0.005
  MAXIMUM_LATITUDE = 68.12479999999999
  MINIMUM_LATITUDE = 67.9987
  POSITIVE_LONGITUDE_DIRECTION = EAST
  REFERENCE_LATITUDE = "N/A"
  REFERENCE_LONGITUDE = "N/A"
  SAMPLE_FIRST_PIXEL = 1
  SAMPLE_LAST_PIXEL = 1978
  SAMPLE_PROJECTION_OFFSET = 3433.0
  SECOND_STANDARD_PARALLEL = "N/A"
  WESTERNMOST_LONGITUDE = 129.095
END_OBJECT = IMAGE_MAP_PROJECTION
/* The JPEG2000 image data file associated with this label. */
OBJECT = COMPRESSED_FILE
  FILE_NAME = "H3504_0001_SR3.JP2"
  RECORD_TYPE = UNDEFINED
  FILE_RECORDS = UNK
  ENCODING_TYPE = "JP2"
  INTERCHANGE_FORMAT = BINARY
  UNCOMPRESSED_FILE_NAME = "H3504_0001_SR3.IMG"
  REQUIRED_STORAGE_BYTES = "3297326"
  ^DESCRIPTION = "JP2INFO.TXT"
END_OBJECT = COMPRESSED_FILE
END
