PDS_VERSION_ID = PDS3
/* FILE DATA ELEMENTS */
RECORD_TYPE = STREAM
/* POINTERS TO DATA OBJECTS */
^COMPRESSED_FILE = "H3514_0000_P13.JP2"
/* IDENTIFICATION DATA ELEMENTS */
DATA_SET_ID = "MEX-M-HRSC-5-REFDR-MAPPROJECTED-V3.0"
DATA_SET_NAME = "MARS EXPRESS HRSC MAP PROJECTED REFDR V3.0"
DETECTOR_ID = MEX_HRSC_P1
EVENT_TYPE = "MARS-LOCAL-MAPPING-Eo-Ot"
INSTRUMENT_HOST_ID = MEX
INSTRUMENT_HOST_NAME = "MARS EXPRESS"
INSTRUMENT_ID = HRSC
INSTRUMENT_NAME = "HIGH RESOLUTION STEREO CAMERA"
MISSION_NAME = "MARS EXPRESS"
MISSION_PHASE_NAME = ME_Phase_4
PROCESSING_LEVEL_ID = 3
PRODUCT_CREATION_TIME = 2016-04-18T17:36:23.000Z
PRODUCT_ID = "H3514_0000_P13.JP2"
RELEASE_ID = 0042
REVISION_ID = 0000
/* QUALITY DATA ELEMENTS */
DATA_QUALITY_ID = 1
DATA_QUALITY_DESC = "Data calculated based on original SPICE kernels"
/* TIME DATA ELEMENTS */
SPACECRAFT_CLOCK_START_COUNT = "1/0107970102.09050"
SPACECRAFT_CLOCK_STOP_COUNT = "1/0107970389.33749"
START_TIME = 2006-10-03T15:43:29.885Z
STOP_TIME = 2006-10-03T15:46:20.773Z
/* ORBITAL DATA ELEMENTS */
ASCENDING_NODE_LONGITUDE = 154.55
MAXIMUM_RESOLUTION = 29.3
FOOTPRINT_POINT_LATITUDE = (82.793,82.9043,82.9977,83.0529,82.7186 ,82.5089,82.2991,82.089,81.8785,81.6682 ,81.4579,81.1497,80.9434,80.738,80.5329 ,80.3275,80.122,79.9164,79.7106,79.5048 ,79.2989,79.0936,78.8874,78.5795, 78.3738,78.1687,77.9601,77.551,77.3459, 77.1404,76.935,76.7297,76.4217,76.2168, 76.0119,75.8068,75.4996,75.1921,74.9874 ,74.6807,74.4762,74.1698,73.7614, 73.3539,73.1457,72.9371,72.7284,72.5835 ,72.5326,72.4777,72.5378,72.7458, 72.9539,73.1614,73.3642,73.5673,73.8719 ,74.0751,74.2787,74.4822,74.6861, 74.8896,75.0933,75.2965,75.5001,75.7035 ,75.9075,76.1107,76.3143,76.5178, 76.7217,77.0269,77.23,77.4334,77.6361, 77.9414,78.1451,78.3483,78.5512,78.7541 ,78.9566,79.1599,79.3619,79.5647, 79.7662,79.9679,80.1693,80.3703,80.5709 ,80.7711,80.9708,81.1702,81.3735, 81.5768,81.7797,81.982,82.1838,82.3844, 82.5844,82.793)
FOOTPRINT_POINT_LONGITUDE = (225.705,228.596,231.627,233.891, 235.294,235.622,235.931,236.226,236.507 ,236.772,237.025,237.375,237.6,237.809, 238.009,238.201,238.386,238.564,238.736 ,238.902,239.062,239.214,239.363, 239.574,239.71,239.839,239.975,240.211, 240.326,240.438,240.547,240.653,240.807 ,240.904,241.0,241.093,241.229,241.36, 241.444,241.566,241.645,241.761,241.909 ,242.05,242.12,242.188,242.255,241.529, 240.201,238.994,238.08,237.967,237.852, 237.734,237.615,237.493,237.304,237.173 ,237.04,236.903,236.762,236.617,236.467 ,236.313,236.155,235.992,235.824, 235.651,235.473,235.289,235.099,234.803 ,234.598,234.385,234.165,233.822, 233.582,233.334,233.077,232.811,232.534 ,232.246,231.948,231.637,231.315, 230.978,230.628,230.263,229.882,229.484 ,229.069,228.634,228.168,227.679, 227.164,226.623,226.053,225.453,224.821 ,225.705)
ORBIT_NUMBER = 3514
ORBITAL_ECCENTRICITY = 0.564
ORBITAL_INCLINATION = 86.68
ORBITAL_SEMIMAJOR_AXIS = 8536.02
PERIAPSIS_ALTITUDE = 346.23
PERIAPSIS_ARGUMENT_ANGLE = 99.87
PERIAPSIS_TIME = 2006-10-03T15:44:53.000Z
SPACECRAFT_ORIENTATION = (0.0,1.0,0.0)
^MEX_ORIENTATION_DESC = "MEX_ORIENTATION_DESC.TXT"
SPACECRAFT_POINTING_MODE = ALONGTRACK
^MEX_POINTING_DESC = "MEX_POINTING_DESC.TXT"
RIGHT_ASCENSION = -1e+32
DECLINATION = -1e+32
OFFSET_ANGLE = 3.893
SPACECRAFT_SOLAR_DISTANCE = 2.42127e+08
TARGET_NAME = MARS
/* CAMERA DATA ELEMENTS */
DETECTOR_TEMPERATURE = 17.1471
FOCAL_PLANE_TEMPERATURE = 7.3599
INST_CMPRS_NAME = "DISCRETE COSINE TRANSFORMATION (DCT)"
INST_CMPRS_RATIO = 14.3705
INST_CMPRS_QUALITY = 0
INST_CMPRS_QUANTZ_TBL_ID = 0
INSTRUMENT_TEMPERATURE = 10.8262
LENS_TEMPERATURE = 7.9716
MACROPIXEL_SIZE = 2
MISSING_FRAMES = 0
PIXEL_SUBSAMPLING_FLAG = N
SIGNAL_CHAIN_ID = 3
/* RADIOMETRIC DATA ELEMENTS */
BANDWIDTH = 174.0
CENTER_FILTER_WAVELENGTH = 675.0
RADIANCE_OFFSET = 2.08038
RADIANCE_SCALING_FACTOR = 0.0400823
REFLECTANCE_SCALING_FACTOR = 0.00126393
MEX:REFLECTANCE_OFFSET = 0.0656015
/* IMAGE OBJECT DEFINITIONS */
OBJECT = IMAGE
  INTERCHANGE_FORMAT = BINARY
  LINES = 24553
  LINE_SAMPLES = 7898
  SAMPLE_TYPE = UNSIGNED_INTEGER
  SAMPLE_BITS = 8
  BANDS = 1
  BAND_STORAGE_TYPE = BAND_SEQUENTIAL
  MAXIMUM = 255
  MEAN = 87.4332
  MINIMUM = 1
  STANDARD_DEVIATION = 54.0407
END_OBJECT = IMAGE
/* MAP OBJECT DEFINITIONS */
OBJECT = IMAGE_MAP_PROJECTION
  ^DATA_SET_MAP_PROJECTION_CATALOG= "DSMAP.CAT"
  A_AXIS_RADIUS = 3396.0
  B_AXIS_RADIUS = 3396.0
  C_AXIS_RADIUS = 3396.0
  CENTER_LATITUDE = 0.0
  CENTER_LONGITUDE = 237.0
  COORDINATE_SYSTEM_NAME = PLANETOGRAPHIC
  COORDINATE_SYSTEM_TYPE = "BODY-FIXED ROTATING"
  EASTERNMOST_LONGITUDE = 242.255
  FIRST_STANDARD_PARALLEL = "N/A"
  LINE_FIRST_PIXEL = 1
  LINE_LAST_PIXEL = 24553
  LINE_PROJECTION_OFFSET = 197039.75
  MAP_PROJECTION_ROTATION = 0.0
  MAP_PROJECTION_TYPE = SINUSOIDAL
  MAP_RESOLUTION = 2370.85521546667
  MAP_SCALE = 0.025
  MAXIMUM_LATITUDE = 83.05289999999999
  MINIMUM_LATITUDE = 72.4777
  POSITIVE_LONGITUDE_DIRECTION = EAST
  REFERENCE_LATITUDE = "N/A"
  REFERENCE_LONGITUDE = "N/A"
  SAMPLE_FIRST_PIXEL = 1
  SAMPLE_LAST_PIXEL = 7898
  SAMPLE_PROJECTION_OFFSET = 4158.25
  SECOND_STANDARD_PARALLEL = "N/A"
  WESTERNMOST_LONGITUDE = 224.821
END_OBJECT = IMAGE_MAP_PROJECTION
/* The JPEG2000 image data file associated with this label. */
OBJECT = COMPRESSED_FILE
  FILE_NAME = "H3514_0000_P13.JP2"
  RECORD_TYPE = UNDEFINED
  FILE_RECORDS = UNK
  ENCODING_TYPE = "JP2"
  INTERCHANGE_FORMAT = BINARY
  UNCOMPRESSED_FILE_NAME = "H3514_0000_P13.IMG"
  REQUIRED_STORAGE_BYTES = "193951186"
  ^DESCRIPTION = "JP2INFO.TXT"
END_OBJECT = COMPRESSED_FILE
END
