PDS_VERSION_ID = PDS3
/* FILE DATA ELEMENTS */
RECORD_TYPE = STREAM
/* POINTERS TO DATA OBJECTS */
^COMPRESSED_FILE = "H3514_0000_S23.JP2"
/* IDENTIFICATION DATA ELEMENTS */
DATA_SET_ID = "MEX-M-HRSC-5-REFDR-MAPPROJECTED-V3.0"
DATA_SET_NAME = "MARS EXPRESS HRSC MAP PROJECTED REFDR V3.0"
DETECTOR_ID = MEX_HRSC_S2
EVENT_TYPE = "MARS-LOCAL-MAPPING-Eo-Ot"
INSTRUMENT_HOST_ID = MEX
INSTRUMENT_HOST_NAME = "MARS EXPRESS"
INSTRUMENT_ID = HRSC
INSTRUMENT_NAME = "HIGH RESOLUTION STEREO CAMERA"
MISSION_NAME = "MARS EXPRESS"
MISSION_PHASE_NAME = ME_Phase_4
PROCESSING_LEVEL_ID = 3
PRODUCT_CREATION_TIME = 2016-04-18T17:36:23.000Z
PRODUCT_ID = "H3514_0000_S23.JP2"
RELEASE_ID = 0042
REVISION_ID = 0000
/* QUALITY DATA ELEMENTS */
DATA_QUALITY_ID = 1
DATA_QUALITY_DESC = "Data calculated based on original SPICE kernels"
/* TIME DATA ELEMENTS */
SPACECRAFT_CLOCK_START_COUNT = "1/0107970102.09050"
SPACECRAFT_CLOCK_STOP_COUNT = "1/0107970389.33749"
START_TIME = 2006-10-03T15:41:46.929Z
STOP_TIME = 2006-10-03T15:44:38.041Z
/* ORBITAL DATA ELEMENTS */
ASCENDING_NODE_LONGITUDE = 154.55
MAXIMUM_RESOLUTION = 46.5
FOOTPRINT_POINT_LATITUDE = (82.9084,82.9493,82.9719,82.9742,82.967 ,82.9538,82.9345,82.9088,82.8763, 82.8366,82.7959,82.0926,81.7253,81.5394 ,81.3593,81.1787,80.9975,80.8167, 80.6344,80.4535,80.2762,80.0971,79.9173 ,79.7369,79.5562,79.285,79.0167,78.7535 ,78.4015,78.2239,77.8706,77.6931, 77.3398,77.0745,76.8965,76.7196,76.5418 ,76.3651,76.0115,75.8318,75.6539, 75.4744,75.128,74.7796,74.5172,74.0804, 73.7326,73.3801,73.1617,73.1698,73.1691 ,73.1564,73.1472,73.1353,73.1069, 73.0734,73.2583,73.5327,73.716,73.9018, 74.0829,74.2644,74.4489,74.7214,74.9039 ,75.1774,75.3605,75.6386,75.8254, 76.0126,76.1992,76.4785,76.6637,76.8467 ,77.0383,77.2318,77.5041,77.7764, 77.9609,78.152,78.3338,78.518,78.7951, 79.0707,79.2543,79.4429,79.6326,79.8213 ,80.0089,80.2892,80.475,80.6602,80.9369 ,81.1205,81.3948,81.5767,81.851,82.0355 ,82.311,82.9084)
FOOTPRINT_POINT_LONGITUDE = (219.684,222.381,225.191,228.104, 229.595,231.107,232.639,234.189,235.757 ,237.338,238.732,241.033,241.2,241.285, 241.358,241.433,241.506,241.576,241.647 ,241.713,241.769,241.827,241.884, 241.941,241.998,242.079,242.158,242.229 ,242.322,242.369,242.457,242.501, 242.584,242.644,242.685,242.723,242.762 ,242.798,242.87,242.908,242.943,242.98, 243.046,243.111,243.16,243.239,243.298, 243.359,243.398,242.465,241.276,240.101 ,239.452,238.741,237.719,236.683, 236.556,236.36,236.226,236.088,235.949, 235.806,235.658,235.432,235.276,235.034 ,234.868,234.606,234.425,234.237, 234.046,233.748,233.543,233.335,233.112 ,232.88,232.537,232.178,231.926,231.658 ,231.392,231.115,230.679,230.223, 229.905,229.567,229.213,228.847,228.468 ,227.873,227.458,227.026,226.346, 225.869,225.115,224.585,223.737,223.13, 222.162,219.684)
ORBIT_NUMBER = 3514
ORBITAL_ECCENTRICITY = 0.564
ORBITAL_INCLINATION = 86.68
ORBITAL_SEMIMAJOR_AXIS = 8536.02
PERIAPSIS_ALTITUDE = 346.23
PERIAPSIS_ARGUMENT_ANGLE = 99.87
PERIAPSIS_TIME = 2006-10-03T15:44:53.000Z
SPACECRAFT_ORIENTATION = (0.0,1.0,0.0)
^MEX_ORIENTATION_DESC = "MEX_ORIENTATION_DESC.TXT"
SPACECRAFT_POINTING_MODE = ALONGTRACK
^MEX_POINTING_DESC = "MEX_POINTING_DESC.TXT"
RIGHT_ASCENSION = -1e+32
DECLINATION = -1e+32
OFFSET_ANGLE = 3.893
SPACECRAFT_SOLAR_DISTANCE = 2.42127e+08
TARGET_NAME = MARS
/* CAMERA DATA ELEMENTS */
DETECTOR_TEMPERATURE = 18.1666
FOCAL_PLANE_TEMPERATURE = 7.3599
INST_CMPRS_NAME = "DISCRETE COSINE TRANSFORMATION (DCT)"
INST_CMPRS_RATIO = 12.474
INST_CMPRS_QUALITY = 0
INST_CMPRS_QUANTZ_TBL_ID = 0
INSTRUMENT_TEMPERATURE = 10.8262
LENS_TEMPERATURE = 7.9716
MACROPIXEL_SIZE = 2
MISSING_FRAMES = 0
PIXEL_SUBSAMPLING_FLAG = N
SIGNAL_CHAIN_ID = 1
/* RADIOMETRIC DATA ELEMENTS */
BANDWIDTH = 178.0
CENTER_FILTER_WAVELENGTH = 679.0
RADIANCE_OFFSET = 5.60805
RADIANCE_SCALING_FACTOR = 0.0383457
REFLECTANCE_SCALING_FACTOR = 0.00119051
MEX:REFLECTANCE_OFFSET = 0.174112
/* IMAGE OBJECT DEFINITIONS */
OBJECT = IMAGE
  INTERCHANGE_FORMAT = BINARY
  LINES = 24553
  LINE_SAMPLES = 7898
  SAMPLE_TYPE = UNSIGNED_INTEGER
  SAMPLE_BITS = 8
  BANDS = 1
  BAND_STORAGE_TYPE = BAND_SEQUENTIAL
  MAXIMUM = 255
  MEAN = 80.4935
  MINIMUM = 1
  STANDARD_DEVIATION = 60.4558
END_OBJECT = IMAGE
/* MAP OBJECT DEFINITIONS */
OBJECT = IMAGE_MAP_PROJECTION
  ^DATA_SET_MAP_PROJECTION_CATALOG= "DSMAP.CAT"
  A_AXIS_RADIUS = 3396.0
  B_AXIS_RADIUS = 3396.0
  C_AXIS_RADIUS = 3396.0
  CENTER_LATITUDE = 0.0
  CENTER_LONGITUDE = 237.0
  COORDINATE_SYSTEM_NAME = PLANETOGRAPHIC
  COORDINATE_SYSTEM_TYPE = "BODY-FIXED ROTATING"
  EASTERNMOST_LONGITUDE = 243.398
  FIRST_STANDARD_PARALLEL = "N/A"
  LINE_FIRST_PIXEL = 1
  LINE_LAST_PIXEL = 24553
  LINE_PROJECTION_OFFSET = 197039.75
  MAP_PROJECTION_ROTATION = 0.0
  MAP_PROJECTION_TYPE = SINUSOIDAL
  MAP_RESOLUTION = 2370.85521546667
  MAP_SCALE = 0.025
  MAXIMUM_LATITUDE = 82.9742
  MINIMUM_LATITUDE = 73.07340000000001
  POSITIVE_LONGITUDE_DIRECTION = EAST
  REFERENCE_LATITUDE = "N/A"
  REFERENCE_LONGITUDE = "N/A"
  SAMPLE_FIRST_PIXEL = 1
  SAMPLE_LAST_PIXEL = 7898
  SAMPLE_PROJECTION_OFFSET = 4158.25
  SECOND_STANDARD_PARALLEL = "N/A"
  WESTERNMOST_LONGITUDE = 219.684
END_OBJECT = IMAGE_MAP_PROJECTION
/* The JPEG2000 image data file associated with this label. */
OBJECT = COMPRESSED_FILE
  FILE_NAME = "H3514_0000_S23.JP2"
  RECORD_TYPE = UNDEFINED
  FILE_RECORDS = UNK
  ENCODING_TYPE = "JP2"
  INTERCHANGE_FORMAT = BINARY
  UNCOMPRESSED_FILE_NAME = "H3514_0000_S23.IMG"
  REQUIRED_STORAGE_BYTES = "193951186"
  ^DESCRIPTION = "JP2INFO.TXT"
END_OBJECT = COMPRESSED_FILE
END
